BEGIN:VCALENDAR
VERSION:2.0
PRODID:-//First Presbyterian Church of Whitefish - ECPv6.15.20//NONSGML v1.0//EN
CALSCALE:GREGORIAN
METHOD:PUBLISH
X-ORIGINAL-URL:https://fpcwhitefish.org
X-WR-CALDESC:Events for First Presbyterian Church of Whitefish
REFRESH-INTERVAL;VALUE=DURATION:PT1H
X-Robots-Tag:noindex
X-PUBLISHED-TTL:PT1H
BEGIN:VTIMEZONE
TZID:America/Phoenix
BEGIN:STANDARD
TZOFFSETFROM:-0700
TZOFFSETTO:-0700
TZNAME:MST
DTSTART:20250101T000000
END:STANDARD
END:VTIMEZONE
BEGIN:VEVENT
DTSTART;TZID=America/Phoenix:20260317T080000
DTEND;TZID=America/Phoenix:20260317T090000
DTSTAMP:20260421T010059
CREATED:20240411T155941Z
LAST-MODIFIED:20260312T205714Z
UID:10006247-1773734400-1773738000@fpcwhitefish.org
SUMMARY:Men's Bible Study & Breakfast
DESCRIPTION:Join us every Tuesday morning for a delicious breakfast and fellowship.
URL:https://fpcwhitefish.org/event/mens-bible-study-breakfast-19/2026-03-17/
LOCATION:Fellowsip Hall – First Presbyterian Church\, 301 Central Ave\, Whitefish\, MT\, 59937\, United States
CATEGORIES:Mens Group
ATTACH;FMTTYPE=image/jpeg:https://fpcwhitefish.org/wp-content/uploads/2024/04/Mens-Breakfast.jpg
END:VEVENT
BEGIN:VEVENT
DTSTART;TZID=America/Phoenix:20260317T130000
DTEND;TZID=America/Phoenix:20260317T140000
DTSTAMP:20260421T010059
CREATED:20260312T194919Z
LAST-MODIFIED:20260312T194919Z
UID:10006194-1773752400-1773756000@fpcwhitefish.org
SUMMARY:Presbyterian Women
DESCRIPTION:
URL:https://fpcwhitefish.org/event/presbyterian-women-2/
LOCATION:Fellowsip Hall – First Presbyterian Church\, 301 Central Ave\, Whitefish\, MT\, 59937\, United States
ATTACH;FMTTYPE=image/png:https://fpcwhitefish.org/wp-content/uploads/2026/03/PW-6.png
ORGANIZER;CN="Susan Tate":MAILTO:info@fpcwhitefish.org
END:VEVENT
BEGIN:VEVENT
DTSTART;TZID=America/Phoenix:20260317T130000
DTEND;TZID=America/Phoenix:20260317T143000
DTSTAMP:20260421T010059
CREATED:20250314T162050Z
LAST-MODIFIED:20251204T185149Z
UID:10005561-1773752400-1773757800@fpcwhitefish.org
SUMMARY:Presbyterian Women
DESCRIPTION:Presbyterian Women gather every 3rd Tuesday of the month at 1:00 p.m. in Fellowship Hall. Please enter through the glass doors on 3rd Ave and head up the stairs to Fellowship Hall. All women are welcome to attend!
URL:https://fpcwhitefish.org/event/presbyterian-women/2026-03-17/
LOCATION:Fellowsip Hall – First Presbyterian Church\, 301 Central Ave\, Whitefish\, MT\, 59937\, United States
CATEGORIES:Womans Group
ATTACH;FMTTYPE=image/jpeg:https://fpcwhitefish.org/wp-content/uploads/2023/07/PW.jpg
ORGANIZER;CN="Susan Tate":MAILTO:info@fpcwhitefish.org
END:VEVENT
END:VCALENDAR