BEGIN:VCALENDAR
VERSION:2.0
PRODID:-//First Presbyterian Church of Whitefish - ECPv6.15.20//NONSGML v1.0//EN
CALSCALE:GREGORIAN
METHOD:PUBLISH
X-WR-CALNAME:First Presbyterian Church of Whitefish
X-ORIGINAL-URL:https://fpcwhitefish.org
X-WR-CALDESC:Events for First Presbyterian Church of Whitefish
REFRESH-INTERVAL;VALUE=DURATION:PT1H
X-Robots-Tag:noindex
X-PUBLISHED-TTL:PT1H
BEGIN:VTIMEZONE
TZID:America/Phoenix
BEGIN:STANDARD
TZOFFSETFROM:-0700
TZOFFSETTO:-0700
TZNAME:MST
DTSTART:20250101T000000
END:STANDARD
END:VTIMEZONE
BEGIN:VEVENT
DTSTART;TZID=America/Phoenix:20260118T090000
DTEND;TZID=America/Phoenix:20260118T100000
DTSTAMP:20260423T142707
CREATED:20250919T180306Z
LAST-MODIFIED:20250924T154135Z
UID:10005583-1768726800-1768730400@fpcwhitefish.org
SUMMARY:Youth Bible Study
DESCRIPTION:Youth bible study for grades 6-12 will take place Sunday morning at 9am.  Grab a hot cocoa in the main office and join us! Light breakfast snacks will be served or feel free to bring your own.
URL:https://fpcwhitefish.org/event/youth-bible-study/2026-01-18/
LOCATION:First Presbyterian Church\, 301 Central Ave\, Whitefish\, MT\, 59937-8457\, United States
CATEGORIES:Youth Group
ATTACH;FMTTYPE=image/jpeg:https://fpcwhitefish.org/wp-content/uploads/2025/06/FPC-kids-board-to-hold-1.jpg
END:VEVENT
BEGIN:VEVENT
DTSTART;TZID=America/Phoenix:20260119T173000
DTEND;TZID=America/Phoenix:20260119T183000
DTSTAMP:20260423T142707
CREATED:20250827T170940Z
LAST-MODIFIED:20250827T171321Z
UID:10004765-1768843800-1768847400@fpcwhitefish.org
SUMMARY:Handbell Practice
DESCRIPTION:Handbell practice will be held in Fellowship Hall at 5:30 pm. Please enter the glass doors on 3rd Ave.
URL:https://fpcwhitefish.org/event/handbell-practice/2026-01-19/
LOCATION:First Presbyterian Church\, 301 Central Ave\, Whitefish\, MT\, 59937-8457\, United States
CATEGORIES:Adults
ATTACH;FMTTYPE=image/jpeg:https://fpcwhitefish.org/wp-content/uploads/2023/12/IMG_6562-scaled.jpg
ORGANIZER;CN="Alma Ramlow":MAILTO:info@fpcwhitefish.org
END:VEVENT
BEGIN:VEVENT
DTSTART;TZID=America/Phoenix:20260120T080000
DTEND;TZID=America/Phoenix:20260120T090000
DTSTAMP:20260423T142707
CREATED:20240411T155941Z
LAST-MODIFIED:20260312T205714Z
UID:10006239-1768896000-1768899600@fpcwhitefish.org
SUMMARY:Men's Bible Study & Breakfast
DESCRIPTION:Join us every Tuesday morning for a delicious breakfast and fellowship.
URL:https://fpcwhitefish.org/event/mens-bible-study-breakfast-19/2026-01-20/
LOCATION:Fellowsip Hall – First Presbyterian Church\, 301 Central Ave\, Whitefish\, MT\, 59937\, United States
CATEGORIES:Mens Group
ATTACH;FMTTYPE=image/jpeg:https://fpcwhitefish.org/wp-content/uploads/2024/04/Mens-Breakfast.jpg
END:VEVENT
BEGIN:VEVENT
DTSTART;TZID=America/Phoenix:20260120T130000
DTEND;TZID=America/Phoenix:20260120T143000
DTSTAMP:20260423T142707
CREATED:20250314T162050Z
LAST-MODIFIED:20251204T185149Z
UID:10005559-1768914000-1768919400@fpcwhitefish.org
SUMMARY:Presbyterian Women
DESCRIPTION:Presbyterian Women gather every 3rd Tuesday of the month at 1:00 p.m. in Fellowship Hall. Please enter through the glass doors on 3rd Ave and head up the stairs to Fellowship Hall. All women are welcome to attend!
URL:https://fpcwhitefish.org/event/presbyterian-women/2026-01-20/
LOCATION:Fellowsip Hall – First Presbyterian Church\, 301 Central Ave\, Whitefish\, MT\, 59937\, United States
CATEGORIES:Womans Group
ATTACH;FMTTYPE=image/jpeg:https://fpcwhitefish.org/wp-content/uploads/2023/07/PW.jpg
ORGANIZER;CN="Susan Tate":MAILTO:info@fpcwhitefish.org
END:VEVENT
BEGIN:VEVENT
DTSTART;TZID=America/Phoenix:20260121T150000
DTEND;TZID=America/Phoenix:20260121T163000
DTSTAMP:20260423T142707
CREATED:20250924T155428Z
LAST-MODIFIED:20260115T171522Z
UID:10005847-1769007600-1769013000@fpcwhitefish.org
SUMMARY:Base Camp 406
DESCRIPTION:
URL:https://fpcwhitefish.org/event/base-camp-406/2026-01-21/
LOCATION:MT
CATEGORIES:Youth Group
ATTACH;FMTTYPE=image/png:https://fpcwhitefish.org/wp-content/uploads/2025/12/Basecamp-406-Social.png
END:VEVENT
BEGIN:VEVENT
DTSTART;TZID=America/Phoenix:20260121T190000
DTEND;TZID=America/Phoenix:20260121T200000
DTSTAMP:20260423T142707
CREATED:20250827T180711Z
LAST-MODIFIED:20250827T180711Z
UID:10005314-1769022000-1769025600@fpcwhitefish.org
SUMMARY:Choir Practice
DESCRIPTION:Choir practice will take place in the Sanctuary every Wednesday at 7:00 p.m. All are welcome. Please enter the glass doors on 3rd Ave and head up the stairs.
URL:https://fpcwhitefish.org/event/choir-practice/2026-01-21/
LOCATION:First Presbyterian Church\, 301 Central Ave\, Whitefish\, MT\, 59937-8457\, United States
CATEGORIES:Family
ATTACH;FMTTYPE=image/jpeg:https://fpcwhitefish.org/wp-content/uploads/2023/05/Easter-Sunday_choir800px.jpg
ORGANIZER;CN="Alma Ramlow":MAILTO:info@fpcwhitefish.org
END:VEVENT
BEGIN:VEVENT
DTSTART;TZID=America/Phoenix:20260122T100000
DTEND;TZID=America/Phoenix:20260122T110000
DTSTAMP:20260423T142707
CREATED:20250827T180101Z
LAST-MODIFIED:20250827T180101Z
UID:10005054-1769076000-1769079600@fpcwhitefish.org
SUMMARY:Women's Bible Study
DESCRIPTION:Join us every Thursday morning at 10 am for Bible Study and Fellowship. All ladies are welcome to attend. Enter the glass door on 3rd Ave and head up the stairs to Fellowship Hall.
URL:https://fpcwhitefish.org/event/womens-bible-study/2026-01-22/
LOCATION:Fellowsip Hall – First Presbyterian Church\, 301 Central Ave\, Whitefish\, MT\, 59937\, United States
CATEGORIES:Womans Group
ATTACH;FMTTYPE=image/png:https://fpcwhitefish.org/wp-content/uploads/2023/06/FPClogo-color-clear-background-_300x300.png
END:VEVENT
BEGIN:VEVENT
DTSTART;TZID=America/Phoenix:20260125T090000
DTEND;TZID=America/Phoenix:20260125T100000
DTSTAMP:20260423T142707
CREATED:20250827T174841Z
LAST-MODIFIED:20250827T174841Z
UID:10004796-1769331600-1769335200@fpcwhitefish.org
SUMMARY:Adult Sunday School
DESCRIPTION:Adult Sunday School located in the Chapel every Sunday before worship service. Please enter the small door (to the right of our Sanctuary doors) on Central Ave.
URL:https://fpcwhitefish.org/event/adult-sunday-school/2026-01-25/
LOCATION:Chapel – First Presbyterian Church
ATTACH;FMTTYPE=image/jpeg:https://fpcwhitefish.org/wp-content/uploads/2023/06/biblerocks-header4-1.jpg
END:VEVENT
BEGIN:VEVENT
DTSTART;TZID=America/Phoenix:20260125T090000
DTEND;TZID=America/Phoenix:20260125T100000
DTSTAMP:20260423T142707
CREATED:20250919T180306Z
LAST-MODIFIED:20250924T154135Z
UID:10005584-1769331600-1769335200@fpcwhitefish.org
SUMMARY:Youth Bible Study
DESCRIPTION:Youth bible study for grades 6-12 will take place Sunday morning at 9am.  Grab a hot cocoa in the main office and join us! Light breakfast snacks will be served or feel free to bring your own.
URL:https://fpcwhitefish.org/event/youth-bible-study/2026-01-25/
LOCATION:First Presbyterian Church\, 301 Central Ave\, Whitefish\, MT\, 59937-8457\, United States
CATEGORIES:Youth Group
ATTACH;FMTTYPE=image/jpeg:https://fpcwhitefish.org/wp-content/uploads/2025/06/FPC-kids-board-to-hold-1.jpg
END:VEVENT
BEGIN:VEVENT
DTSTART;TZID=America/Phoenix:20260125T140000
DTEND;TZID=America/Phoenix:20260125T160000
DTSTAMP:20260423T142707
CREATED:20260115T171916Z
LAST-MODIFIED:20260115T171916Z
UID:10006183-1769349600-1769356800@fpcwhitefish.org
SUMMARY:Bowling & Pizza!
DESCRIPTION:
URL:https://fpcwhitefish.org/event/bowling-pizza/
LOCATION:MT
CATEGORIES:Family
ATTACH;FMTTYPE=image/png:https://fpcwhitefish.org/wp-content/uploads/2026/01/25-January-2.png
END:VEVENT
BEGIN:VEVENT
DTSTART;TZID=America/Phoenix:20260126T173000
DTEND;TZID=America/Phoenix:20260126T183000
DTSTAMP:20260423T142707
CREATED:20250827T170940Z
LAST-MODIFIED:20250827T171321Z
UID:10004766-1769448600-1769452200@fpcwhitefish.org
SUMMARY:Handbell Practice
DESCRIPTION:Handbell practice will be held in Fellowship Hall at 5:30 pm. Please enter the glass doors on 3rd Ave.
URL:https://fpcwhitefish.org/event/handbell-practice/2026-01-26/
LOCATION:First Presbyterian Church\, 301 Central Ave\, Whitefish\, MT\, 59937-8457\, United States
CATEGORIES:Adults
ATTACH;FMTTYPE=image/jpeg:https://fpcwhitefish.org/wp-content/uploads/2023/12/IMG_6562-scaled.jpg
ORGANIZER;CN="Alma Ramlow":MAILTO:info@fpcwhitefish.org
END:VEVENT
BEGIN:VEVENT
DTSTART;TZID=America/Phoenix:20260127T080000
DTEND;TZID=America/Phoenix:20260127T090000
DTSTAMP:20260423T142707
CREATED:20240411T155941Z
LAST-MODIFIED:20260312T205714Z
UID:10006240-1769500800-1769504400@fpcwhitefish.org
SUMMARY:Men's Bible Study & Breakfast
DESCRIPTION:Join us every Tuesday morning for a delicious breakfast and fellowship.
URL:https://fpcwhitefish.org/event/mens-bible-study-breakfast-19/2026-01-27/
LOCATION:Fellowsip Hall – First Presbyterian Church\, 301 Central Ave\, Whitefish\, MT\, 59937\, United States
CATEGORIES:Mens Group
ATTACH;FMTTYPE=image/jpeg:https://fpcwhitefish.org/wp-content/uploads/2024/04/Mens-Breakfast.jpg
END:VEVENT
BEGIN:VEVENT
DTSTART;TZID=America/Phoenix:20260128T150000
DTEND;TZID=America/Phoenix:20260128T163000
DTSTAMP:20260423T142707
CREATED:20250924T155428Z
LAST-MODIFIED:20260115T171522Z
UID:10005848-1769612400-1769617800@fpcwhitefish.org
SUMMARY:Base Camp 406
DESCRIPTION:
URL:https://fpcwhitefish.org/event/base-camp-406/2026-01-28/
LOCATION:MT
CATEGORIES:Youth Group
ATTACH;FMTTYPE=image/png:https://fpcwhitefish.org/wp-content/uploads/2025/12/Basecamp-406-Social.png
END:VEVENT
BEGIN:VEVENT
DTSTART;TZID=America/Phoenix:20260128T190000
DTEND;TZID=America/Phoenix:20260128T200000
DTSTAMP:20260423T142707
CREATED:20250827T180711Z
LAST-MODIFIED:20250827T180711Z
UID:10005315-1769626800-1769630400@fpcwhitefish.org
SUMMARY:Choir Practice
DESCRIPTION:Choir practice will take place in the Sanctuary every Wednesday at 7:00 p.m. All are welcome. Please enter the glass doors on 3rd Ave and head up the stairs.
URL:https://fpcwhitefish.org/event/choir-practice/2026-01-28/
LOCATION:First Presbyterian Church\, 301 Central Ave\, Whitefish\, MT\, 59937-8457\, United States
CATEGORIES:Family
ATTACH;FMTTYPE=image/jpeg:https://fpcwhitefish.org/wp-content/uploads/2023/05/Easter-Sunday_choir800px.jpg
ORGANIZER;CN="Alma Ramlow":MAILTO:info@fpcwhitefish.org
END:VEVENT
BEGIN:VEVENT
DTSTART;TZID=America/Phoenix:20260129T100000
DTEND;TZID=America/Phoenix:20260129T110000
DTSTAMP:20260423T142707
CREATED:20250827T180101Z
LAST-MODIFIED:20250827T180101Z
UID:10005055-1769680800-1769684400@fpcwhitefish.org
SUMMARY:Women's Bible Study
DESCRIPTION:Join us every Thursday morning at 10 am for Bible Study and Fellowship. All ladies are welcome to attend. Enter the glass door on 3rd Ave and head up the stairs to Fellowship Hall.
URL:https://fpcwhitefish.org/event/womens-bible-study/2026-01-29/
LOCATION:Fellowsip Hall – First Presbyterian Church\, 301 Central Ave\, Whitefish\, MT\, 59937\, United States
CATEGORIES:Womans Group
ATTACH;FMTTYPE=image/png:https://fpcwhitefish.org/wp-content/uploads/2023/06/FPClogo-color-clear-background-_300x300.png
END:VEVENT
BEGIN:VEVENT
DTSTART;TZID=America/Phoenix:20260201T090000
DTEND;TZID=America/Phoenix:20260201T100000
DTSTAMP:20260423T142707
CREATED:20250827T174841Z
LAST-MODIFIED:20250827T174841Z
UID:10004797-1769936400-1769940000@fpcwhitefish.org
SUMMARY:Adult Sunday School
DESCRIPTION:Adult Sunday School located in the Chapel every Sunday before worship service. Please enter the small door (to the right of our Sanctuary doors) on Central Ave.
URL:https://fpcwhitefish.org/event/adult-sunday-school/2026-02-01/
LOCATION:Chapel – First Presbyterian Church
ATTACH;FMTTYPE=image/jpeg:https://fpcwhitefish.org/wp-content/uploads/2023/06/biblerocks-header4-1.jpg
END:VEVENT
BEGIN:VEVENT
DTSTART;TZID=America/Phoenix:20260201T090000
DTEND;TZID=America/Phoenix:20260201T100000
DTSTAMP:20260423T142707
CREATED:20250919T180306Z
LAST-MODIFIED:20250924T154135Z
UID:10005585-1769936400-1769940000@fpcwhitefish.org
SUMMARY:Youth Bible Study
DESCRIPTION:Youth bible study for grades 6-12 will take place Sunday morning at 9am.  Grab a hot cocoa in the main office and join us! Light breakfast snacks will be served or feel free to bring your own.
URL:https://fpcwhitefish.org/event/youth-bible-study/2026-02-01/
LOCATION:First Presbyterian Church\, 301 Central Ave\, Whitefish\, MT\, 59937-8457\, United States
CATEGORIES:Youth Group
ATTACH;FMTTYPE=image/jpeg:https://fpcwhitefish.org/wp-content/uploads/2025/06/FPC-kids-board-to-hold-1.jpg
END:VEVENT
BEGIN:VEVENT
DTSTART;TZID=America/Phoenix:20260202T173000
DTEND;TZID=America/Phoenix:20260202T183000
DTSTAMP:20260423T142707
CREATED:20250827T170940Z
LAST-MODIFIED:20250827T171321Z
UID:10004767-1770053400-1770057000@fpcwhitefish.org
SUMMARY:Handbell Practice
DESCRIPTION:Handbell practice will be held in Fellowship Hall at 5:30 pm. Please enter the glass doors on 3rd Ave.
URL:https://fpcwhitefish.org/event/handbell-practice/2026-02-02/
LOCATION:First Presbyterian Church\, 301 Central Ave\, Whitefish\, MT\, 59937-8457\, United States
CATEGORIES:Adults
ATTACH;FMTTYPE=image/jpeg:https://fpcwhitefish.org/wp-content/uploads/2023/12/IMG_6562-scaled.jpg
ORGANIZER;CN="Alma Ramlow":MAILTO:info@fpcwhitefish.org
END:VEVENT
BEGIN:VEVENT
DTSTART;TZID=America/Phoenix:20260203T080000
DTEND;TZID=America/Phoenix:20260203T090000
DTSTAMP:20260423T142707
CREATED:20240411T155941Z
LAST-MODIFIED:20260312T205714Z
UID:10006241-1770105600-1770109200@fpcwhitefish.org
SUMMARY:Men's Bible Study & Breakfast
DESCRIPTION:Join us every Tuesday morning for a delicious breakfast and fellowship.
URL:https://fpcwhitefish.org/event/mens-bible-study-breakfast-19/2026-02-03/
LOCATION:Fellowsip Hall – First Presbyterian Church\, 301 Central Ave\, Whitefish\, MT\, 59937\, United States
CATEGORIES:Mens Group
ATTACH;FMTTYPE=image/jpeg:https://fpcwhitefish.org/wp-content/uploads/2024/04/Mens-Breakfast.jpg
END:VEVENT
BEGIN:VEVENT
DTSTART;TZID=America/Phoenix:20260204T150000
DTEND;TZID=America/Phoenix:20260204T163000
DTSTAMP:20260423T142707
CREATED:20250924T155428Z
LAST-MODIFIED:20260115T171522Z
UID:10005849-1770217200-1770222600@fpcwhitefish.org
SUMMARY:Base Camp 406
DESCRIPTION:
URL:https://fpcwhitefish.org/event/base-camp-406/2026-02-04/
LOCATION:MT
CATEGORIES:Youth Group
ATTACH;FMTTYPE=image/png:https://fpcwhitefish.org/wp-content/uploads/2025/12/Basecamp-406-Social.png
END:VEVENT
BEGIN:VEVENT
DTSTART;TZID=America/Phoenix:20260204T190000
DTEND;TZID=America/Phoenix:20260204T200000
DTSTAMP:20260423T142707
CREATED:20250827T180711Z
LAST-MODIFIED:20250827T180711Z
UID:10005316-1770231600-1770235200@fpcwhitefish.org
SUMMARY:Choir Practice
DESCRIPTION:Choir practice will take place in the Sanctuary every Wednesday at 7:00 p.m. All are welcome. Please enter the glass doors on 3rd Ave and head up the stairs.
URL:https://fpcwhitefish.org/event/choir-practice/2026-02-04/
LOCATION:First Presbyterian Church\, 301 Central Ave\, Whitefish\, MT\, 59937-8457\, United States
CATEGORIES:Family
ATTACH;FMTTYPE=image/jpeg:https://fpcwhitefish.org/wp-content/uploads/2023/05/Easter-Sunday_choir800px.jpg
ORGANIZER;CN="Alma Ramlow":MAILTO:info@fpcwhitefish.org
END:VEVENT
BEGIN:VEVENT
DTSTART;TZID=America/Phoenix:20260205T100000
DTEND;TZID=America/Phoenix:20260205T110000
DTSTAMP:20260423T142707
CREATED:20250827T180101Z
LAST-MODIFIED:20250827T180101Z
UID:10005056-1770285600-1770289200@fpcwhitefish.org
SUMMARY:Women's Bible Study
DESCRIPTION:Join us every Thursday morning at 10 am for Bible Study and Fellowship. All ladies are welcome to attend. Enter the glass door on 3rd Ave and head up the stairs to Fellowship Hall.
URL:https://fpcwhitefish.org/event/womens-bible-study/2026-02-05/
LOCATION:Fellowsip Hall – First Presbyterian Church\, 301 Central Ave\, Whitefish\, MT\, 59937\, United States
CATEGORIES:Womans Group
ATTACH;FMTTYPE=image/png:https://fpcwhitefish.org/wp-content/uploads/2023/06/FPClogo-color-clear-background-_300x300.png
END:VEVENT
BEGIN:VEVENT
DTSTART;TZID=America/Phoenix:20260208T090000
DTEND;TZID=America/Phoenix:20260208T100000
DTSTAMP:20260423T142707
CREATED:20250827T174841Z
LAST-MODIFIED:20250827T174841Z
UID:10004798-1770541200-1770544800@fpcwhitefish.org
SUMMARY:Adult Sunday School
DESCRIPTION:Adult Sunday School located in the Chapel every Sunday before worship service. Please enter the small door (to the right of our Sanctuary doors) on Central Ave.
URL:https://fpcwhitefish.org/event/adult-sunday-school/2026-02-08/
LOCATION:Chapel – First Presbyterian Church
ATTACH;FMTTYPE=image/jpeg:https://fpcwhitefish.org/wp-content/uploads/2023/06/biblerocks-header4-1.jpg
END:VEVENT
BEGIN:VEVENT
DTSTART;TZID=America/Phoenix:20260208T090000
DTEND;TZID=America/Phoenix:20260208T100000
DTSTAMP:20260423T142707
CREATED:20250919T180306Z
LAST-MODIFIED:20250924T154135Z
UID:10005586-1770541200-1770544800@fpcwhitefish.org
SUMMARY:Youth Bible Study
DESCRIPTION:Youth bible study for grades 6-12 will take place Sunday morning at 9am.  Grab a hot cocoa in the main office and join us! Light breakfast snacks will be served or feel free to bring your own.
URL:https://fpcwhitefish.org/event/youth-bible-study/2026-02-08/
LOCATION:First Presbyterian Church\, 301 Central Ave\, Whitefish\, MT\, 59937-8457\, United States
CATEGORIES:Youth Group
ATTACH;FMTTYPE=image/jpeg:https://fpcwhitefish.org/wp-content/uploads/2025/06/FPC-kids-board-to-hold-1.jpg
END:VEVENT
BEGIN:VEVENT
DTSTART;TZID=America/Phoenix:20260209T173000
DTEND;TZID=America/Phoenix:20260209T183000
DTSTAMP:20260423T142707
CREATED:20250827T170940Z
LAST-MODIFIED:20250827T171321Z
UID:10004768-1770658200-1770661800@fpcwhitefish.org
SUMMARY:Handbell Practice
DESCRIPTION:Handbell practice will be held in Fellowship Hall at 5:30 pm. Please enter the glass doors on 3rd Ave.
URL:https://fpcwhitefish.org/event/handbell-practice/2026-02-09/
LOCATION:First Presbyterian Church\, 301 Central Ave\, Whitefish\, MT\, 59937-8457\, United States
CATEGORIES:Adults
ATTACH;FMTTYPE=image/jpeg:https://fpcwhitefish.org/wp-content/uploads/2023/12/IMG_6562-scaled.jpg
ORGANIZER;CN="Alma Ramlow":MAILTO:info@fpcwhitefish.org
END:VEVENT
BEGIN:VEVENT
DTSTART;TZID=America/Phoenix:20260210T080000
DTEND;TZID=America/Phoenix:20260210T090000
DTSTAMP:20260423T142708
CREATED:20240411T155941Z
LAST-MODIFIED:20260312T205714Z
UID:10006242-1770710400-1770714000@fpcwhitefish.org
SUMMARY:Men's Bible Study & Breakfast
DESCRIPTION:Join us every Tuesday morning for a delicious breakfast and fellowship.
URL:https://fpcwhitefish.org/event/mens-bible-study-breakfast-19/2026-02-10/
LOCATION:Fellowsip Hall – First Presbyterian Church\, 301 Central Ave\, Whitefish\, MT\, 59937\, United States
CATEGORIES:Mens Group
ATTACH;FMTTYPE=image/jpeg:https://fpcwhitefish.org/wp-content/uploads/2024/04/Mens-Breakfast.jpg
END:VEVENT
BEGIN:VEVENT
DTSTART;TZID=America/Phoenix:20260211T150000
DTEND;TZID=America/Phoenix:20260211T163000
DTSTAMP:20260423T142708
CREATED:20250924T155428Z
LAST-MODIFIED:20260115T171522Z
UID:10005850-1770822000-1770827400@fpcwhitefish.org
SUMMARY:Base Camp 406
DESCRIPTION:
URL:https://fpcwhitefish.org/event/base-camp-406/2026-02-11/
LOCATION:MT
CATEGORIES:Youth Group
ATTACH;FMTTYPE=image/png:https://fpcwhitefish.org/wp-content/uploads/2025/12/Basecamp-406-Social.png
END:VEVENT
BEGIN:VEVENT
DTSTART;TZID=America/Phoenix:20260211T190000
DTEND;TZID=America/Phoenix:20260211T200000
DTSTAMP:20260423T142708
CREATED:20250827T180711Z
LAST-MODIFIED:20250827T180711Z
UID:10005317-1770836400-1770840000@fpcwhitefish.org
SUMMARY:Choir Practice
DESCRIPTION:Choir practice will take place in the Sanctuary every Wednesday at 7:00 p.m. All are welcome. Please enter the glass doors on 3rd Ave and head up the stairs.
URL:https://fpcwhitefish.org/event/choir-practice/2026-02-11/
LOCATION:First Presbyterian Church\, 301 Central Ave\, Whitefish\, MT\, 59937-8457\, United States
CATEGORIES:Family
ATTACH;FMTTYPE=image/jpeg:https://fpcwhitefish.org/wp-content/uploads/2023/05/Easter-Sunday_choir800px.jpg
ORGANIZER;CN="Alma Ramlow":MAILTO:info@fpcwhitefish.org
END:VEVENT
BEGIN:VEVENT
DTSTART;TZID=America/Phoenix:20260212T100000
DTEND;TZID=America/Phoenix:20260212T110000
DTSTAMP:20260423T142708
CREATED:20250827T180101Z
LAST-MODIFIED:20250827T180101Z
UID:10005057-1770890400-1770894000@fpcwhitefish.org
SUMMARY:Women's Bible Study
DESCRIPTION:Join us every Thursday morning at 10 am for Bible Study and Fellowship. All ladies are welcome to attend. Enter the glass door on 3rd Ave and head up the stairs to Fellowship Hall.
URL:https://fpcwhitefish.org/event/womens-bible-study/2026-02-12/
LOCATION:Fellowsip Hall – First Presbyterian Church\, 301 Central Ave\, Whitefish\, MT\, 59937\, United States
CATEGORIES:Womans Group
ATTACH;FMTTYPE=image/png:https://fpcwhitefish.org/wp-content/uploads/2023/06/FPClogo-color-clear-background-_300x300.png
END:VEVENT
BEGIN:VEVENT
DTSTART;TZID=America/Phoenix:20260215T090000
DTEND;TZID=America/Phoenix:20260215T100000
DTSTAMP:20260423T142708
CREATED:20250827T174841Z
LAST-MODIFIED:20250827T174841Z
UID:10004799-1771146000-1771149600@fpcwhitefish.org
SUMMARY:Adult Sunday School
DESCRIPTION:Adult Sunday School located in the Chapel every Sunday before worship service. Please enter the small door (to the right of our Sanctuary doors) on Central Ave.
URL:https://fpcwhitefish.org/event/adult-sunday-school/2026-02-15/
LOCATION:Chapel – First Presbyterian Church
ATTACH;FMTTYPE=image/jpeg:https://fpcwhitefish.org/wp-content/uploads/2023/06/biblerocks-header4-1.jpg
END:VEVENT
END:VCALENDAR