BEGIN:VCALENDAR
VERSION:2.0
PRODID:-//First Presbyterian Church of Whitefish - ECPv6.15.20//NONSGML v1.0//EN
CALSCALE:GREGORIAN
METHOD:PUBLISH
X-WR-CALNAME:First Presbyterian Church of Whitefish
X-ORIGINAL-URL:https://fpcwhitefish.org
X-WR-CALDESC:Events for First Presbyterian Church of Whitefish
REFRESH-INTERVAL;VALUE=DURATION:PT1H
X-Robots-Tag:noindex
X-PUBLISHED-TTL:PT1H
BEGIN:VTIMEZONE
TZID:America/Phoenix
BEGIN:STANDARD
TZOFFSETFROM:-0700
TZOFFSETTO:-0700
TZNAME:MST
DTSTART:20250101T000000
END:STANDARD
END:VTIMEZONE
BEGIN:VEVENT
DTSTART;TZID=America/Phoenix:20260913T090000
DTEND;TZID=America/Phoenix:20260913T100000
DTSTAMP:20260423T201029
CREATED:20250827T174841Z
LAST-MODIFIED:20250827T174841Z
UID:10004829-1789290000-1789293600@fpcwhitefish.org
SUMMARY:Adult Sunday School
DESCRIPTION:Adult Sunday School located in the Chapel every Sunday before worship service. Please enter the small door (to the right of our Sanctuary doors) on Central Ave.
URL:https://fpcwhitefish.org/event/adult-sunday-school/2026-09-13/
LOCATION:Chapel – First Presbyterian Church
ATTACH;FMTTYPE=image/jpeg:https://fpcwhitefish.org/wp-content/uploads/2023/06/biblerocks-header4-1.jpg
END:VEVENT
BEGIN:VEVENT
DTSTART;TZID=America/Phoenix:20260913T090000
DTEND;TZID=America/Phoenix:20260913T100000
DTSTAMP:20260423T201029
CREATED:20250919T180306Z
LAST-MODIFIED:20250924T154135Z
UID:10005617-1789290000-1789293600@fpcwhitefish.org
SUMMARY:Youth Bible Study
DESCRIPTION:Youth bible study for grades 6-12 will take place Sunday morning at 9am.  Grab a hot cocoa in the main office and join us! Light breakfast snacks will be served or feel free to bring your own.
URL:https://fpcwhitefish.org/event/youth-bible-study/2026-09-13/
LOCATION:First Presbyterian Church\, 301 Central Ave\, Whitefish\, MT\, 59937-8457\, United States
CATEGORIES:Youth Group
ATTACH;FMTTYPE=image/jpeg:https://fpcwhitefish.org/wp-content/uploads/2025/06/FPC-kids-board-to-hold-1.jpg
END:VEVENT
BEGIN:VEVENT
DTSTART;TZID=America/Phoenix:20260915T080000
DTEND;TZID=America/Phoenix:20260915T090000
DTSTAMP:20260423T201029
CREATED:20240411T155941Z
LAST-MODIFIED:20260312T205714Z
UID:10006273-1789459200-1789462800@fpcwhitefish.org
SUMMARY:Men's Bible Study & Breakfast
DESCRIPTION:Join us every Tuesday morning for a delicious breakfast and fellowship.
URL:https://fpcwhitefish.org/event/mens-bible-study-breakfast-19/2026-09-15/
LOCATION:Fellowsip Hall – First Presbyterian Church\, 301 Central Ave\, Whitefish\, MT\, 59937\, United States
CATEGORIES:Mens Group
ATTACH;FMTTYPE=image/jpeg:https://fpcwhitefish.org/wp-content/uploads/2024/04/Mens-Breakfast.jpg
END:VEVENT
BEGIN:VEVENT
DTSTART;TZID=America/Phoenix:20260916T100000
DTEND;TZID=America/Phoenix:20260916T110000
DTSTAMP:20260423T201029
CREATED:20260409T190533Z
LAST-MODIFIED:20260409T190533Z
UID:10006541-1789552800-1789556400@fpcwhitefish.org
SUMMARY:Wednesday Women's Bible Study
DESCRIPTION:
URL:https://fpcwhitefish.org/event/wednesday-womens-bible-study/2026-09-16/
LOCATION:Fellowsip Hall – First Presbyterian Church\, 301 Central Ave\, Whitefish\, MT\, 59937\, United States
CATEGORIES:Womans Group
ATTACH;FMTTYPE=image/png:https://fpcwhitefish.org/wp-content/uploads/2026/03/Ladies-AM-Bible-Study.png
END:VEVENT
BEGIN:VEVENT
DTSTART;TZID=America/Phoenix:20260916T150000
DTEND;TZID=America/Phoenix:20260916T163000
DTSTAMP:20260423T201029
CREATED:20250924T155428Z
LAST-MODIFIED:20260115T171522Z
UID:10005881-1789570800-1789576200@fpcwhitefish.org
SUMMARY:Base Camp 406
DESCRIPTION:
URL:https://fpcwhitefish.org/event/base-camp-406/2026-09-16/
LOCATION:MT
CATEGORIES:Youth Group
ATTACH;FMTTYPE=image/png:https://fpcwhitefish.org/wp-content/uploads/2025/12/Basecamp-406-Social.png
END:VEVENT
BEGIN:VEVENT
DTSTART;TZID=America/Phoenix:20260916T190000
DTEND;TZID=America/Phoenix:20260916T200000
DTSTAMP:20260423T201029
CREATED:20250827T180711Z
LAST-MODIFIED:20250827T180711Z
UID:10005348-1789585200-1789588800@fpcwhitefish.org
SUMMARY:Choir Practice
DESCRIPTION:Choir practice will take place in the Sanctuary every Wednesday at 7:00 p.m. All are welcome. Please enter the glass doors on 3rd Ave and head up the stairs.
URL:https://fpcwhitefish.org/event/choir-practice/2026-09-16/
LOCATION:First Presbyterian Church\, 301 Central Ave\, Whitefish\, MT\, 59937-8457\, United States
CATEGORIES:Family
ATTACH;FMTTYPE=image/jpeg:https://fpcwhitefish.org/wp-content/uploads/2023/05/Easter-Sunday_choir800px.jpg
ORGANIZER;CN="Alma Ramlow":MAILTO:info@fpcwhitefish.org
END:VEVENT
BEGIN:VEVENT
DTSTART;TZID=America/Phoenix:20260917T100000
DTEND;TZID=America/Phoenix:20260917T110000
DTSTAMP:20260423T201029
CREATED:20250827T180101Z
LAST-MODIFIED:20250827T180101Z
UID:10005088-1789639200-1789642800@fpcwhitefish.org
SUMMARY:Women's Bible Study
DESCRIPTION:Join us every Thursday morning at 10 am for Bible Study and Fellowship. All ladies are welcome to attend. Enter the glass door on 3rd Ave and head up the stairs to Fellowship Hall.
URL:https://fpcwhitefish.org/event/womens-bible-study/2026-09-17/
LOCATION:Fellowsip Hall – First Presbyterian Church\, 301 Central Ave\, Whitefish\, MT\, 59937\, United States
CATEGORIES:Womans Group
ATTACH;FMTTYPE=image/png:https://fpcwhitefish.org/wp-content/uploads/2023/06/FPClogo-color-clear-background-_300x300.png
END:VEVENT
BEGIN:VEVENT
DTSTART;TZID=America/Phoenix:20260920T090000
DTEND;TZID=America/Phoenix:20260920T100000
DTSTAMP:20260423T201029
CREATED:20250827T174841Z
LAST-MODIFIED:20250827T174841Z
UID:10004830-1789894800-1789898400@fpcwhitefish.org
SUMMARY:Adult Sunday School
DESCRIPTION:Adult Sunday School located in the Chapel every Sunday before worship service. Please enter the small door (to the right of our Sanctuary doors) on Central Ave.
URL:https://fpcwhitefish.org/event/adult-sunday-school/2026-09-20/
LOCATION:Chapel – First Presbyterian Church
ATTACH;FMTTYPE=image/jpeg:https://fpcwhitefish.org/wp-content/uploads/2023/06/biblerocks-header4-1.jpg
END:VEVENT
BEGIN:VEVENT
DTSTART;TZID=America/Phoenix:20260920T090000
DTEND;TZID=America/Phoenix:20260920T100000
DTSTAMP:20260423T201029
CREATED:20250919T180306Z
LAST-MODIFIED:20250924T154135Z
UID:10005618-1789894800-1789898400@fpcwhitefish.org
SUMMARY:Youth Bible Study
DESCRIPTION:Youth bible study for grades 6-12 will take place Sunday morning at 9am.  Grab a hot cocoa in the main office and join us! Light breakfast snacks will be served or feel free to bring your own.
URL:https://fpcwhitefish.org/event/youth-bible-study/2026-09-20/
LOCATION:First Presbyterian Church\, 301 Central Ave\, Whitefish\, MT\, 59937-8457\, United States
CATEGORIES:Youth Group
ATTACH;FMTTYPE=image/jpeg:https://fpcwhitefish.org/wp-content/uploads/2025/06/FPC-kids-board-to-hold-1.jpg
END:VEVENT
BEGIN:VEVENT
DTSTART;TZID=America/Phoenix:20260922T080000
DTEND;TZID=America/Phoenix:20260922T090000
DTSTAMP:20260423T201029
CREATED:20240411T155941Z
LAST-MODIFIED:20260312T205714Z
UID:10006274-1790064000-1790067600@fpcwhitefish.org
SUMMARY:Men's Bible Study & Breakfast
DESCRIPTION:Join us every Tuesday morning for a delicious breakfast and fellowship.
URL:https://fpcwhitefish.org/event/mens-bible-study-breakfast-19/2026-09-22/
LOCATION:Fellowsip Hall – First Presbyterian Church\, 301 Central Ave\, Whitefish\, MT\, 59937\, United States
CATEGORIES:Mens Group
ATTACH;FMTTYPE=image/jpeg:https://fpcwhitefish.org/wp-content/uploads/2024/04/Mens-Breakfast.jpg
END:VEVENT
BEGIN:VEVENT
DTSTART;TZID=America/Phoenix:20260923T100000
DTEND;TZID=America/Phoenix:20260923T110000
DTSTAMP:20260423T201029
CREATED:20260409T190533Z
LAST-MODIFIED:20260409T190533Z
UID:10006542-1790157600-1790161200@fpcwhitefish.org
SUMMARY:Wednesday Women's Bible Study
DESCRIPTION:
URL:https://fpcwhitefish.org/event/wednesday-womens-bible-study/2026-09-23/
LOCATION:Fellowsip Hall – First Presbyterian Church\, 301 Central Ave\, Whitefish\, MT\, 59937\, United States
CATEGORIES:Womans Group
ATTACH;FMTTYPE=image/png:https://fpcwhitefish.org/wp-content/uploads/2026/03/Ladies-AM-Bible-Study.png
END:VEVENT
BEGIN:VEVENT
DTSTART;TZID=America/Phoenix:20260923T150000
DTEND;TZID=America/Phoenix:20260923T163000
DTSTAMP:20260423T201029
CREATED:20250924T155428Z
LAST-MODIFIED:20260115T171522Z
UID:10005882-1790175600-1790181000@fpcwhitefish.org
SUMMARY:Base Camp 406
DESCRIPTION:
URL:https://fpcwhitefish.org/event/base-camp-406/2026-09-23/
LOCATION:MT
CATEGORIES:Youth Group
ATTACH;FMTTYPE=image/png:https://fpcwhitefish.org/wp-content/uploads/2025/12/Basecamp-406-Social.png
END:VEVENT
BEGIN:VEVENT
DTSTART;TZID=America/Phoenix:20260923T190000
DTEND;TZID=America/Phoenix:20260923T200000
DTSTAMP:20260423T201029
CREATED:20250827T180711Z
LAST-MODIFIED:20250827T180711Z
UID:10005349-1790190000-1790193600@fpcwhitefish.org
SUMMARY:Choir Practice
DESCRIPTION:Choir practice will take place in the Sanctuary every Wednesday at 7:00 p.m. All are welcome. Please enter the glass doors on 3rd Ave and head up the stairs.
URL:https://fpcwhitefish.org/event/choir-practice/2026-09-23/
LOCATION:First Presbyterian Church\, 301 Central Ave\, Whitefish\, MT\, 59937-8457\, United States
CATEGORIES:Family
ATTACH;FMTTYPE=image/jpeg:https://fpcwhitefish.org/wp-content/uploads/2023/05/Easter-Sunday_choir800px.jpg
ORGANIZER;CN="Alma Ramlow":MAILTO:info@fpcwhitefish.org
END:VEVENT
BEGIN:VEVENT
DTSTART;TZID=America/Phoenix:20260924T100000
DTEND;TZID=America/Phoenix:20260924T110000
DTSTAMP:20260423T201029
CREATED:20250827T180101Z
LAST-MODIFIED:20250827T180101Z
UID:10005089-1790244000-1790247600@fpcwhitefish.org
SUMMARY:Women's Bible Study
DESCRIPTION:Join us every Thursday morning at 10 am for Bible Study and Fellowship. All ladies are welcome to attend. Enter the glass door on 3rd Ave and head up the stairs to Fellowship Hall.
URL:https://fpcwhitefish.org/event/womens-bible-study/2026-09-24/
LOCATION:Fellowsip Hall – First Presbyterian Church\, 301 Central Ave\, Whitefish\, MT\, 59937\, United States
CATEGORIES:Womans Group
ATTACH;FMTTYPE=image/png:https://fpcwhitefish.org/wp-content/uploads/2023/06/FPClogo-color-clear-background-_300x300.png
END:VEVENT
BEGIN:VEVENT
DTSTART;TZID=America/Phoenix:20260927T090000
DTEND;TZID=America/Phoenix:20260927T100000
DTSTAMP:20260423T201029
CREATED:20250827T174841Z
LAST-MODIFIED:20250827T174841Z
UID:10004831-1790499600-1790503200@fpcwhitefish.org
SUMMARY:Adult Sunday School
DESCRIPTION:Adult Sunday School located in the Chapel every Sunday before worship service. Please enter the small door (to the right of our Sanctuary doors) on Central Ave.
URL:https://fpcwhitefish.org/event/adult-sunday-school/2026-09-27/
LOCATION:Chapel – First Presbyterian Church
ATTACH;FMTTYPE=image/jpeg:https://fpcwhitefish.org/wp-content/uploads/2023/06/biblerocks-header4-1.jpg
END:VEVENT
BEGIN:VEVENT
DTSTART;TZID=America/Phoenix:20260927T090000
DTEND;TZID=America/Phoenix:20260927T100000
DTSTAMP:20260423T201029
CREATED:20250919T180306Z
LAST-MODIFIED:20250924T154135Z
UID:10005619-1790499600-1790503200@fpcwhitefish.org
SUMMARY:Youth Bible Study
DESCRIPTION:Youth bible study for grades 6-12 will take place Sunday morning at 9am.  Grab a hot cocoa in the main office and join us! Light breakfast snacks will be served or feel free to bring your own.
URL:https://fpcwhitefish.org/event/youth-bible-study/2026-09-27/
LOCATION:First Presbyterian Church\, 301 Central Ave\, Whitefish\, MT\, 59937-8457\, United States
CATEGORIES:Youth Group
ATTACH;FMTTYPE=image/jpeg:https://fpcwhitefish.org/wp-content/uploads/2025/06/FPC-kids-board-to-hold-1.jpg
END:VEVENT
BEGIN:VEVENT
DTSTART;TZID=America/Phoenix:20260929T080000
DTEND;TZID=America/Phoenix:20260929T090000
DTSTAMP:20260423T201029
CREATED:20240411T155941Z
LAST-MODIFIED:20260312T205714Z
UID:10006275-1790668800-1790672400@fpcwhitefish.org
SUMMARY:Men's Bible Study & Breakfast
DESCRIPTION:Join us every Tuesday morning for a delicious breakfast and fellowship.
URL:https://fpcwhitefish.org/event/mens-bible-study-breakfast-19/2026-09-29/
LOCATION:Fellowsip Hall – First Presbyterian Church\, 301 Central Ave\, Whitefish\, MT\, 59937\, United States
CATEGORIES:Mens Group
ATTACH;FMTTYPE=image/jpeg:https://fpcwhitefish.org/wp-content/uploads/2024/04/Mens-Breakfast.jpg
END:VEVENT
BEGIN:VEVENT
DTSTART;TZID=America/Phoenix:20260930T100000
DTEND;TZID=America/Phoenix:20260930T110000
DTSTAMP:20260423T201029
CREATED:20260409T190533Z
LAST-MODIFIED:20260409T190533Z
UID:10006543-1790762400-1790766000@fpcwhitefish.org
SUMMARY:Wednesday Women's Bible Study
DESCRIPTION:
URL:https://fpcwhitefish.org/event/wednesday-womens-bible-study/2026-09-30/
LOCATION:Fellowsip Hall – First Presbyterian Church\, 301 Central Ave\, Whitefish\, MT\, 59937\, United States
CATEGORIES:Womans Group
ATTACH;FMTTYPE=image/png:https://fpcwhitefish.org/wp-content/uploads/2026/03/Ladies-AM-Bible-Study.png
END:VEVENT
BEGIN:VEVENT
DTSTART;TZID=America/Phoenix:20260930T150000
DTEND;TZID=America/Phoenix:20260930T163000
DTSTAMP:20260423T201029
CREATED:20250924T155428Z
LAST-MODIFIED:20260115T171522Z
UID:10005883-1790780400-1790785800@fpcwhitefish.org
SUMMARY:Base Camp 406
DESCRIPTION:
URL:https://fpcwhitefish.org/event/base-camp-406/2026-09-30/
LOCATION:MT
CATEGORIES:Youth Group
ATTACH;FMTTYPE=image/png:https://fpcwhitefish.org/wp-content/uploads/2025/12/Basecamp-406-Social.png
END:VEVENT
BEGIN:VEVENT
DTSTART;TZID=America/Phoenix:20260930T190000
DTEND;TZID=America/Phoenix:20260930T200000
DTSTAMP:20260423T201029
CREATED:20250827T180711Z
LAST-MODIFIED:20250827T180711Z
UID:10005350-1790794800-1790798400@fpcwhitefish.org
SUMMARY:Choir Practice
DESCRIPTION:Choir practice will take place in the Sanctuary every Wednesday at 7:00 p.m. All are welcome. Please enter the glass doors on 3rd Ave and head up the stairs.
URL:https://fpcwhitefish.org/event/choir-practice/2026-09-30/
LOCATION:First Presbyterian Church\, 301 Central Ave\, Whitefish\, MT\, 59937-8457\, United States
CATEGORIES:Family
ATTACH;FMTTYPE=image/jpeg:https://fpcwhitefish.org/wp-content/uploads/2023/05/Easter-Sunday_choir800px.jpg
ORGANIZER;CN="Alma Ramlow":MAILTO:info@fpcwhitefish.org
END:VEVENT
BEGIN:VEVENT
DTSTART;TZID=America/Phoenix:20261001T100000
DTEND;TZID=America/Phoenix:20261001T110000
DTSTAMP:20260423T201029
CREATED:20250827T180101Z
LAST-MODIFIED:20250827T180101Z
UID:10005090-1790848800-1790852400@fpcwhitefish.org
SUMMARY:Women's Bible Study
DESCRIPTION:Join us every Thursday morning at 10 am for Bible Study and Fellowship. All ladies are welcome to attend. Enter the glass door on 3rd Ave and head up the stairs to Fellowship Hall.
URL:https://fpcwhitefish.org/event/womens-bible-study/2026-10-01/
LOCATION:Fellowsip Hall – First Presbyterian Church\, 301 Central Ave\, Whitefish\, MT\, 59937\, United States
CATEGORIES:Womans Group
ATTACH;FMTTYPE=image/png:https://fpcwhitefish.org/wp-content/uploads/2023/06/FPClogo-color-clear-background-_300x300.png
END:VEVENT
BEGIN:VEVENT
DTSTART;TZID=America/Phoenix:20261004T090000
DTEND;TZID=America/Phoenix:20261004T100000
DTSTAMP:20260423T201029
CREATED:20250827T174841Z
LAST-MODIFIED:20250827T174841Z
UID:10004832-1791104400-1791108000@fpcwhitefish.org
SUMMARY:Adult Sunday School
DESCRIPTION:Adult Sunday School located in the Chapel every Sunday before worship service. Please enter the small door (to the right of our Sanctuary doors) on Central Ave.
URL:https://fpcwhitefish.org/event/adult-sunday-school/2026-10-04/
LOCATION:Chapel – First Presbyterian Church
ATTACH;FMTTYPE=image/jpeg:https://fpcwhitefish.org/wp-content/uploads/2023/06/biblerocks-header4-1.jpg
END:VEVENT
BEGIN:VEVENT
DTSTART;TZID=America/Phoenix:20261004T090000
DTEND;TZID=America/Phoenix:20261004T100000
DTSTAMP:20260423T201030
CREATED:20250919T180306Z
LAST-MODIFIED:20250924T154135Z
UID:10005620-1791104400-1791108000@fpcwhitefish.org
SUMMARY:Youth Bible Study
DESCRIPTION:Youth bible study for grades 6-12 will take place Sunday morning at 9am.  Grab a hot cocoa in the main office and join us! Light breakfast snacks will be served or feel free to bring your own.
URL:https://fpcwhitefish.org/event/youth-bible-study/2026-10-04/
LOCATION:First Presbyterian Church\, 301 Central Ave\, Whitefish\, MT\, 59937-8457\, United States
CATEGORIES:Youth Group
ATTACH;FMTTYPE=image/jpeg:https://fpcwhitefish.org/wp-content/uploads/2025/06/FPC-kids-board-to-hold-1.jpg
END:VEVENT
BEGIN:VEVENT
DTSTART;TZID=America/Phoenix:20261006T080000
DTEND;TZID=America/Phoenix:20261006T090000
DTSTAMP:20260423T201030
CREATED:20240411T155941Z
LAST-MODIFIED:20260312T205714Z
UID:10006276-1791273600-1791277200@fpcwhitefish.org
SUMMARY:Men's Bible Study & Breakfast
DESCRIPTION:Join us every Tuesday morning for a delicious breakfast and fellowship.
URL:https://fpcwhitefish.org/event/mens-bible-study-breakfast-19/2026-10-06/
LOCATION:Fellowsip Hall – First Presbyterian Church\, 301 Central Ave\, Whitefish\, MT\, 59937\, United States
CATEGORIES:Mens Group
ATTACH;FMTTYPE=image/jpeg:https://fpcwhitefish.org/wp-content/uploads/2024/04/Mens-Breakfast.jpg
END:VEVENT
BEGIN:VEVENT
DTSTART;TZID=America/Phoenix:20261007T100000
DTEND;TZID=America/Phoenix:20261007T110000
DTSTAMP:20260423T201030
CREATED:20260409T190533Z
LAST-MODIFIED:20260409T190533Z
UID:10006544-1791367200-1791370800@fpcwhitefish.org
SUMMARY:Wednesday Women's Bible Study
DESCRIPTION:
URL:https://fpcwhitefish.org/event/wednesday-womens-bible-study/2026-10-07/
LOCATION:Fellowsip Hall – First Presbyterian Church\, 301 Central Ave\, Whitefish\, MT\, 59937\, United States
CATEGORIES:Womans Group
ATTACH;FMTTYPE=image/png:https://fpcwhitefish.org/wp-content/uploads/2026/03/Ladies-AM-Bible-Study.png
END:VEVENT
BEGIN:VEVENT
DTSTART;TZID=America/Phoenix:20261007T150000
DTEND;TZID=America/Phoenix:20261007T163000
DTSTAMP:20260423T201030
CREATED:20250924T155428Z
LAST-MODIFIED:20260115T171522Z
UID:10005884-1791385200-1791390600@fpcwhitefish.org
SUMMARY:Base Camp 406
DESCRIPTION:
URL:https://fpcwhitefish.org/event/base-camp-406/2026-10-07/
LOCATION:MT
CATEGORIES:Youth Group
ATTACH;FMTTYPE=image/png:https://fpcwhitefish.org/wp-content/uploads/2025/12/Basecamp-406-Social.png
END:VEVENT
BEGIN:VEVENT
DTSTART;TZID=America/Phoenix:20261007T190000
DTEND;TZID=America/Phoenix:20261007T200000
DTSTAMP:20260423T201030
CREATED:20250827T180711Z
LAST-MODIFIED:20250827T180711Z
UID:10005351-1791399600-1791403200@fpcwhitefish.org
SUMMARY:Choir Practice
DESCRIPTION:Choir practice will take place in the Sanctuary every Wednesday at 7:00 p.m. All are welcome. Please enter the glass doors on 3rd Ave and head up the stairs.
URL:https://fpcwhitefish.org/event/choir-practice/2026-10-07/
LOCATION:First Presbyterian Church\, 301 Central Ave\, Whitefish\, MT\, 59937-8457\, United States
CATEGORIES:Family
ATTACH;FMTTYPE=image/jpeg:https://fpcwhitefish.org/wp-content/uploads/2023/05/Easter-Sunday_choir800px.jpg
ORGANIZER;CN="Alma Ramlow":MAILTO:info@fpcwhitefish.org
END:VEVENT
BEGIN:VEVENT
DTSTART;TZID=America/Phoenix:20261008T100000
DTEND;TZID=America/Phoenix:20261008T110000
DTSTAMP:20260423T201030
CREATED:20250827T180101Z
LAST-MODIFIED:20250827T180101Z
UID:10005091-1791453600-1791457200@fpcwhitefish.org
SUMMARY:Women's Bible Study
DESCRIPTION:Join us every Thursday morning at 10 am for Bible Study and Fellowship. All ladies are welcome to attend. Enter the glass door on 3rd Ave and head up the stairs to Fellowship Hall.
URL:https://fpcwhitefish.org/event/womens-bible-study/2026-10-08/
LOCATION:Fellowsip Hall – First Presbyterian Church\, 301 Central Ave\, Whitefish\, MT\, 59937\, United States
CATEGORIES:Womans Group
ATTACH;FMTTYPE=image/png:https://fpcwhitefish.org/wp-content/uploads/2023/06/FPClogo-color-clear-background-_300x300.png
END:VEVENT
BEGIN:VEVENT
DTSTART;TZID=America/Phoenix:20261011T090000
DTEND;TZID=America/Phoenix:20261011T100000
DTSTAMP:20260423T201030
CREATED:20250827T174841Z
LAST-MODIFIED:20250827T174841Z
UID:10004833-1791709200-1791712800@fpcwhitefish.org
SUMMARY:Adult Sunday School
DESCRIPTION:Adult Sunday School located in the Chapel every Sunday before worship service. Please enter the small door (to the right of our Sanctuary doors) on Central Ave.
URL:https://fpcwhitefish.org/event/adult-sunday-school/2026-10-11/
LOCATION:Chapel – First Presbyterian Church
ATTACH;FMTTYPE=image/jpeg:https://fpcwhitefish.org/wp-content/uploads/2023/06/biblerocks-header4-1.jpg
END:VEVENT
BEGIN:VEVENT
DTSTART;TZID=America/Phoenix:20261011T090000
DTEND;TZID=America/Phoenix:20261011T100000
DTSTAMP:20260423T201030
CREATED:20250919T180306Z
LAST-MODIFIED:20250924T154135Z
UID:10005621-1791709200-1791712800@fpcwhitefish.org
SUMMARY:Youth Bible Study
DESCRIPTION:Youth bible study for grades 6-12 will take place Sunday morning at 9am.  Grab a hot cocoa in the main office and join us! Light breakfast snacks will be served or feel free to bring your own.
URL:https://fpcwhitefish.org/event/youth-bible-study/2026-10-11/
LOCATION:First Presbyterian Church\, 301 Central Ave\, Whitefish\, MT\, 59937-8457\, United States
CATEGORIES:Youth Group
ATTACH;FMTTYPE=image/jpeg:https://fpcwhitefish.org/wp-content/uploads/2025/06/FPC-kids-board-to-hold-1.jpg
END:VEVENT
END:VCALENDAR