BEGIN:VCALENDAR
VERSION:2.0
PRODID:-//First Presbyterian Church of Whitefish - ECPv6.15.20//NONSGML v1.0//EN
CALSCALE:GREGORIAN
METHOD:PUBLISH
X-ORIGINAL-URL:https://fpcwhitefish.org
X-WR-CALDESC:Events for First Presbyterian Church of Whitefish
REFRESH-INTERVAL;VALUE=DURATION:PT1H
X-Robots-Tag:noindex
X-PUBLISHED-TTL:PT1H
BEGIN:VTIMEZONE
TZID:America/Phoenix
BEGIN:STANDARD
TZOFFSETFROM:-0700
TZOFFSETTO:-0700
TZNAME:MST
DTSTART:20250101T000000
END:STANDARD
END:VTIMEZONE
BEGIN:VEVENT
DTSTART;TZID=America/Phoenix:20261018T090000
DTEND;TZID=America/Phoenix:20261018T100000
DTSTAMP:20260424T012257
CREATED:20250919T180306Z
LAST-MODIFIED:20250924T154135Z
UID:10005622-1792314000-1792317600@fpcwhitefish.org
SUMMARY:Youth Bible Study
DESCRIPTION:Youth bible study for grades 6-12 will take place Sunday morning at 9am.  Grab a hot cocoa in the main office and join us! Light breakfast snacks will be served or feel free to bring your own.
URL:https://fpcwhitefish.org/event/youth-bible-study/2026-10-18/
LOCATION:First Presbyterian Church\, 301 Central Ave\, Whitefish\, MT\, 59937-8457\, United States
CATEGORIES:Youth Group
ATTACH;FMTTYPE=image/jpeg:https://fpcwhitefish.org/wp-content/uploads/2025/06/FPC-kids-board-to-hold-1.jpg
END:VEVENT
BEGIN:VEVENT
DTSTART;TZID=America/Phoenix:20261020T080000
DTEND;TZID=America/Phoenix:20261020T090000
DTSTAMP:20260424T012257
CREATED:20240411T155941Z
LAST-MODIFIED:20260312T205714Z
UID:10006278-1792483200-1792486800@fpcwhitefish.org
SUMMARY:Men's Bible Study & Breakfast
DESCRIPTION:Join us every Tuesday morning for a delicious breakfast and fellowship.
URL:https://fpcwhitefish.org/event/mens-bible-study-breakfast-19/2026-10-20/
LOCATION:Fellowsip Hall – First Presbyterian Church\, 301 Central Ave\, Whitefish\, MT\, 59937\, United States
CATEGORIES:Mens Group
ATTACH;FMTTYPE=image/jpeg:https://fpcwhitefish.org/wp-content/uploads/2024/04/Mens-Breakfast.jpg
END:VEVENT
BEGIN:VEVENT
DTSTART;TZID=America/Phoenix:20261021T100000
DTEND;TZID=America/Phoenix:20261021T110000
DTSTAMP:20260424T012257
CREATED:20260409T190533Z
LAST-MODIFIED:20260409T190533Z
UID:10006546-1792576800-1792580400@fpcwhitefish.org
SUMMARY:Wednesday Women's Bible Study
DESCRIPTION:
URL:https://fpcwhitefish.org/event/wednesday-womens-bible-study/2026-10-21/
LOCATION:Fellowsip Hall – First Presbyterian Church\, 301 Central Ave\, Whitefish\, MT\, 59937\, United States
CATEGORIES:Womans Group
ATTACH;FMTTYPE=image/png:https://fpcwhitefish.org/wp-content/uploads/2026/03/Ladies-AM-Bible-Study.png
END:VEVENT
BEGIN:VEVENT
DTSTART;TZID=America/Phoenix:20261021T150000
DTEND;TZID=America/Phoenix:20261021T163000
DTSTAMP:20260424T012257
CREATED:20250924T155428Z
LAST-MODIFIED:20260115T171522Z
UID:10005886-1792594800-1792600200@fpcwhitefish.org
SUMMARY:Base Camp 406
DESCRIPTION:
URL:https://fpcwhitefish.org/event/base-camp-406/2026-10-21/
LOCATION:MT
CATEGORIES:Youth Group
ATTACH;FMTTYPE=image/png:https://fpcwhitefish.org/wp-content/uploads/2025/12/Basecamp-406-Social.png
END:VEVENT
BEGIN:VEVENT
DTSTART;TZID=America/Phoenix:20261021T190000
DTEND;TZID=America/Phoenix:20261021T200000
DTSTAMP:20260424T012257
CREATED:20250827T180711Z
LAST-MODIFIED:20250827T180711Z
UID:10005353-1792609200-1792612800@fpcwhitefish.org
SUMMARY:Choir Practice
DESCRIPTION:Choir practice will take place in the Sanctuary every Wednesday at 7:00 p.m. All are welcome. Please enter the glass doors on 3rd Ave and head up the stairs.
URL:https://fpcwhitefish.org/event/choir-practice/2026-10-21/
LOCATION:First Presbyterian Church\, 301 Central Ave\, Whitefish\, MT\, 59937-8457\, United States
CATEGORIES:Family
ATTACH;FMTTYPE=image/jpeg:https://fpcwhitefish.org/wp-content/uploads/2023/05/Easter-Sunday_choir800px.jpg
ORGANIZER;CN="Alma Ramlow":MAILTO:info@fpcwhitefish.org
END:VEVENT
BEGIN:VEVENT
DTSTART;TZID=America/Phoenix:20261022T100000
DTEND;TZID=America/Phoenix:20261022T110000
DTSTAMP:20260424T012257
CREATED:20250827T180101Z
LAST-MODIFIED:20250827T180101Z
UID:10005093-1792663200-1792666800@fpcwhitefish.org
SUMMARY:Women's Bible Study
DESCRIPTION:Join us every Thursday morning at 10 am for Bible Study and Fellowship. All ladies are welcome to attend. Enter the glass door on 3rd Ave and head up the stairs to Fellowship Hall.
URL:https://fpcwhitefish.org/event/womens-bible-study/2026-10-22/
LOCATION:Fellowsip Hall – First Presbyterian Church\, 301 Central Ave\, Whitefish\, MT\, 59937\, United States
CATEGORIES:Womans Group
ATTACH;FMTTYPE=image/png:https://fpcwhitefish.org/wp-content/uploads/2023/06/FPClogo-color-clear-background-_300x300.png
END:VEVENT
BEGIN:VEVENT
DTSTART;TZID=America/Phoenix:20261025T090000
DTEND;TZID=America/Phoenix:20261025T100000
DTSTAMP:20260424T012257
CREATED:20250827T174841Z
LAST-MODIFIED:20250827T174841Z
UID:10004835-1792918800-1792922400@fpcwhitefish.org
SUMMARY:Adult Sunday School
DESCRIPTION:Adult Sunday School located in the Chapel every Sunday before worship service. Please enter the small door (to the right of our Sanctuary doors) on Central Ave.
URL:https://fpcwhitefish.org/event/adult-sunday-school/2026-10-25/
LOCATION:Chapel – First Presbyterian Church
ATTACH;FMTTYPE=image/jpeg:https://fpcwhitefish.org/wp-content/uploads/2023/06/biblerocks-header4-1.jpg
END:VEVENT
BEGIN:VEVENT
DTSTART;TZID=America/Phoenix:20261025T090000
DTEND;TZID=America/Phoenix:20261025T100000
DTSTAMP:20260424T012257
CREATED:20250919T180306Z
LAST-MODIFIED:20250924T154135Z
UID:10005623-1792918800-1792922400@fpcwhitefish.org
SUMMARY:Youth Bible Study
DESCRIPTION:Youth bible study for grades 6-12 will take place Sunday morning at 9am.  Grab a hot cocoa in the main office and join us! Light breakfast snacks will be served or feel free to bring your own.
URL:https://fpcwhitefish.org/event/youth-bible-study/2026-10-25/
LOCATION:First Presbyterian Church\, 301 Central Ave\, Whitefish\, MT\, 59937-8457\, United States
CATEGORIES:Youth Group
ATTACH;FMTTYPE=image/jpeg:https://fpcwhitefish.org/wp-content/uploads/2025/06/FPC-kids-board-to-hold-1.jpg
END:VEVENT
BEGIN:VEVENT
DTSTART;TZID=America/Phoenix:20261027T080000
DTEND;TZID=America/Phoenix:20261027T090000
DTSTAMP:20260424T012257
CREATED:20240411T155941Z
LAST-MODIFIED:20260312T205714Z
UID:10006279-1793088000-1793091600@fpcwhitefish.org
SUMMARY:Men's Bible Study & Breakfast
DESCRIPTION:Join us every Tuesday morning for a delicious breakfast and fellowship.
URL:https://fpcwhitefish.org/event/mens-bible-study-breakfast-19/2026-10-27/
LOCATION:Fellowsip Hall – First Presbyterian Church\, 301 Central Ave\, Whitefish\, MT\, 59937\, United States
CATEGORIES:Mens Group
ATTACH;FMTTYPE=image/jpeg:https://fpcwhitefish.org/wp-content/uploads/2024/04/Mens-Breakfast.jpg
END:VEVENT
BEGIN:VEVENT
DTSTART;TZID=America/Phoenix:20261028T100000
DTEND;TZID=America/Phoenix:20261028T110000
DTSTAMP:20260424T012257
CREATED:20260409T190533Z
LAST-MODIFIED:20260409T190533Z
UID:10006547-1793181600-1793185200@fpcwhitefish.org
SUMMARY:Wednesday Women's Bible Study
DESCRIPTION:
URL:https://fpcwhitefish.org/event/wednesday-womens-bible-study/2026-10-28/
LOCATION:Fellowsip Hall – First Presbyterian Church\, 301 Central Ave\, Whitefish\, MT\, 59937\, United States
CATEGORIES:Womans Group
ATTACH;FMTTYPE=image/png:https://fpcwhitefish.org/wp-content/uploads/2026/03/Ladies-AM-Bible-Study.png
END:VEVENT
BEGIN:VEVENT
DTSTART;TZID=America/Phoenix:20261028T150000
DTEND;TZID=America/Phoenix:20261028T163000
DTSTAMP:20260424T012257
CREATED:20250924T155428Z
LAST-MODIFIED:20260115T171522Z
UID:10005887-1793199600-1793205000@fpcwhitefish.org
SUMMARY:Base Camp 406
DESCRIPTION:
URL:https://fpcwhitefish.org/event/base-camp-406/2026-10-28/
LOCATION:MT
CATEGORIES:Youth Group
ATTACH;FMTTYPE=image/png:https://fpcwhitefish.org/wp-content/uploads/2025/12/Basecamp-406-Social.png
END:VEVENT
BEGIN:VEVENT
DTSTART;TZID=America/Phoenix:20261028T190000
DTEND;TZID=America/Phoenix:20261028T200000
DTSTAMP:20260424T012257
CREATED:20250827T180711Z
LAST-MODIFIED:20250827T180711Z
UID:10005354-1793214000-1793217600@fpcwhitefish.org
SUMMARY:Choir Practice
DESCRIPTION:Choir practice will take place in the Sanctuary every Wednesday at 7:00 p.m. All are welcome. Please enter the glass doors on 3rd Ave and head up the stairs.
URL:https://fpcwhitefish.org/event/choir-practice/2026-10-28/
LOCATION:First Presbyterian Church\, 301 Central Ave\, Whitefish\, MT\, 59937-8457\, United States
CATEGORIES:Family
ATTACH;FMTTYPE=image/jpeg:https://fpcwhitefish.org/wp-content/uploads/2023/05/Easter-Sunday_choir800px.jpg
ORGANIZER;CN="Alma Ramlow":MAILTO:info@fpcwhitefish.org
END:VEVENT
BEGIN:VEVENT
DTSTART;TZID=America/Phoenix:20261029T100000
DTEND;TZID=America/Phoenix:20261029T110000
DTSTAMP:20260424T012257
CREATED:20250827T180101Z
LAST-MODIFIED:20250827T180101Z
UID:10005094-1793268000-1793271600@fpcwhitefish.org
SUMMARY:Women's Bible Study
DESCRIPTION:Join us every Thursday morning at 10 am for Bible Study and Fellowship. All ladies are welcome to attend. Enter the glass door on 3rd Ave and head up the stairs to Fellowship Hall.
URL:https://fpcwhitefish.org/event/womens-bible-study/2026-10-29/
LOCATION:Fellowsip Hall – First Presbyterian Church\, 301 Central Ave\, Whitefish\, MT\, 59937\, United States
CATEGORIES:Womans Group
ATTACH;FMTTYPE=image/png:https://fpcwhitefish.org/wp-content/uploads/2023/06/FPClogo-color-clear-background-_300x300.png
END:VEVENT
BEGIN:VEVENT
DTSTART;TZID=America/Phoenix:20261101T090000
DTEND;TZID=America/Phoenix:20261101T100000
DTSTAMP:20260424T012257
CREATED:20250827T174841Z
LAST-MODIFIED:20250827T174841Z
UID:10004836-1793523600-1793527200@fpcwhitefish.org
SUMMARY:Adult Sunday School
DESCRIPTION:Adult Sunday School located in the Chapel every Sunday before worship service. Please enter the small door (to the right of our Sanctuary doors) on Central Ave.
URL:https://fpcwhitefish.org/event/adult-sunday-school/2026-11-01/
LOCATION:Chapel – First Presbyterian Church
ATTACH;FMTTYPE=image/jpeg:https://fpcwhitefish.org/wp-content/uploads/2023/06/biblerocks-header4-1.jpg
END:VEVENT
BEGIN:VEVENT
DTSTART;TZID=America/Phoenix:20261101T090000
DTEND;TZID=America/Phoenix:20261101T100000
DTSTAMP:20260424T012257
CREATED:20250919T180306Z
LAST-MODIFIED:20250924T154135Z
UID:10005624-1793523600-1793527200@fpcwhitefish.org
SUMMARY:Youth Bible Study
DESCRIPTION:Youth bible study for grades 6-12 will take place Sunday morning at 9am.  Grab a hot cocoa in the main office and join us! Light breakfast snacks will be served or feel free to bring your own.
URL:https://fpcwhitefish.org/event/youth-bible-study/2026-11-01/
LOCATION:First Presbyterian Church\, 301 Central Ave\, Whitefish\, MT\, 59937-8457\, United States
CATEGORIES:Youth Group
ATTACH;FMTTYPE=image/jpeg:https://fpcwhitefish.org/wp-content/uploads/2025/06/FPC-kids-board-to-hold-1.jpg
END:VEVENT
BEGIN:VEVENT
DTSTART;TZID=America/Phoenix:20261103T080000
DTEND;TZID=America/Phoenix:20261103T090000
DTSTAMP:20260424T012257
CREATED:20240411T155941Z
LAST-MODIFIED:20260312T205714Z
UID:10006280-1793692800-1793696400@fpcwhitefish.org
SUMMARY:Men's Bible Study & Breakfast
DESCRIPTION:Join us every Tuesday morning for a delicious breakfast and fellowship.
URL:https://fpcwhitefish.org/event/mens-bible-study-breakfast-19/2026-11-03/
LOCATION:Fellowsip Hall – First Presbyterian Church\, 301 Central Ave\, Whitefish\, MT\, 59937\, United States
CATEGORIES:Mens Group
ATTACH;FMTTYPE=image/jpeg:https://fpcwhitefish.org/wp-content/uploads/2024/04/Mens-Breakfast.jpg
END:VEVENT
BEGIN:VEVENT
DTSTART;TZID=America/Phoenix:20261104T100000
DTEND;TZID=America/Phoenix:20261104T110000
DTSTAMP:20260424T012257
CREATED:20260409T190533Z
LAST-MODIFIED:20260409T190533Z
UID:10006548-1793786400-1793790000@fpcwhitefish.org
SUMMARY:Wednesday Women's Bible Study
DESCRIPTION:
URL:https://fpcwhitefish.org/event/wednesday-womens-bible-study/2026-11-04/
LOCATION:Fellowsip Hall – First Presbyterian Church\, 301 Central Ave\, Whitefish\, MT\, 59937\, United States
CATEGORIES:Womans Group
ATTACH;FMTTYPE=image/png:https://fpcwhitefish.org/wp-content/uploads/2026/03/Ladies-AM-Bible-Study.png
END:VEVENT
BEGIN:VEVENT
DTSTART;TZID=America/Phoenix:20261104T150000
DTEND;TZID=America/Phoenix:20261104T163000
DTSTAMP:20260424T012257
CREATED:20250924T155428Z
LAST-MODIFIED:20260115T171522Z
UID:10005888-1793804400-1793809800@fpcwhitefish.org
SUMMARY:Base Camp 406
DESCRIPTION:
URL:https://fpcwhitefish.org/event/base-camp-406/2026-11-04/
LOCATION:MT
CATEGORIES:Youth Group
ATTACH;FMTTYPE=image/png:https://fpcwhitefish.org/wp-content/uploads/2025/12/Basecamp-406-Social.png
END:VEVENT
BEGIN:VEVENT
DTSTART;TZID=America/Phoenix:20261104T190000
DTEND;TZID=America/Phoenix:20261104T200000
DTSTAMP:20260424T012257
CREATED:20250827T180711Z
LAST-MODIFIED:20250827T180711Z
UID:10005355-1793818800-1793822400@fpcwhitefish.org
SUMMARY:Choir Practice
DESCRIPTION:Choir practice will take place in the Sanctuary every Wednesday at 7:00 p.m. All are welcome. Please enter the glass doors on 3rd Ave and head up the stairs.
URL:https://fpcwhitefish.org/event/choir-practice/2026-11-04/
LOCATION:First Presbyterian Church\, 301 Central Ave\, Whitefish\, MT\, 59937-8457\, United States
CATEGORIES:Family
ATTACH;FMTTYPE=image/jpeg:https://fpcwhitefish.org/wp-content/uploads/2023/05/Easter-Sunday_choir800px.jpg
ORGANIZER;CN="Alma Ramlow":MAILTO:info@fpcwhitefish.org
END:VEVENT
BEGIN:VEVENT
DTSTART;TZID=America/Phoenix:20261105T100000
DTEND;TZID=America/Phoenix:20261105T110000
DTSTAMP:20260424T012257
CREATED:20250827T180101Z
LAST-MODIFIED:20250827T180101Z
UID:10005095-1793872800-1793876400@fpcwhitefish.org
SUMMARY:Women's Bible Study
DESCRIPTION:Join us every Thursday morning at 10 am for Bible Study and Fellowship. All ladies are welcome to attend. Enter the glass door on 3rd Ave and head up the stairs to Fellowship Hall.
URL:https://fpcwhitefish.org/event/womens-bible-study/2026-11-05/
LOCATION:Fellowsip Hall – First Presbyterian Church\, 301 Central Ave\, Whitefish\, MT\, 59937\, United States
CATEGORIES:Womans Group
ATTACH;FMTTYPE=image/png:https://fpcwhitefish.org/wp-content/uploads/2023/06/FPClogo-color-clear-background-_300x300.png
END:VEVENT
BEGIN:VEVENT
DTSTART;TZID=America/Phoenix:20261108T090000
DTEND;TZID=America/Phoenix:20261108T100000
DTSTAMP:20260424T012257
CREATED:20250827T174841Z
LAST-MODIFIED:20250827T174841Z
UID:10004837-1794128400-1794132000@fpcwhitefish.org
SUMMARY:Adult Sunday School
DESCRIPTION:Adult Sunday School located in the Chapel every Sunday before worship service. Please enter the small door (to the right of our Sanctuary doors) on Central Ave.
URL:https://fpcwhitefish.org/event/adult-sunday-school/2026-11-08/
LOCATION:Chapel – First Presbyterian Church
ATTACH;FMTTYPE=image/jpeg:https://fpcwhitefish.org/wp-content/uploads/2023/06/biblerocks-header4-1.jpg
END:VEVENT
BEGIN:VEVENT
DTSTART;TZID=America/Phoenix:20261108T090000
DTEND;TZID=America/Phoenix:20261108T100000
DTSTAMP:20260424T012257
CREATED:20250919T180306Z
LAST-MODIFIED:20250924T154135Z
UID:10005625-1794128400-1794132000@fpcwhitefish.org
SUMMARY:Youth Bible Study
DESCRIPTION:Youth bible study for grades 6-12 will take place Sunday morning at 9am.  Grab a hot cocoa in the main office and join us! Light breakfast snacks will be served or feel free to bring your own.
URL:https://fpcwhitefish.org/event/youth-bible-study/2026-11-08/
LOCATION:First Presbyterian Church\, 301 Central Ave\, Whitefish\, MT\, 59937-8457\, United States
CATEGORIES:Youth Group
ATTACH;FMTTYPE=image/jpeg:https://fpcwhitefish.org/wp-content/uploads/2025/06/FPC-kids-board-to-hold-1.jpg
END:VEVENT
BEGIN:VEVENT
DTSTART;TZID=America/Phoenix:20261110T080000
DTEND;TZID=America/Phoenix:20261110T090000
DTSTAMP:20260424T012257
CREATED:20240411T155941Z
LAST-MODIFIED:20260312T205714Z
UID:10006281-1794297600-1794301200@fpcwhitefish.org
SUMMARY:Men's Bible Study & Breakfast
DESCRIPTION:Join us every Tuesday morning for a delicious breakfast and fellowship.
URL:https://fpcwhitefish.org/event/mens-bible-study-breakfast-19/2026-11-10/
LOCATION:Fellowsip Hall – First Presbyterian Church\, 301 Central Ave\, Whitefish\, MT\, 59937\, United States
CATEGORIES:Mens Group
ATTACH;FMTTYPE=image/jpeg:https://fpcwhitefish.org/wp-content/uploads/2024/04/Mens-Breakfast.jpg
END:VEVENT
BEGIN:VEVENT
DTSTART;TZID=America/Phoenix:20261111T100000
DTEND;TZID=America/Phoenix:20261111T110000
DTSTAMP:20260424T012257
CREATED:20260409T190533Z
LAST-MODIFIED:20260409T190533Z
UID:10006549-1794391200-1794394800@fpcwhitefish.org
SUMMARY:Wednesday Women's Bible Study
DESCRIPTION:
URL:https://fpcwhitefish.org/event/wednesday-womens-bible-study/2026-11-11/
LOCATION:Fellowsip Hall – First Presbyterian Church\, 301 Central Ave\, Whitefish\, MT\, 59937\, United States
CATEGORIES:Womans Group
ATTACH;FMTTYPE=image/png:https://fpcwhitefish.org/wp-content/uploads/2026/03/Ladies-AM-Bible-Study.png
END:VEVENT
BEGIN:VEVENT
DTSTART;TZID=America/Phoenix:20261111T150000
DTEND;TZID=America/Phoenix:20261111T163000
DTSTAMP:20260424T012257
CREATED:20250924T155428Z
LAST-MODIFIED:20260115T171522Z
UID:10005889-1794409200-1794414600@fpcwhitefish.org
SUMMARY:Base Camp 406
DESCRIPTION:
URL:https://fpcwhitefish.org/event/base-camp-406/2026-11-11/
LOCATION:MT
CATEGORIES:Youth Group
ATTACH;FMTTYPE=image/png:https://fpcwhitefish.org/wp-content/uploads/2025/12/Basecamp-406-Social.png
END:VEVENT
BEGIN:VEVENT
DTSTART;TZID=America/Phoenix:20261111T190000
DTEND;TZID=America/Phoenix:20261111T200000
DTSTAMP:20260424T012257
CREATED:20250827T180711Z
LAST-MODIFIED:20250827T180711Z
UID:10005356-1794423600-1794427200@fpcwhitefish.org
SUMMARY:Choir Practice
DESCRIPTION:Choir practice will take place in the Sanctuary every Wednesday at 7:00 p.m. All are welcome. Please enter the glass doors on 3rd Ave and head up the stairs.
URL:https://fpcwhitefish.org/event/choir-practice/2026-11-11/
LOCATION:First Presbyterian Church\, 301 Central Ave\, Whitefish\, MT\, 59937-8457\, United States
CATEGORIES:Family
ATTACH;FMTTYPE=image/jpeg:https://fpcwhitefish.org/wp-content/uploads/2023/05/Easter-Sunday_choir800px.jpg
ORGANIZER;CN="Alma Ramlow":MAILTO:info@fpcwhitefish.org
END:VEVENT
BEGIN:VEVENT
DTSTART;TZID=America/Phoenix:20261112T100000
DTEND;TZID=America/Phoenix:20261112T110000
DTSTAMP:20260424T012257
CREATED:20250827T180101Z
LAST-MODIFIED:20250827T180101Z
UID:10005096-1794477600-1794481200@fpcwhitefish.org
SUMMARY:Women's Bible Study
DESCRIPTION:Join us every Thursday morning at 10 am for Bible Study and Fellowship. All ladies are welcome to attend. Enter the glass door on 3rd Ave and head up the stairs to Fellowship Hall.
URL:https://fpcwhitefish.org/event/womens-bible-study/2026-11-12/
LOCATION:Fellowsip Hall – First Presbyterian Church\, 301 Central Ave\, Whitefish\, MT\, 59937\, United States
CATEGORIES:Womans Group
ATTACH;FMTTYPE=image/png:https://fpcwhitefish.org/wp-content/uploads/2023/06/FPClogo-color-clear-background-_300x300.png
END:VEVENT
BEGIN:VEVENT
DTSTART;TZID=America/Phoenix:20261115T090000
DTEND;TZID=America/Phoenix:20261115T100000
DTSTAMP:20260424T012258
CREATED:20250827T174841Z
LAST-MODIFIED:20250827T174841Z
UID:10004838-1794733200-1794736800@fpcwhitefish.org
SUMMARY:Adult Sunday School
DESCRIPTION:Adult Sunday School located in the Chapel every Sunday before worship service. Please enter the small door (to the right of our Sanctuary doors) on Central Ave.
URL:https://fpcwhitefish.org/event/adult-sunday-school/2026-11-15/
LOCATION:Chapel – First Presbyterian Church
ATTACH;FMTTYPE=image/jpeg:https://fpcwhitefish.org/wp-content/uploads/2023/06/biblerocks-header4-1.jpg
END:VEVENT
BEGIN:VEVENT
DTSTART;TZID=America/Phoenix:20261115T090000
DTEND;TZID=America/Phoenix:20261115T100000
DTSTAMP:20260424T012258
CREATED:20250919T180306Z
LAST-MODIFIED:20250924T154135Z
UID:10005626-1794733200-1794736800@fpcwhitefish.org
SUMMARY:Youth Bible Study
DESCRIPTION:Youth bible study for grades 6-12 will take place Sunday morning at 9am.  Grab a hot cocoa in the main office and join us! Light breakfast snacks will be served or feel free to bring your own.
URL:https://fpcwhitefish.org/event/youth-bible-study/2026-11-15/
LOCATION:First Presbyterian Church\, 301 Central Ave\, Whitefish\, MT\, 59937-8457\, United States
CATEGORIES:Youth Group
ATTACH;FMTTYPE=image/jpeg:https://fpcwhitefish.org/wp-content/uploads/2025/06/FPC-kids-board-to-hold-1.jpg
END:VEVENT
BEGIN:VEVENT
DTSTART;TZID=America/Phoenix:20261117T080000
DTEND;TZID=America/Phoenix:20261117T090000
DTSTAMP:20260424T012258
CREATED:20240411T155941Z
LAST-MODIFIED:20260312T205714Z
UID:10006282-1794902400-1794906000@fpcwhitefish.org
SUMMARY:Men's Bible Study & Breakfast
DESCRIPTION:Join us every Tuesday morning for a delicious breakfast and fellowship.
URL:https://fpcwhitefish.org/event/mens-bible-study-breakfast-19/2026-11-17/
LOCATION:Fellowsip Hall – First Presbyterian Church\, 301 Central Ave\, Whitefish\, MT\, 59937\, United States
CATEGORIES:Mens Group
ATTACH;FMTTYPE=image/jpeg:https://fpcwhitefish.org/wp-content/uploads/2024/04/Mens-Breakfast.jpg
END:VEVENT
END:VCALENDAR