BEGIN:VCALENDAR
VERSION:2.0
PRODID:-//First Presbyterian Church of Whitefish - ECPv6.15.20//NONSGML v1.0//EN
CALSCALE:GREGORIAN
METHOD:PUBLISH
X-WR-CALNAME:First Presbyterian Church of Whitefish
X-ORIGINAL-URL:https://fpcwhitefish.org
X-WR-CALDESC:Events for First Presbyterian Church of Whitefish
REFRESH-INTERVAL;VALUE=DURATION:PT1H
X-Robots-Tag:noindex
X-PUBLISHED-TTL:PT1H
BEGIN:VTIMEZONE
TZID:America/Phoenix
BEGIN:STANDARD
TZOFFSETFROM:-0700
TZOFFSETTO:-0700
TZNAME:MST
DTSTART:20250101T000000
END:STANDARD
END:VTIMEZONE
BEGIN:VEVENT
DTSTART;TZID=America/Phoenix:20260513T150000
DTEND;TZID=America/Phoenix:20260513T163000
DTSTAMP:20260421T103240
CREATED:20250924T155428Z
LAST-MODIFIED:20260115T171522Z
UID:10005863-1778684400-1778689800@fpcwhitefish.org
SUMMARY:Base Camp 406
DESCRIPTION:
URL:https://fpcwhitefish.org/event/base-camp-406/2026-05-13/
LOCATION:MT
CATEGORIES:Youth Group
ATTACH;FMTTYPE=image/png:https://fpcwhitefish.org/wp-content/uploads/2025/12/Basecamp-406-Social.png
END:VEVENT
BEGIN:VEVENT
DTSTART;TZID=America/Phoenix:20260513T190000
DTEND;TZID=America/Phoenix:20260513T200000
DTSTAMP:20260421T103240
CREATED:20250827T180711Z
LAST-MODIFIED:20250827T180711Z
UID:10005330-1778698800-1778702400@fpcwhitefish.org
SUMMARY:Choir Practice
DESCRIPTION:Choir practice will take place in the Sanctuary every Wednesday at 7:00 p.m. All are welcome. Please enter the glass doors on 3rd Ave and head up the stairs.
URL:https://fpcwhitefish.org/event/choir-practice/2026-05-13/
LOCATION:First Presbyterian Church\, 301 Central Ave\, Whitefish\, MT\, 59937-8457\, United States
CATEGORIES:Family
ATTACH;FMTTYPE=image/jpeg:https://fpcwhitefish.org/wp-content/uploads/2023/05/Easter-Sunday_choir800px.jpg
ORGANIZER;CN="Alma Ramlow":MAILTO:info@fpcwhitefish.org
END:VEVENT
BEGIN:VEVENT
DTSTART;TZID=America/Phoenix:20260514T100000
DTEND;TZID=America/Phoenix:20260514T110000
DTSTAMP:20260421T103240
CREATED:20250827T180101Z
LAST-MODIFIED:20250827T180101Z
UID:10005070-1778752800-1778756400@fpcwhitefish.org
SUMMARY:Women's Bible Study
DESCRIPTION:Join us every Thursday morning at 10 am for Bible Study and Fellowship. All ladies are welcome to attend. Enter the glass door on 3rd Ave and head up the stairs to Fellowship Hall.
URL:https://fpcwhitefish.org/event/womens-bible-study/2026-05-14/
LOCATION:Fellowsip Hall – First Presbyterian Church\, 301 Central Ave\, Whitefish\, MT\, 59937\, United States
CATEGORIES:Womans Group
ATTACH;FMTTYPE=image/png:https://fpcwhitefish.org/wp-content/uploads/2023/06/FPClogo-color-clear-background-_300x300.png
END:VEVENT
BEGIN:VEVENT
DTSTART;TZID=America/Phoenix:20260515T110000
DTEND;TZID=America/Phoenix:20260515T170000
DTSTAMP:20260421T103240
CREATED:20260409T185353Z
LAST-MODIFIED:20260409T185353Z
UID:10006516-1778842800-1778864400@fpcwhitefish.org
SUMMARY:21st Annual Flower Sale
DESCRIPTION:
URL:https://fpcwhitefish.org/event/21st-annual-flower-sale/
LOCATION:First Presbyterian Church\, 301 Central Ave\, Whitefish\, MT\, 59937-8457\, United States
CATEGORIES:Family
ATTACH;FMTTYPE=image/png:https://fpcwhitefish.org/wp-content/uploads/2026/04/Purple-Floral-Spring-Sale-Poster.png
END:VEVENT
BEGIN:VEVENT
DTSTART;TZID=America/Phoenix:20260516T090000
DTEND;TZID=America/Phoenix:20260516T150000
DTSTAMP:20260421T103240
CREATED:20260409T185459Z
LAST-MODIFIED:20260409T185459Z
UID:10006517-1778922000-1778943600@fpcwhitefish.org
SUMMARY:21st Annual Flower Sale
DESCRIPTION:
URL:https://fpcwhitefish.org/event/21st-annual-flower-sale-2/
LOCATION:First Presbyterian Church\, 301 Central Ave\, Whitefish\, MT\, 59937-8457\, United States
CATEGORIES:Family
ATTACH;FMTTYPE=image/png:https://fpcwhitefish.org/wp-content/uploads/2026/04/Purple-Floral-Spring-Sale-Poster.png
END:VEVENT
BEGIN:VEVENT
DTSTART;TZID=America/Phoenix:20260517T090000
DTEND;TZID=America/Phoenix:20260517T100000
DTSTAMP:20260421T103240
CREATED:20250827T174841Z
LAST-MODIFIED:20250827T174841Z
UID:10004812-1779008400-1779012000@fpcwhitefish.org
SUMMARY:Adult Sunday School
DESCRIPTION:Adult Sunday School located in the Chapel every Sunday before worship service. Please enter the small door (to the right of our Sanctuary doors) on Central Ave.
URL:https://fpcwhitefish.org/event/adult-sunday-school/2026-05-17/
LOCATION:Chapel – First Presbyterian Church
ATTACH;FMTTYPE=image/jpeg:https://fpcwhitefish.org/wp-content/uploads/2023/06/biblerocks-header4-1.jpg
END:VEVENT
BEGIN:VEVENT
DTSTART;TZID=America/Phoenix:20260517T090000
DTEND;TZID=America/Phoenix:20260517T100000
DTSTAMP:20260421T103240
CREATED:20250919T180306Z
LAST-MODIFIED:20250924T154135Z
UID:10005600-1779008400-1779012000@fpcwhitefish.org
SUMMARY:Youth Bible Study
DESCRIPTION:Youth bible study for grades 6-12 will take place Sunday morning at 9am.  Grab a hot cocoa in the main office and join us! Light breakfast snacks will be served or feel free to bring your own.
URL:https://fpcwhitefish.org/event/youth-bible-study/2026-05-17/
LOCATION:First Presbyterian Church\, 301 Central Ave\, Whitefish\, MT\, 59937-8457\, United States
CATEGORIES:Youth Group
ATTACH;FMTTYPE=image/jpeg:https://fpcwhitefish.org/wp-content/uploads/2025/06/FPC-kids-board-to-hold-1.jpg
END:VEVENT
BEGIN:VEVENT
DTSTART;TZID=America/Phoenix:20260519T080000
DTEND;TZID=America/Phoenix:20260519T090000
DTSTAMP:20260421T103240
CREATED:20240411T155941Z
LAST-MODIFIED:20260312T205714Z
UID:10006256-1779177600-1779181200@fpcwhitefish.org
SUMMARY:Men's Bible Study & Breakfast
DESCRIPTION:Join us every Tuesday morning for a delicious breakfast and fellowship.
URL:https://fpcwhitefish.org/event/mens-bible-study-breakfast-19/2026-05-19/
LOCATION:Fellowsip Hall – First Presbyterian Church\, 301 Central Ave\, Whitefish\, MT\, 59937\, United States
CATEGORIES:Mens Group
ATTACH;FMTTYPE=image/jpeg:https://fpcwhitefish.org/wp-content/uploads/2024/04/Mens-Breakfast.jpg
END:VEVENT
BEGIN:VEVENT
DTSTART;TZID=America/Phoenix:20260519T130000
DTEND;TZID=America/Phoenix:20260519T143000
DTSTAMP:20260421T103240
CREATED:20250314T162050Z
LAST-MODIFIED:20251204T185149Z
UID:10005563-1779195600-1779201000@fpcwhitefish.org
SUMMARY:Presbyterian Women
DESCRIPTION:Presbyterian Women gather every 3rd Tuesday of the month at 1:00 p.m. in Fellowship Hall. Please enter through the glass doors on 3rd Ave and head up the stairs to Fellowship Hall. All women are welcome to attend!
URL:https://fpcwhitefish.org/event/presbyterian-women/2026-05-19/
LOCATION:Fellowsip Hall – First Presbyterian Church\, 301 Central Ave\, Whitefish\, MT\, 59937\, United States
CATEGORIES:Womans Group
ATTACH;FMTTYPE=image/jpeg:https://fpcwhitefish.org/wp-content/uploads/2023/07/PW.jpg
ORGANIZER;CN="Susan Tate":MAILTO:info@fpcwhitefish.org
END:VEVENT
BEGIN:VEVENT
DTSTART;TZID=America/Phoenix:20260520T100000
DTEND;TZID=America/Phoenix:20260520T110000
DTSTAMP:20260421T103240
CREATED:20260409T190533Z
LAST-MODIFIED:20260409T190533Z
UID:10006524-1779271200-1779274800@fpcwhitefish.org
SUMMARY:Wednesday Women's Bible Study
DESCRIPTION:
URL:https://fpcwhitefish.org/event/wednesday-womens-bible-study/2026-05-20/
LOCATION:Fellowsip Hall – First Presbyterian Church\, 301 Central Ave\, Whitefish\, MT\, 59937\, United States
CATEGORIES:Womans Group
ATTACH;FMTTYPE=image/png:https://fpcwhitefish.org/wp-content/uploads/2026/03/Ladies-AM-Bible-Study.png
END:VEVENT
BEGIN:VEVENT
DTSTART;TZID=America/Phoenix:20260520T150000
DTEND;TZID=America/Phoenix:20260520T163000
DTSTAMP:20260421T103240
CREATED:20250924T155428Z
LAST-MODIFIED:20260115T171522Z
UID:10005864-1779289200-1779294600@fpcwhitefish.org
SUMMARY:Base Camp 406
DESCRIPTION:
URL:https://fpcwhitefish.org/event/base-camp-406/2026-05-20/
LOCATION:MT
CATEGORIES:Youth Group
ATTACH;FMTTYPE=image/png:https://fpcwhitefish.org/wp-content/uploads/2025/12/Basecamp-406-Social.png
END:VEVENT
BEGIN:VEVENT
DTSTART;TZID=America/Phoenix:20260520T190000
DTEND;TZID=America/Phoenix:20260520T200000
DTSTAMP:20260421T103240
CREATED:20250827T180711Z
LAST-MODIFIED:20250827T180711Z
UID:10005331-1779303600-1779307200@fpcwhitefish.org
SUMMARY:Choir Practice
DESCRIPTION:Choir practice will take place in the Sanctuary every Wednesday at 7:00 p.m. All are welcome. Please enter the glass doors on 3rd Ave and head up the stairs.
URL:https://fpcwhitefish.org/event/choir-practice/2026-05-20/
LOCATION:First Presbyterian Church\, 301 Central Ave\, Whitefish\, MT\, 59937-8457\, United States
CATEGORIES:Family
ATTACH;FMTTYPE=image/jpeg:https://fpcwhitefish.org/wp-content/uploads/2023/05/Easter-Sunday_choir800px.jpg
ORGANIZER;CN="Alma Ramlow":MAILTO:info@fpcwhitefish.org
END:VEVENT
BEGIN:VEVENT
DTSTART;TZID=America/Phoenix:20260521T100000
DTEND;TZID=America/Phoenix:20260521T110000
DTSTAMP:20260421T103240
CREATED:20250827T180101Z
LAST-MODIFIED:20250827T180101Z
UID:10005071-1779357600-1779361200@fpcwhitefish.org
SUMMARY:Women's Bible Study
DESCRIPTION:Join us every Thursday morning at 10 am for Bible Study and Fellowship. All ladies are welcome to attend. Enter the glass door on 3rd Ave and head up the stairs to Fellowship Hall.
URL:https://fpcwhitefish.org/event/womens-bible-study/2026-05-21/
LOCATION:Fellowsip Hall – First Presbyterian Church\, 301 Central Ave\, Whitefish\, MT\, 59937\, United States
CATEGORIES:Womans Group
ATTACH;FMTTYPE=image/png:https://fpcwhitefish.org/wp-content/uploads/2023/06/FPClogo-color-clear-background-_300x300.png
END:VEVENT
BEGIN:VEVENT
DTSTART;TZID=America/Phoenix:20260524T090000
DTEND;TZID=America/Phoenix:20260524T100000
DTSTAMP:20260421T103240
CREATED:20250827T174841Z
LAST-MODIFIED:20250827T174841Z
UID:10004813-1779613200-1779616800@fpcwhitefish.org
SUMMARY:Adult Sunday School
DESCRIPTION:Adult Sunday School located in the Chapel every Sunday before worship service. Please enter the small door (to the right of our Sanctuary doors) on Central Ave.
URL:https://fpcwhitefish.org/event/adult-sunday-school/2026-05-24/
LOCATION:Chapel – First Presbyterian Church
ATTACH;FMTTYPE=image/jpeg:https://fpcwhitefish.org/wp-content/uploads/2023/06/biblerocks-header4-1.jpg
END:VEVENT
BEGIN:VEVENT
DTSTART;TZID=America/Phoenix:20260524T090000
DTEND;TZID=America/Phoenix:20260524T100000
DTSTAMP:20260421T103240
CREATED:20250919T180306Z
LAST-MODIFIED:20250924T154135Z
UID:10005601-1779613200-1779616800@fpcwhitefish.org
SUMMARY:Youth Bible Study
DESCRIPTION:Youth bible study for grades 6-12 will take place Sunday morning at 9am.  Grab a hot cocoa in the main office and join us! Light breakfast snacks will be served or feel free to bring your own.
URL:https://fpcwhitefish.org/event/youth-bible-study/2026-05-24/
LOCATION:First Presbyterian Church\, 301 Central Ave\, Whitefish\, MT\, 59937-8457\, United States
CATEGORIES:Youth Group
ATTACH;FMTTYPE=image/jpeg:https://fpcwhitefish.org/wp-content/uploads/2025/06/FPC-kids-board-to-hold-1.jpg
END:VEVENT
BEGIN:VEVENT
DTSTART;TZID=America/Phoenix:20260526T080000
DTEND;TZID=America/Phoenix:20260526T090000
DTSTAMP:20260421T103240
CREATED:20240411T155941Z
LAST-MODIFIED:20260312T205714Z
UID:10006257-1779782400-1779786000@fpcwhitefish.org
SUMMARY:Men's Bible Study & Breakfast
DESCRIPTION:Join us every Tuesday morning for a delicious breakfast and fellowship.
URL:https://fpcwhitefish.org/event/mens-bible-study-breakfast-19/2026-05-26/
LOCATION:Fellowsip Hall – First Presbyterian Church\, 301 Central Ave\, Whitefish\, MT\, 59937\, United States
CATEGORIES:Mens Group
ATTACH;FMTTYPE=image/jpeg:https://fpcwhitefish.org/wp-content/uploads/2024/04/Mens-Breakfast.jpg
END:VEVENT
BEGIN:VEVENT
DTSTART;TZID=America/Phoenix:20260527T100000
DTEND;TZID=America/Phoenix:20260527T110000
DTSTAMP:20260421T103240
CREATED:20260409T190533Z
LAST-MODIFIED:20260409T190533Z
UID:10006525-1779876000-1779879600@fpcwhitefish.org
SUMMARY:Wednesday Women's Bible Study
DESCRIPTION:
URL:https://fpcwhitefish.org/event/wednesday-womens-bible-study/2026-05-27/
LOCATION:Fellowsip Hall – First Presbyterian Church\, 301 Central Ave\, Whitefish\, MT\, 59937\, United States
CATEGORIES:Womans Group
ATTACH;FMTTYPE=image/png:https://fpcwhitefish.org/wp-content/uploads/2026/03/Ladies-AM-Bible-Study.png
END:VEVENT
BEGIN:VEVENT
DTSTART;TZID=America/Phoenix:20260527T150000
DTEND;TZID=America/Phoenix:20260527T163000
DTSTAMP:20260421T103240
CREATED:20250924T155428Z
LAST-MODIFIED:20260115T171522Z
UID:10005865-1779894000-1779899400@fpcwhitefish.org
SUMMARY:Base Camp 406
DESCRIPTION:
URL:https://fpcwhitefish.org/event/base-camp-406/2026-05-27/
LOCATION:MT
CATEGORIES:Youth Group
ATTACH;FMTTYPE=image/png:https://fpcwhitefish.org/wp-content/uploads/2025/12/Basecamp-406-Social.png
END:VEVENT
BEGIN:VEVENT
DTSTART;TZID=America/Phoenix:20260527T190000
DTEND;TZID=America/Phoenix:20260527T200000
DTSTAMP:20260421T103240
CREATED:20250827T180711Z
LAST-MODIFIED:20250827T180711Z
UID:10005332-1779908400-1779912000@fpcwhitefish.org
SUMMARY:Choir Practice
DESCRIPTION:Choir practice will take place in the Sanctuary every Wednesday at 7:00 p.m. All are welcome. Please enter the glass doors on 3rd Ave and head up the stairs.
URL:https://fpcwhitefish.org/event/choir-practice/2026-05-27/
LOCATION:First Presbyterian Church\, 301 Central Ave\, Whitefish\, MT\, 59937-8457\, United States
CATEGORIES:Family
ATTACH;FMTTYPE=image/jpeg:https://fpcwhitefish.org/wp-content/uploads/2023/05/Easter-Sunday_choir800px.jpg
ORGANIZER;CN="Alma Ramlow":MAILTO:info@fpcwhitefish.org
END:VEVENT
BEGIN:VEVENT
DTSTART;TZID=America/Phoenix:20260528T100000
DTEND;TZID=America/Phoenix:20260528T110000
DTSTAMP:20260421T103241
CREATED:20250827T180101Z
LAST-MODIFIED:20250827T180101Z
UID:10005072-1779962400-1779966000@fpcwhitefish.org
SUMMARY:Women's Bible Study
DESCRIPTION:Join us every Thursday morning at 10 am for Bible Study and Fellowship. All ladies are welcome to attend. Enter the glass door on 3rd Ave and head up the stairs to Fellowship Hall.
URL:https://fpcwhitefish.org/event/womens-bible-study/2026-05-28/
LOCATION:Fellowsip Hall – First Presbyterian Church\, 301 Central Ave\, Whitefish\, MT\, 59937\, United States
CATEGORIES:Womans Group
ATTACH;FMTTYPE=image/png:https://fpcwhitefish.org/wp-content/uploads/2023/06/FPClogo-color-clear-background-_300x300.png
END:VEVENT
BEGIN:VEVENT
DTSTART;TZID=America/Phoenix:20260531T090000
DTEND;TZID=America/Phoenix:20260531T100000
DTSTAMP:20260421T103241
CREATED:20250827T174841Z
LAST-MODIFIED:20250827T174841Z
UID:10004814-1780218000-1780221600@fpcwhitefish.org
SUMMARY:Adult Sunday School
DESCRIPTION:Adult Sunday School located in the Chapel every Sunday before worship service. Please enter the small door (to the right of our Sanctuary doors) on Central Ave.
URL:https://fpcwhitefish.org/event/adult-sunday-school/2026-05-31/
LOCATION:Chapel – First Presbyterian Church
ATTACH;FMTTYPE=image/jpeg:https://fpcwhitefish.org/wp-content/uploads/2023/06/biblerocks-header4-1.jpg
END:VEVENT
BEGIN:VEVENT
DTSTART;TZID=America/Phoenix:20260531T090000
DTEND;TZID=America/Phoenix:20260531T100000
DTSTAMP:20260421T103241
CREATED:20250919T180306Z
LAST-MODIFIED:20250924T154135Z
UID:10005602-1780218000-1780221600@fpcwhitefish.org
SUMMARY:Youth Bible Study
DESCRIPTION:Youth bible study for grades 6-12 will take place Sunday morning at 9am.  Grab a hot cocoa in the main office and join us! Light breakfast snacks will be served or feel free to bring your own.
URL:https://fpcwhitefish.org/event/youth-bible-study/2026-05-31/
LOCATION:First Presbyterian Church\, 301 Central Ave\, Whitefish\, MT\, 59937-8457\, United States
CATEGORIES:Youth Group
ATTACH;FMTTYPE=image/jpeg:https://fpcwhitefish.org/wp-content/uploads/2025/06/FPC-kids-board-to-hold-1.jpg
END:VEVENT
BEGIN:VEVENT
DTSTART;TZID=America/Phoenix:20260602T080000
DTEND;TZID=America/Phoenix:20260602T090000
DTSTAMP:20260421T103241
CREATED:20240411T155941Z
LAST-MODIFIED:20260312T205714Z
UID:10006258-1780387200-1780390800@fpcwhitefish.org
SUMMARY:Men's Bible Study & Breakfast
DESCRIPTION:Join us every Tuesday morning for a delicious breakfast and fellowship.
URL:https://fpcwhitefish.org/event/mens-bible-study-breakfast-19/2026-06-02/
LOCATION:Fellowsip Hall – First Presbyterian Church\, 301 Central Ave\, Whitefish\, MT\, 59937\, United States
CATEGORIES:Mens Group
ATTACH;FMTTYPE=image/jpeg:https://fpcwhitefish.org/wp-content/uploads/2024/04/Mens-Breakfast.jpg
END:VEVENT
BEGIN:VEVENT
DTSTART;TZID=America/Phoenix:20260603T100000
DTEND;TZID=America/Phoenix:20260603T110000
DTSTAMP:20260421T103241
CREATED:20260409T190533Z
LAST-MODIFIED:20260409T190533Z
UID:10006526-1780480800-1780484400@fpcwhitefish.org
SUMMARY:Wednesday Women's Bible Study
DESCRIPTION:
URL:https://fpcwhitefish.org/event/wednesday-womens-bible-study/2026-06-03/
LOCATION:Fellowsip Hall – First Presbyterian Church\, 301 Central Ave\, Whitefish\, MT\, 59937\, United States
CATEGORIES:Womans Group
ATTACH;FMTTYPE=image/png:https://fpcwhitefish.org/wp-content/uploads/2026/03/Ladies-AM-Bible-Study.png
END:VEVENT
BEGIN:VEVENT
DTSTART;TZID=America/Phoenix:20260603T150000
DTEND;TZID=America/Phoenix:20260603T163000
DTSTAMP:20260421T103241
CREATED:20250924T155428Z
LAST-MODIFIED:20260115T171522Z
UID:10005866-1780498800-1780504200@fpcwhitefish.org
SUMMARY:Base Camp 406
DESCRIPTION:
URL:https://fpcwhitefish.org/event/base-camp-406/2026-06-03/
LOCATION:MT
CATEGORIES:Youth Group
ATTACH;FMTTYPE=image/png:https://fpcwhitefish.org/wp-content/uploads/2025/12/Basecamp-406-Social.png
END:VEVENT
BEGIN:VEVENT
DTSTART;TZID=America/Phoenix:20260603T190000
DTEND;TZID=America/Phoenix:20260603T200000
DTSTAMP:20260421T103241
CREATED:20250827T180711Z
LAST-MODIFIED:20250827T180711Z
UID:10005333-1780513200-1780516800@fpcwhitefish.org
SUMMARY:Choir Practice
DESCRIPTION:Choir practice will take place in the Sanctuary every Wednesday at 7:00 p.m. All are welcome. Please enter the glass doors on 3rd Ave and head up the stairs.
URL:https://fpcwhitefish.org/event/choir-practice/2026-06-03/
LOCATION:First Presbyterian Church\, 301 Central Ave\, Whitefish\, MT\, 59937-8457\, United States
CATEGORIES:Family
ATTACH;FMTTYPE=image/jpeg:https://fpcwhitefish.org/wp-content/uploads/2023/05/Easter-Sunday_choir800px.jpg
ORGANIZER;CN="Alma Ramlow":MAILTO:info@fpcwhitefish.org
END:VEVENT
BEGIN:VEVENT
DTSTART;TZID=America/Phoenix:20260604T100000
DTEND;TZID=America/Phoenix:20260604T110000
DTSTAMP:20260421T103241
CREATED:20250827T180101Z
LAST-MODIFIED:20250827T180101Z
UID:10005073-1780567200-1780570800@fpcwhitefish.org
SUMMARY:Women's Bible Study
DESCRIPTION:Join us every Thursday morning at 10 am for Bible Study and Fellowship. All ladies are welcome to attend. Enter the glass door on 3rd Ave and head up the stairs to Fellowship Hall.
URL:https://fpcwhitefish.org/event/womens-bible-study/2026-06-04/
LOCATION:Fellowsip Hall – First Presbyterian Church\, 301 Central Ave\, Whitefish\, MT\, 59937\, United States
CATEGORIES:Womans Group
ATTACH;FMTTYPE=image/png:https://fpcwhitefish.org/wp-content/uploads/2023/06/FPClogo-color-clear-background-_300x300.png
END:VEVENT
BEGIN:VEVENT
DTSTART;TZID=America/Phoenix:20260607T090000
DTEND;TZID=America/Phoenix:20260607T100000
DTSTAMP:20260421T103241
CREATED:20250827T174841Z
LAST-MODIFIED:20250827T174841Z
UID:10004815-1780822800-1780826400@fpcwhitefish.org
SUMMARY:Adult Sunday School
DESCRIPTION:Adult Sunday School located in the Chapel every Sunday before worship service. Please enter the small door (to the right of our Sanctuary doors) on Central Ave.
URL:https://fpcwhitefish.org/event/adult-sunday-school/2026-06-07/
LOCATION:Chapel – First Presbyterian Church
ATTACH;FMTTYPE=image/jpeg:https://fpcwhitefish.org/wp-content/uploads/2023/06/biblerocks-header4-1.jpg
END:VEVENT
BEGIN:VEVENT
DTSTART;TZID=America/Phoenix:20260607T090000
DTEND;TZID=America/Phoenix:20260607T100000
DTSTAMP:20260421T103241
CREATED:20250919T180306Z
LAST-MODIFIED:20250924T154135Z
UID:10005603-1780822800-1780826400@fpcwhitefish.org
SUMMARY:Youth Bible Study
DESCRIPTION:Youth bible study for grades 6-12 will take place Sunday morning at 9am.  Grab a hot cocoa in the main office and join us! Light breakfast snacks will be served or feel free to bring your own.
URL:https://fpcwhitefish.org/event/youth-bible-study/2026-06-07/
LOCATION:First Presbyterian Church\, 301 Central Ave\, Whitefish\, MT\, 59937-8457\, United States
CATEGORIES:Youth Group
ATTACH;FMTTYPE=image/jpeg:https://fpcwhitefish.org/wp-content/uploads/2025/06/FPC-kids-board-to-hold-1.jpg
END:VEVENT
BEGIN:VEVENT
DTSTART;TZID=America/Phoenix:20260609T080000
DTEND;TZID=America/Phoenix:20260609T090000
DTSTAMP:20260421T103241
CREATED:20240411T155941Z
LAST-MODIFIED:20260312T205714Z
UID:10006259-1780992000-1780995600@fpcwhitefish.org
SUMMARY:Men's Bible Study & Breakfast
DESCRIPTION:Join us every Tuesday morning for a delicious breakfast and fellowship.
URL:https://fpcwhitefish.org/event/mens-bible-study-breakfast-19/2026-06-09/
LOCATION:Fellowsip Hall – First Presbyterian Church\, 301 Central Ave\, Whitefish\, MT\, 59937\, United States
CATEGORIES:Mens Group
ATTACH;FMTTYPE=image/jpeg:https://fpcwhitefish.org/wp-content/uploads/2024/04/Mens-Breakfast.jpg
END:VEVENT
END:VCALENDAR