BEGIN:VCALENDAR
VERSION:2.0
PRODID:-//First Presbyterian Church of Whitefish - ECPv6.15.20//NONSGML v1.0//EN
CALSCALE:GREGORIAN
METHOD:PUBLISH
X-ORIGINAL-URL:https://fpcwhitefish.org
X-WR-CALDESC:Events for First Presbyterian Church of Whitefish
REFRESH-INTERVAL;VALUE=DURATION:PT1H
X-Robots-Tag:noindex
X-PUBLISHED-TTL:PT1H
BEGIN:VTIMEZONE
TZID:America/Phoenix
BEGIN:STANDARD
TZOFFSETFROM:-0700
TZOFFSETTO:-0700
TZNAME:MST
DTSTART:20250101T000000
END:STANDARD
END:VTIMEZONE
BEGIN:VEVENT
DTSTART;TZID=America/Phoenix:20260405T090000
DTEND;TZID=America/Phoenix:20260405T100000
DTSTAMP:20260421T050402
CREATED:20250827T174841Z
LAST-MODIFIED:20250827T174841Z
UID:10004806-1775379600-1775383200@fpcwhitefish.org
SUMMARY:Adult Sunday School
DESCRIPTION:Adult Sunday School located in the Chapel every Sunday before worship service. Please enter the small door (to the right of our Sanctuary doors) on Central Ave.
URL:https://fpcwhitefish.org/event/adult-sunday-school/2026-04-05/
LOCATION:Chapel – First Presbyterian Church
ATTACH;FMTTYPE=image/jpeg:https://fpcwhitefish.org/wp-content/uploads/2023/06/biblerocks-header4-1.jpg
END:VEVENT
BEGIN:VEVENT
DTSTART;TZID=America/Phoenix:20260405T090000
DTEND;TZID=America/Phoenix:20260405T100000
DTSTAMP:20260421T050402
CREATED:20250919T180306Z
LAST-MODIFIED:20250924T154135Z
UID:10005594-1775379600-1775383200@fpcwhitefish.org
SUMMARY:Youth Bible Study
DESCRIPTION:Youth bible study for grades 6-12 will take place Sunday morning at 9am.  Grab a hot cocoa in the main office and join us! Light breakfast snacks will be served or feel free to bring your own.
URL:https://fpcwhitefish.org/event/youth-bible-study/2026-04-05/
LOCATION:First Presbyterian Church\, 301 Central Ave\, Whitefish\, MT\, 59937-8457\, United States
CATEGORIES:Youth Group
ATTACH;FMTTYPE=image/jpeg:https://fpcwhitefish.org/wp-content/uploads/2025/06/FPC-kids-board-to-hold-1.jpg
END:VEVENT
BEGIN:VEVENT
DTSTART;TZID=America/Phoenix:20260405T100000
DTEND;TZID=America/Phoenix:20260405T233000
DTSTAMP:20260421T050402
CREATED:20250409T171058Z
LAST-MODIFIED:20260312T205213Z
UID:10004392-1775383200-1775431800@fpcwhitefish.org
SUMMARY:10 am Easter Service followed by an Easter Egg Hunt
DESCRIPTION:Join us Easter Sunday! Worship service begins at 10am followed by an Easter Egg hunt. \nBring a Basket!
URL:https://fpcwhitefish.org/event/10-am-easter-service-followed-by-an-easter-egg-hunt/
LOCATION:First Presbyterian Church\, 301 Central Ave\, Whitefish\, MT\, 59937-8457\, United States
CATEGORIES:Family
ATTACH;FMTTYPE=image/heic:https://fpcwhitefish.org/wp-content/uploads/2025/04/IMG_9640.jpg
END:VEVENT
BEGIN:VEVENT
DTSTART;TZID=America/Phoenix:20260405T113000
DTEND;TZID=America/Phoenix:20260405T120000
DTSTAMP:20260421T050402
CREATED:20260326T164642Z
LAST-MODIFIED:20260326T164654Z
UID:10006511-1775388600-1775390400@fpcwhitefish.org
SUMMARY:Easter Egg Hunt Following Worship Service
DESCRIPTION:We will meet on the church steps following service and walk down to Kay Beller Park together.
URL:https://fpcwhitefish.org/event/easter-egg-hunt-following-worship-service/
LOCATION:First Presbyterian Church\, 301 Central Ave\, Whitefish\, MT\, 59937-8457\, United States
END:VEVENT
BEGIN:VEVENT
DTSTART;TZID=America/Phoenix:20260407T080000
DTEND;TZID=America/Phoenix:20260407T090000
DTSTAMP:20260421T050402
CREATED:20240411T155941Z
LAST-MODIFIED:20260312T205714Z
UID:10006250-1775548800-1775552400@fpcwhitefish.org
SUMMARY:Men's Bible Study & Breakfast
DESCRIPTION:Join us every Tuesday morning for a delicious breakfast and fellowship.
URL:https://fpcwhitefish.org/event/mens-bible-study-breakfast-19/2026-04-07/
LOCATION:Fellowsip Hall – First Presbyterian Church\, 301 Central Ave\, Whitefish\, MT\, 59937\, United States
CATEGORIES:Mens Group
ATTACH;FMTTYPE=image/jpeg:https://fpcwhitefish.org/wp-content/uploads/2024/04/Mens-Breakfast.jpg
END:VEVENT
BEGIN:VEVENT
DTSTART;TZID=America/Phoenix:20260408T150000
DTEND;TZID=America/Phoenix:20260408T163000
DTSTAMP:20260421T050402
CREATED:20250924T155428Z
LAST-MODIFIED:20260115T171522Z
UID:10005858-1775660400-1775665800@fpcwhitefish.org
SUMMARY:Base Camp 406
DESCRIPTION:
URL:https://fpcwhitefish.org/event/base-camp-406/2026-04-08/
LOCATION:MT
CATEGORIES:Youth Group
ATTACH;FMTTYPE=image/png:https://fpcwhitefish.org/wp-content/uploads/2025/12/Basecamp-406-Social.png
END:VEVENT
BEGIN:VEVENT
DTSTART;TZID=America/Phoenix:20260408T190000
DTEND;TZID=America/Phoenix:20260408T200000
DTSTAMP:20260421T050402
CREATED:20250827T180711Z
LAST-MODIFIED:20250827T180711Z
UID:10005325-1775674800-1775678400@fpcwhitefish.org
SUMMARY:Choir Practice
DESCRIPTION:Choir practice will take place in the Sanctuary every Wednesday at 7:00 p.m. All are welcome. Please enter the glass doors on 3rd Ave and head up the stairs.
URL:https://fpcwhitefish.org/event/choir-practice/2026-04-08/
LOCATION:First Presbyterian Church\, 301 Central Ave\, Whitefish\, MT\, 59937-8457\, United States
CATEGORIES:Family
ATTACH;FMTTYPE=image/jpeg:https://fpcwhitefish.org/wp-content/uploads/2023/05/Easter-Sunday_choir800px.jpg
ORGANIZER;CN="Alma Ramlow":MAILTO:info@fpcwhitefish.org
END:VEVENT
BEGIN:VEVENT
DTSTART;TZID=America/Phoenix:20260409T100000
DTEND;TZID=America/Phoenix:20260409T110000
DTSTAMP:20260421T050402
CREATED:20250827T180101Z
LAST-MODIFIED:20250827T180101Z
UID:10005065-1775728800-1775732400@fpcwhitefish.org
SUMMARY:Women's Bible Study
DESCRIPTION:Join us every Thursday morning at 10 am for Bible Study and Fellowship. All ladies are welcome to attend. Enter the glass door on 3rd Ave and head up the stairs to Fellowship Hall.
URL:https://fpcwhitefish.org/event/womens-bible-study/2026-04-09/
LOCATION:Fellowsip Hall – First Presbyterian Church\, 301 Central Ave\, Whitefish\, MT\, 59937\, United States
CATEGORIES:Womans Group
ATTACH;FMTTYPE=image/png:https://fpcwhitefish.org/wp-content/uploads/2023/06/FPClogo-color-clear-background-_300x300.png
END:VEVENT
BEGIN:VEVENT
DTSTART;TZID=America/Phoenix:20260412T090000
DTEND;TZID=America/Phoenix:20260412T100000
DTSTAMP:20260421T050402
CREATED:20250827T174841Z
LAST-MODIFIED:20250827T174841Z
UID:10004807-1775984400-1775988000@fpcwhitefish.org
SUMMARY:Adult Sunday School
DESCRIPTION:Adult Sunday School located in the Chapel every Sunday before worship service. Please enter the small door (to the right of our Sanctuary doors) on Central Ave.
URL:https://fpcwhitefish.org/event/adult-sunday-school/2026-04-12/
LOCATION:Chapel – First Presbyterian Church
ATTACH;FMTTYPE=image/jpeg:https://fpcwhitefish.org/wp-content/uploads/2023/06/biblerocks-header4-1.jpg
END:VEVENT
BEGIN:VEVENT
DTSTART;TZID=America/Phoenix:20260412T090000
DTEND;TZID=America/Phoenix:20260412T100000
DTSTAMP:20260421T050402
CREATED:20250919T180306Z
LAST-MODIFIED:20250924T154135Z
UID:10005595-1775984400-1775988000@fpcwhitefish.org
SUMMARY:Youth Bible Study
DESCRIPTION:Youth bible study for grades 6-12 will take place Sunday morning at 9am.  Grab a hot cocoa in the main office and join us! Light breakfast snacks will be served or feel free to bring your own.
URL:https://fpcwhitefish.org/event/youth-bible-study/2026-04-12/
LOCATION:First Presbyterian Church\, 301 Central Ave\, Whitefish\, MT\, 59937-8457\, United States
CATEGORIES:Youth Group
ATTACH;FMTTYPE=image/jpeg:https://fpcwhitefish.org/wp-content/uploads/2025/06/FPC-kids-board-to-hold-1.jpg
END:VEVENT
BEGIN:VEVENT
DTSTART;TZID=America/Phoenix:20260413T173000
DTEND;TZID=America/Phoenix:20260413T180000
DTSTAMP:20260421T050402
CREATED:20260409T185710Z
LAST-MODIFIED:20260409T185710Z
UID:10006518-1776101400-1776103200@fpcwhitefish.org
SUMMARY:Alpine Ringers Bell Choir Concert
DESCRIPTION:
URL:https://fpcwhitefish.org/event/alpine-ringers-bell-choir-concert/
LOCATION:Fellowsip Hall – First Presbyterian Church\, 301 Central Ave\, Whitefish\, MT\, 59937\, United States
CATEGORIES:Family
ATTACH;FMTTYPE=image/png:https://fpcwhitefish.org/wp-content/uploads/2026/04/Alpine.png
ORGANIZER;CN="Alma Ramlow":MAILTO:info@fpcwhitefish.org
END:VEVENT
BEGIN:VEVENT
DTSTART;TZID=America/Phoenix:20260414T080000
DTEND;TZID=America/Phoenix:20260414T090000
DTSTAMP:20260421T050402
CREATED:20240411T155941Z
LAST-MODIFIED:20260312T205714Z
UID:10006251-1776153600-1776157200@fpcwhitefish.org
SUMMARY:Men's Bible Study & Breakfast
DESCRIPTION:Join us every Tuesday morning for a delicious breakfast and fellowship.
URL:https://fpcwhitefish.org/event/mens-bible-study-breakfast-19/2026-04-14/
LOCATION:Fellowsip Hall – First Presbyterian Church\, 301 Central Ave\, Whitefish\, MT\, 59937\, United States
CATEGORIES:Mens Group
ATTACH;FMTTYPE=image/jpeg:https://fpcwhitefish.org/wp-content/uploads/2024/04/Mens-Breakfast.jpg
END:VEVENT
BEGIN:VEVENT
DTSTART;TZID=America/Phoenix:20260415T100000
DTEND;TZID=America/Phoenix:20260415T110000
DTSTAMP:20260421T050402
CREATED:20260409T190533Z
LAST-MODIFIED:20260409T190533Z
UID:10006519-1776247200-1776250800@fpcwhitefish.org
SUMMARY:Wednesday Women's Bible Study
DESCRIPTION:
URL:https://fpcwhitefish.org/event/wednesday-womens-bible-study/2026-04-15/
LOCATION:Fellowsip Hall – First Presbyterian Church\, 301 Central Ave\, Whitefish\, MT\, 59937\, United States
CATEGORIES:Womans Group
ATTACH;FMTTYPE=image/png:https://fpcwhitefish.org/wp-content/uploads/2026/03/Ladies-AM-Bible-Study.png
END:VEVENT
BEGIN:VEVENT
DTSTART;TZID=America/Phoenix:20260415T150000
DTEND;TZID=America/Phoenix:20260415T163000
DTSTAMP:20260421T050402
CREATED:20250924T155428Z
LAST-MODIFIED:20260115T171522Z
UID:10005859-1776265200-1776270600@fpcwhitefish.org
SUMMARY:Base Camp 406
DESCRIPTION:
URL:https://fpcwhitefish.org/event/base-camp-406/2026-04-15/
LOCATION:MT
CATEGORIES:Youth Group
ATTACH;FMTTYPE=image/png:https://fpcwhitefish.org/wp-content/uploads/2025/12/Basecamp-406-Social.png
END:VEVENT
BEGIN:VEVENT
DTSTART;TZID=America/Phoenix:20260415T190000
DTEND;TZID=America/Phoenix:20260415T200000
DTSTAMP:20260421T050402
CREATED:20250827T180711Z
LAST-MODIFIED:20250827T180711Z
UID:10005326-1776279600-1776283200@fpcwhitefish.org
SUMMARY:Choir Practice
DESCRIPTION:Choir practice will take place in the Sanctuary every Wednesday at 7:00 p.m. All are welcome. Please enter the glass doors on 3rd Ave and head up the stairs.
URL:https://fpcwhitefish.org/event/choir-practice/2026-04-15/
LOCATION:First Presbyterian Church\, 301 Central Ave\, Whitefish\, MT\, 59937-8457\, United States
CATEGORIES:Family
ATTACH;FMTTYPE=image/jpeg:https://fpcwhitefish.org/wp-content/uploads/2023/05/Easter-Sunday_choir800px.jpg
ORGANIZER;CN="Alma Ramlow":MAILTO:info@fpcwhitefish.org
END:VEVENT
BEGIN:VEVENT
DTSTART;TZID=America/Phoenix:20260416T100000
DTEND;TZID=America/Phoenix:20260416T110000
DTSTAMP:20260421T050402
CREATED:20250827T180101Z
LAST-MODIFIED:20250827T180101Z
UID:10005066-1776333600-1776337200@fpcwhitefish.org
SUMMARY:Women's Bible Study
DESCRIPTION:Join us every Thursday morning at 10 am for Bible Study and Fellowship. All ladies are welcome to attend. Enter the glass door on 3rd Ave and head up the stairs to Fellowship Hall.
URL:https://fpcwhitefish.org/event/womens-bible-study/2026-04-16/
LOCATION:Fellowsip Hall – First Presbyterian Church\, 301 Central Ave\, Whitefish\, MT\, 59937\, United States
CATEGORIES:Womans Group
ATTACH;FMTTYPE=image/png:https://fpcwhitefish.org/wp-content/uploads/2023/06/FPClogo-color-clear-background-_300x300.png
END:VEVENT
BEGIN:VEVENT
DTSTART;TZID=America/Phoenix:20260419T090000
DTEND;TZID=America/Phoenix:20260419T100000
DTSTAMP:20260421T050402
CREATED:20250827T174841Z
LAST-MODIFIED:20250827T174841Z
UID:10004808-1776589200-1776592800@fpcwhitefish.org
SUMMARY:Adult Sunday School
DESCRIPTION:Adult Sunday School located in the Chapel every Sunday before worship service. Please enter the small door (to the right of our Sanctuary doors) on Central Ave.
URL:https://fpcwhitefish.org/event/adult-sunday-school/2026-04-19/
LOCATION:Chapel – First Presbyterian Church
ATTACH;FMTTYPE=image/jpeg:https://fpcwhitefish.org/wp-content/uploads/2023/06/biblerocks-header4-1.jpg
END:VEVENT
BEGIN:VEVENT
DTSTART;TZID=America/Phoenix:20260419T090000
DTEND;TZID=America/Phoenix:20260419T100000
DTSTAMP:20260421T050402
CREATED:20250919T180306Z
LAST-MODIFIED:20250924T154135Z
UID:10005596-1776589200-1776592800@fpcwhitefish.org
SUMMARY:Youth Bible Study
DESCRIPTION:Youth bible study for grades 6-12 will take place Sunday morning at 9am.  Grab a hot cocoa in the main office and join us! Light breakfast snacks will be served or feel free to bring your own.
URL:https://fpcwhitefish.org/event/youth-bible-study/2026-04-19/
LOCATION:First Presbyterian Church\, 301 Central Ave\, Whitefish\, MT\, 59937-8457\, United States
CATEGORIES:Youth Group
ATTACH;FMTTYPE=image/jpeg:https://fpcwhitefish.org/wp-content/uploads/2025/06/FPC-kids-board-to-hold-1.jpg
END:VEVENT
BEGIN:VEVENT
DTSTART;TZID=America/Phoenix:20260421T080000
DTEND;TZID=America/Phoenix:20260421T090000
DTSTAMP:20260421T050402
CREATED:20240411T155941Z
LAST-MODIFIED:20260312T205714Z
UID:10006252-1776758400-1776762000@fpcwhitefish.org
SUMMARY:Men's Bible Study & Breakfast
DESCRIPTION:Join us every Tuesday morning for a delicious breakfast and fellowship.
URL:https://fpcwhitefish.org/event/mens-bible-study-breakfast-19/2026-04-21/
LOCATION:Fellowsip Hall – First Presbyterian Church\, 301 Central Ave\, Whitefish\, MT\, 59937\, United States
CATEGORIES:Mens Group
ATTACH;FMTTYPE=image/jpeg:https://fpcwhitefish.org/wp-content/uploads/2024/04/Mens-Breakfast.jpg
END:VEVENT
BEGIN:VEVENT
DTSTART;TZID=America/Phoenix:20260421T130000
DTEND;TZID=America/Phoenix:20260421T143000
DTSTAMP:20260421T050402
CREATED:20250314T162050Z
LAST-MODIFIED:20251204T185149Z
UID:10005562-1776776400-1776781800@fpcwhitefish.org
SUMMARY:Presbyterian Women
DESCRIPTION:Presbyterian Women gather every 3rd Tuesday of the month at 1:00 p.m. in Fellowship Hall. Please enter through the glass doors on 3rd Ave and head up the stairs to Fellowship Hall. All women are welcome to attend!
URL:https://fpcwhitefish.org/event/presbyterian-women/2026-04-21/
LOCATION:Fellowsip Hall – First Presbyterian Church\, 301 Central Ave\, Whitefish\, MT\, 59937\, United States
CATEGORIES:Womans Group
ATTACH;FMTTYPE=image/jpeg:https://fpcwhitefish.org/wp-content/uploads/2023/07/PW.jpg
ORGANIZER;CN="Susan Tate":MAILTO:info@fpcwhitefish.org
END:VEVENT
BEGIN:VEVENT
DTSTART;TZID=America/Phoenix:20260422T100000
DTEND;TZID=America/Phoenix:20260422T110000
DTSTAMP:20260421T050402
CREATED:20260409T190533Z
LAST-MODIFIED:20260409T190533Z
UID:10006520-1776852000-1776855600@fpcwhitefish.org
SUMMARY:Wednesday Women's Bible Study
DESCRIPTION:
URL:https://fpcwhitefish.org/event/wednesday-womens-bible-study/2026-04-22/
LOCATION:Fellowsip Hall – First Presbyterian Church\, 301 Central Ave\, Whitefish\, MT\, 59937\, United States
CATEGORIES:Womans Group
ATTACH;FMTTYPE=image/png:https://fpcwhitefish.org/wp-content/uploads/2026/03/Ladies-AM-Bible-Study.png
END:VEVENT
BEGIN:VEVENT
DTSTART;TZID=America/Phoenix:20260422T150000
DTEND;TZID=America/Phoenix:20260422T163000
DTSTAMP:20260421T050402
CREATED:20250924T155428Z
LAST-MODIFIED:20260115T171522Z
UID:10005860-1776870000-1776875400@fpcwhitefish.org
SUMMARY:Base Camp 406
DESCRIPTION:
URL:https://fpcwhitefish.org/event/base-camp-406/2026-04-22/
LOCATION:MT
CATEGORIES:Youth Group
ATTACH;FMTTYPE=image/png:https://fpcwhitefish.org/wp-content/uploads/2025/12/Basecamp-406-Social.png
END:VEVENT
BEGIN:VEVENT
DTSTART;TZID=America/Phoenix:20260422T190000
DTEND;TZID=America/Phoenix:20260422T200000
DTSTAMP:20260421T050402
CREATED:20250827T180711Z
LAST-MODIFIED:20250827T180711Z
UID:10005327-1776884400-1776888000@fpcwhitefish.org
SUMMARY:Choir Practice
DESCRIPTION:Choir practice will take place in the Sanctuary every Wednesday at 7:00 p.m. All are welcome. Please enter the glass doors on 3rd Ave and head up the stairs.
URL:https://fpcwhitefish.org/event/choir-practice/2026-04-22/
LOCATION:First Presbyterian Church\, 301 Central Ave\, Whitefish\, MT\, 59937-8457\, United States
CATEGORIES:Family
ATTACH;FMTTYPE=image/jpeg:https://fpcwhitefish.org/wp-content/uploads/2023/05/Easter-Sunday_choir800px.jpg
ORGANIZER;CN="Alma Ramlow":MAILTO:info@fpcwhitefish.org
END:VEVENT
BEGIN:VEVENT
DTSTART;TZID=America/Phoenix:20260423T100000
DTEND;TZID=America/Phoenix:20260423T110000
DTSTAMP:20260421T050402
CREATED:20250827T180101Z
LAST-MODIFIED:20250827T180101Z
UID:10005067-1776938400-1776942000@fpcwhitefish.org
SUMMARY:Women's Bible Study
DESCRIPTION:Join us every Thursday morning at 10 am for Bible Study and Fellowship. All ladies are welcome to attend. Enter the glass door on 3rd Ave and head up the stairs to Fellowship Hall.
URL:https://fpcwhitefish.org/event/womens-bible-study/2026-04-23/
LOCATION:Fellowsip Hall – First Presbyterian Church\, 301 Central Ave\, Whitefish\, MT\, 59937\, United States
CATEGORIES:Womans Group
ATTACH;FMTTYPE=image/png:https://fpcwhitefish.org/wp-content/uploads/2023/06/FPClogo-color-clear-background-_300x300.png
END:VEVENT
BEGIN:VEVENT
DTSTART;TZID=America/Phoenix:20260426T090000
DTEND;TZID=America/Phoenix:20260426T100000
DTSTAMP:20260421T050402
CREATED:20250827T174841Z
LAST-MODIFIED:20250827T174841Z
UID:10004809-1777194000-1777197600@fpcwhitefish.org
SUMMARY:Adult Sunday School
DESCRIPTION:Adult Sunday School located in the Chapel every Sunday before worship service. Please enter the small door (to the right of our Sanctuary doors) on Central Ave.
URL:https://fpcwhitefish.org/event/adult-sunday-school/2026-04-26/
LOCATION:Chapel – First Presbyterian Church
ATTACH;FMTTYPE=image/jpeg:https://fpcwhitefish.org/wp-content/uploads/2023/06/biblerocks-header4-1.jpg
END:VEVENT
BEGIN:VEVENT
DTSTART;TZID=America/Phoenix:20260426T090000
DTEND;TZID=America/Phoenix:20260426T100000
DTSTAMP:20260421T050402
CREATED:20250919T180306Z
LAST-MODIFIED:20250924T154135Z
UID:10005597-1777194000-1777197600@fpcwhitefish.org
SUMMARY:Youth Bible Study
DESCRIPTION:Youth bible study for grades 6-12 will take place Sunday morning at 9am.  Grab a hot cocoa in the main office and join us! Light breakfast snacks will be served or feel free to bring your own.
URL:https://fpcwhitefish.org/event/youth-bible-study/2026-04-26/
LOCATION:First Presbyterian Church\, 301 Central Ave\, Whitefish\, MT\, 59937-8457\, United States
CATEGORIES:Youth Group
ATTACH;FMTTYPE=image/jpeg:https://fpcwhitefish.org/wp-content/uploads/2025/06/FPC-kids-board-to-hold-1.jpg
END:VEVENT
BEGIN:VEVENT
DTSTART;TZID=America/Phoenix:20260428T080000
DTEND;TZID=America/Phoenix:20260428T090000
DTSTAMP:20260421T050402
CREATED:20240411T155941Z
LAST-MODIFIED:20260312T205714Z
UID:10006253-1777363200-1777366800@fpcwhitefish.org
SUMMARY:Men's Bible Study & Breakfast
DESCRIPTION:Join us every Tuesday morning for a delicious breakfast and fellowship.
URL:https://fpcwhitefish.org/event/mens-bible-study-breakfast-19/2026-04-28/
LOCATION:Fellowsip Hall – First Presbyterian Church\, 301 Central Ave\, Whitefish\, MT\, 59937\, United States
CATEGORIES:Mens Group
ATTACH;FMTTYPE=image/jpeg:https://fpcwhitefish.org/wp-content/uploads/2024/04/Mens-Breakfast.jpg
END:VEVENT
BEGIN:VEVENT
DTSTART;TZID=America/Phoenix:20260429T100000
DTEND;TZID=America/Phoenix:20260429T110000
DTSTAMP:20260421T050402
CREATED:20260409T190533Z
LAST-MODIFIED:20260409T190533Z
UID:10006521-1777456800-1777460400@fpcwhitefish.org
SUMMARY:Wednesday Women's Bible Study
DESCRIPTION:
URL:https://fpcwhitefish.org/event/wednesday-womens-bible-study/2026-04-29/
LOCATION:Fellowsip Hall – First Presbyterian Church\, 301 Central Ave\, Whitefish\, MT\, 59937\, United States
CATEGORIES:Womans Group
ATTACH;FMTTYPE=image/png:https://fpcwhitefish.org/wp-content/uploads/2026/03/Ladies-AM-Bible-Study.png
END:VEVENT
BEGIN:VEVENT
DTSTART;TZID=America/Phoenix:20260429T150000
DTEND;TZID=America/Phoenix:20260429T163000
DTSTAMP:20260421T050402
CREATED:20250924T155428Z
LAST-MODIFIED:20260115T171522Z
UID:10005861-1777474800-1777480200@fpcwhitefish.org
SUMMARY:Base Camp 406
DESCRIPTION:
URL:https://fpcwhitefish.org/event/base-camp-406/2026-04-29/
LOCATION:MT
CATEGORIES:Youth Group
ATTACH;FMTTYPE=image/png:https://fpcwhitefish.org/wp-content/uploads/2025/12/Basecamp-406-Social.png
END:VEVENT
BEGIN:VEVENT
DTSTART;TZID=America/Phoenix:20260429T190000
DTEND;TZID=America/Phoenix:20260429T200000
DTSTAMP:20260421T050402
CREATED:20250827T180711Z
LAST-MODIFIED:20250827T180711Z
UID:10005328-1777489200-1777492800@fpcwhitefish.org
SUMMARY:Choir Practice
DESCRIPTION:Choir practice will take place in the Sanctuary every Wednesday at 7:00 p.m. All are welcome. Please enter the glass doors on 3rd Ave and head up the stairs.
URL:https://fpcwhitefish.org/event/choir-practice/2026-04-29/
LOCATION:First Presbyterian Church\, 301 Central Ave\, Whitefish\, MT\, 59937-8457\, United States
CATEGORIES:Family
ATTACH;FMTTYPE=image/jpeg:https://fpcwhitefish.org/wp-content/uploads/2023/05/Easter-Sunday_choir800px.jpg
ORGANIZER;CN="Alma Ramlow":MAILTO:info@fpcwhitefish.org
END:VEVENT
END:VCALENDAR