BEGIN:VCALENDAR
VERSION:2.0
PRODID:-//First Presbyterian Church of Whitefish - ECPv6.15.20//NONSGML v1.0//EN
CALSCALE:GREGORIAN
METHOD:PUBLISH
X-WR-CALNAME:First Presbyterian Church of Whitefish
X-ORIGINAL-URL:https://fpcwhitefish.org
X-WR-CALDESC:Events for First Presbyterian Church of Whitefish
REFRESH-INTERVAL;VALUE=DURATION:PT1H
X-Robots-Tag:noindex
X-PUBLISHED-TTL:PT1H
BEGIN:VTIMEZONE
TZID:America/Phoenix
BEGIN:STANDARD
TZOFFSETFROM:-0700
TZOFFSETTO:-0700
TZNAME:MST
DTSTART:20240101T000000
END:STANDARD
END:VTIMEZONE
BEGIN:VEVENT
DTSTART;TZID=America/Phoenix:20251224T190000
DTEND;TZID=America/Phoenix:20251224T200000
DTSTAMP:20260423T113616
CREATED:20250827T180711Z
LAST-MODIFIED:20250827T180711Z
UID:10005310-1766602800-1766606400@fpcwhitefish.org
SUMMARY:Choir Practice
DESCRIPTION:Choir practice will take place in the Sanctuary every Wednesday at 7:00 p.m. All are welcome. Please enter the glass doors on 3rd Ave and head up the stairs.
URL:https://fpcwhitefish.org/event/choir-practice/2025-12-24/
LOCATION:First Presbyterian Church\, 301 Central Ave\, Whitefish\, MT\, 59937-8457\, United States
CATEGORIES:Family
ATTACH;FMTTYPE=image/jpeg:https://fpcwhitefish.org/wp-content/uploads/2023/05/Easter-Sunday_choir800px.jpg
ORGANIZER;CN="Alma Ramlow":MAILTO:info@fpcwhitefish.org
END:VEVENT
BEGIN:VEVENT
DTSTART;TZID=America/Phoenix:20251225T100000
DTEND;TZID=America/Phoenix:20251225T110000
DTSTAMP:20260423T113616
CREATED:20250827T180101Z
LAST-MODIFIED:20250827T180101Z
UID:10005050-1766656800-1766660400@fpcwhitefish.org
SUMMARY:Women's Bible Study
DESCRIPTION:Join us every Thursday morning at 10 am for Bible Study and Fellowship. All ladies are welcome to attend. Enter the glass door on 3rd Ave and head up the stairs to Fellowship Hall.
URL:https://fpcwhitefish.org/event/womens-bible-study/2025-12-25/
LOCATION:Fellowsip Hall – First Presbyterian Church\, 301 Central Ave\, Whitefish\, MT\, 59937\, United States
CATEGORIES:Womans Group
ATTACH;FMTTYPE=image/png:https://fpcwhitefish.org/wp-content/uploads/2023/06/FPClogo-color-clear-background-_300x300.png
END:VEVENT
BEGIN:VEVENT
DTSTART;TZID=America/Phoenix:20251228T090000
DTEND;TZID=America/Phoenix:20251228T100000
DTSTAMP:20260423T113616
CREATED:20250827T174841Z
LAST-MODIFIED:20250827T174841Z
UID:10004792-1766912400-1766916000@fpcwhitefish.org
SUMMARY:Adult Sunday School
DESCRIPTION:Adult Sunday School located in the Chapel every Sunday before worship service. Please enter the small door (to the right of our Sanctuary doors) on Central Ave.
URL:https://fpcwhitefish.org/event/adult-sunday-school/2025-12-28/
LOCATION:Chapel – First Presbyterian Church
ATTACH;FMTTYPE=image/jpeg:https://fpcwhitefish.org/wp-content/uploads/2023/06/biblerocks-header4-1.jpg
END:VEVENT
BEGIN:VEVENT
DTSTART;TZID=America/Phoenix:20251228T090000
DTEND;TZID=America/Phoenix:20251228T100000
DTSTAMP:20260423T113616
CREATED:20250919T180306Z
LAST-MODIFIED:20250924T154135Z
UID:10005580-1766912400-1766916000@fpcwhitefish.org
SUMMARY:Youth Bible Study
DESCRIPTION:Youth bible study for grades 6-12 will take place Sunday morning at 9am.  Grab a hot cocoa in the main office and join us! Light breakfast snacks will be served or feel free to bring your own.
URL:https://fpcwhitefish.org/event/youth-bible-study/2025-12-28/
LOCATION:First Presbyterian Church\, 301 Central Ave\, Whitefish\, MT\, 59937-8457\, United States
CATEGORIES:Youth Group
ATTACH;FMTTYPE=image/jpeg:https://fpcwhitefish.org/wp-content/uploads/2025/06/FPC-kids-board-to-hold-1.jpg
END:VEVENT
BEGIN:VEVENT
DTSTART;TZID=America/Phoenix:20251229T173000
DTEND;TZID=America/Phoenix:20251229T183000
DTSTAMP:20260423T113616
CREATED:20250827T170940Z
LAST-MODIFIED:20250827T171321Z
UID:10004762-1767029400-1767033000@fpcwhitefish.org
SUMMARY:Handbell Practice
DESCRIPTION:Handbell practice will be held in Fellowship Hall at 5:30 pm. Please enter the glass doors on 3rd Ave.
URL:https://fpcwhitefish.org/event/handbell-practice/2025-12-29/
LOCATION:First Presbyterian Church\, 301 Central Ave\, Whitefish\, MT\, 59937-8457\, United States
CATEGORIES:Adults
ATTACH;FMTTYPE=image/jpeg:https://fpcwhitefish.org/wp-content/uploads/2023/12/IMG_6562-scaled.jpg
ORGANIZER;CN="Alma Ramlow":MAILTO:info@fpcwhitefish.org
END:VEVENT
BEGIN:VEVENT
DTSTART;TZID=America/Phoenix:20251230T080000
DTEND;TZID=America/Phoenix:20251230T090000
DTSTAMP:20260423T113616
CREATED:20240411T155941Z
LAST-MODIFIED:20260312T205714Z
UID:10006236-1767081600-1767085200@fpcwhitefish.org
SUMMARY:Men's Bible Study & Breakfast
DESCRIPTION:Join us every Tuesday morning for a delicious breakfast and fellowship.
URL:https://fpcwhitefish.org/event/mens-bible-study-breakfast-19/2025-12-30/
LOCATION:Fellowsip Hall – First Presbyterian Church\, 301 Central Ave\, Whitefish\, MT\, 59937\, United States
CATEGORIES:Mens Group
ATTACH;FMTTYPE=image/jpeg:https://fpcwhitefish.org/wp-content/uploads/2024/04/Mens-Breakfast.jpg
END:VEVENT
BEGIN:VEVENT
DTSTART;TZID=America/Phoenix:20251231T150000
DTEND;TZID=America/Phoenix:20251231T163000
DTSTAMP:20260423T113616
CREATED:20250924T155428Z
LAST-MODIFIED:20260115T171522Z
UID:10005844-1767193200-1767198600@fpcwhitefish.org
SUMMARY:Base Camp 406
DESCRIPTION:
URL:https://fpcwhitefish.org/event/base-camp-406/2025-12-31/
LOCATION:MT
CATEGORIES:Youth Group
ATTACH;FMTTYPE=image/png:https://fpcwhitefish.org/wp-content/uploads/2025/12/Basecamp-406-Social.png
END:VEVENT
BEGIN:VEVENT
DTSTART;TZID=America/Phoenix:20251231T190000
DTEND;TZID=America/Phoenix:20251231T200000
DTSTAMP:20260423T113616
CREATED:20250827T180711Z
LAST-MODIFIED:20250827T180711Z
UID:10005311-1767207600-1767211200@fpcwhitefish.org
SUMMARY:Choir Practice
DESCRIPTION:Choir practice will take place in the Sanctuary every Wednesday at 7:00 p.m. All are welcome. Please enter the glass doors on 3rd Ave and head up the stairs.
URL:https://fpcwhitefish.org/event/choir-practice/2025-12-31/
LOCATION:First Presbyterian Church\, 301 Central Ave\, Whitefish\, MT\, 59937-8457\, United States
CATEGORIES:Family
ATTACH;FMTTYPE=image/jpeg:https://fpcwhitefish.org/wp-content/uploads/2023/05/Easter-Sunday_choir800px.jpg
ORGANIZER;CN="Alma Ramlow":MAILTO:info@fpcwhitefish.org
END:VEVENT
BEGIN:VEVENT
DTSTART;TZID=America/Phoenix:20260101T100000
DTEND;TZID=America/Phoenix:20260101T110000
DTSTAMP:20260423T113616
CREATED:20250827T180101Z
LAST-MODIFIED:20250827T180101Z
UID:10005051-1767261600-1767265200@fpcwhitefish.org
SUMMARY:Women's Bible Study
DESCRIPTION:Join us every Thursday morning at 10 am for Bible Study and Fellowship. All ladies are welcome to attend. Enter the glass door on 3rd Ave and head up the stairs to Fellowship Hall.
URL:https://fpcwhitefish.org/event/womens-bible-study/2026-01-01/
LOCATION:Fellowsip Hall – First Presbyterian Church\, 301 Central Ave\, Whitefish\, MT\, 59937\, United States
CATEGORIES:Womans Group
ATTACH;FMTTYPE=image/png:https://fpcwhitefish.org/wp-content/uploads/2023/06/FPClogo-color-clear-background-_300x300.png
END:VEVENT
BEGIN:VEVENT
DTSTART;TZID=America/Phoenix:20260104T090000
DTEND;TZID=America/Phoenix:20260104T100000
DTSTAMP:20260423T113616
CREATED:20250827T174841Z
LAST-MODIFIED:20250827T174841Z
UID:10004793-1767517200-1767520800@fpcwhitefish.org
SUMMARY:Adult Sunday School
DESCRIPTION:Adult Sunday School located in the Chapel every Sunday before worship service. Please enter the small door (to the right of our Sanctuary doors) on Central Ave.
URL:https://fpcwhitefish.org/event/adult-sunday-school/2026-01-04/
LOCATION:Chapel – First Presbyterian Church
ATTACH;FMTTYPE=image/jpeg:https://fpcwhitefish.org/wp-content/uploads/2023/06/biblerocks-header4-1.jpg
END:VEVENT
BEGIN:VEVENT
DTSTART;TZID=America/Phoenix:20260104T090000
DTEND;TZID=America/Phoenix:20260104T100000
DTSTAMP:20260423T113616
CREATED:20250919T180306Z
LAST-MODIFIED:20250924T154135Z
UID:10005581-1767517200-1767520800@fpcwhitefish.org
SUMMARY:Youth Bible Study
DESCRIPTION:Youth bible study for grades 6-12 will take place Sunday morning at 9am.  Grab a hot cocoa in the main office and join us! Light breakfast snacks will be served or feel free to bring your own.
URL:https://fpcwhitefish.org/event/youth-bible-study/2026-01-04/
LOCATION:First Presbyterian Church\, 301 Central Ave\, Whitefish\, MT\, 59937-8457\, United States
CATEGORIES:Youth Group
ATTACH;FMTTYPE=image/jpeg:https://fpcwhitefish.org/wp-content/uploads/2025/06/FPC-kids-board-to-hold-1.jpg
END:VEVENT
BEGIN:VEVENT
DTSTART;TZID=America/Phoenix:20260105T173000
DTEND;TZID=America/Phoenix:20260105T183000
DTSTAMP:20260423T113616
CREATED:20250827T170940Z
LAST-MODIFIED:20250827T171321Z
UID:10004763-1767634200-1767637800@fpcwhitefish.org
SUMMARY:Handbell Practice
DESCRIPTION:Handbell practice will be held in Fellowship Hall at 5:30 pm. Please enter the glass doors on 3rd Ave.
URL:https://fpcwhitefish.org/event/handbell-practice/2026-01-05/
LOCATION:First Presbyterian Church\, 301 Central Ave\, Whitefish\, MT\, 59937-8457\, United States
CATEGORIES:Adults
ATTACH;FMTTYPE=image/jpeg:https://fpcwhitefish.org/wp-content/uploads/2023/12/IMG_6562-scaled.jpg
ORGANIZER;CN="Alma Ramlow":MAILTO:info@fpcwhitefish.org
END:VEVENT
BEGIN:VEVENT
DTSTART;TZID=America/Phoenix:20260106T080000
DTEND;TZID=America/Phoenix:20260106T090000
DTSTAMP:20260423T113616
CREATED:20240411T155941Z
LAST-MODIFIED:20260312T205714Z
UID:10006237-1767686400-1767690000@fpcwhitefish.org
SUMMARY:Men's Bible Study & Breakfast
DESCRIPTION:Join us every Tuesday morning for a delicious breakfast and fellowship.
URL:https://fpcwhitefish.org/event/mens-bible-study-breakfast-19/2026-01-06/
LOCATION:Fellowsip Hall – First Presbyterian Church\, 301 Central Ave\, Whitefish\, MT\, 59937\, United States
CATEGORIES:Mens Group
ATTACH;FMTTYPE=image/jpeg:https://fpcwhitefish.org/wp-content/uploads/2024/04/Mens-Breakfast.jpg
END:VEVENT
BEGIN:VEVENT
DTSTART;TZID=America/Phoenix:20260107T150000
DTEND;TZID=America/Phoenix:20260107T163000
DTSTAMP:20260423T113616
CREATED:20250924T155428Z
LAST-MODIFIED:20260115T171522Z
UID:10005845-1767798000-1767803400@fpcwhitefish.org
SUMMARY:Base Camp 406
DESCRIPTION:
URL:https://fpcwhitefish.org/event/base-camp-406/2026-01-07/
LOCATION:MT
CATEGORIES:Youth Group
ATTACH;FMTTYPE=image/png:https://fpcwhitefish.org/wp-content/uploads/2025/12/Basecamp-406-Social.png
END:VEVENT
BEGIN:VEVENT
DTSTART;TZID=America/Phoenix:20260107T190000
DTEND;TZID=America/Phoenix:20260107T200000
DTSTAMP:20260423T113616
CREATED:20250827T180711Z
LAST-MODIFIED:20250827T180711Z
UID:10005312-1767812400-1767816000@fpcwhitefish.org
SUMMARY:Choir Practice
DESCRIPTION:Choir practice will take place in the Sanctuary every Wednesday at 7:00 p.m. All are welcome. Please enter the glass doors on 3rd Ave and head up the stairs.
URL:https://fpcwhitefish.org/event/choir-practice/2026-01-07/
LOCATION:First Presbyterian Church\, 301 Central Ave\, Whitefish\, MT\, 59937-8457\, United States
CATEGORIES:Family
ATTACH;FMTTYPE=image/jpeg:https://fpcwhitefish.org/wp-content/uploads/2023/05/Easter-Sunday_choir800px.jpg
ORGANIZER;CN="Alma Ramlow":MAILTO:info@fpcwhitefish.org
END:VEVENT
BEGIN:VEVENT
DTSTART;TZID=America/Phoenix:20260108T100000
DTEND;TZID=America/Phoenix:20260108T110000
DTSTAMP:20260423T113616
CREATED:20250827T180101Z
LAST-MODIFIED:20250827T180101Z
UID:10005052-1767866400-1767870000@fpcwhitefish.org
SUMMARY:Women's Bible Study
DESCRIPTION:Join us every Thursday morning at 10 am for Bible Study and Fellowship. All ladies are welcome to attend. Enter the glass door on 3rd Ave and head up the stairs to Fellowship Hall.
URL:https://fpcwhitefish.org/event/womens-bible-study/2026-01-08/
LOCATION:Fellowsip Hall – First Presbyterian Church\, 301 Central Ave\, Whitefish\, MT\, 59937\, United States
CATEGORIES:Womans Group
ATTACH;FMTTYPE=image/png:https://fpcwhitefish.org/wp-content/uploads/2023/06/FPClogo-color-clear-background-_300x300.png
END:VEVENT
BEGIN:VEVENT
DTSTART;TZID=America/Phoenix:20260111T090000
DTEND;TZID=America/Phoenix:20260111T100000
DTSTAMP:20260423T113616
CREATED:20250827T174841Z
LAST-MODIFIED:20250827T174841Z
UID:10004794-1768122000-1768125600@fpcwhitefish.org
SUMMARY:Adult Sunday School
DESCRIPTION:Adult Sunday School located in the Chapel every Sunday before worship service. Please enter the small door (to the right of our Sanctuary doors) on Central Ave.
URL:https://fpcwhitefish.org/event/adult-sunday-school/2026-01-11/
LOCATION:Chapel – First Presbyterian Church
ATTACH;FMTTYPE=image/jpeg:https://fpcwhitefish.org/wp-content/uploads/2023/06/biblerocks-header4-1.jpg
END:VEVENT
BEGIN:VEVENT
DTSTART;TZID=America/Phoenix:20260111T090000
DTEND;TZID=America/Phoenix:20260111T100000
DTSTAMP:20260423T113616
CREATED:20250919T180306Z
LAST-MODIFIED:20250924T154135Z
UID:10005582-1768122000-1768125600@fpcwhitefish.org
SUMMARY:Youth Bible Study
DESCRIPTION:Youth bible study for grades 6-12 will take place Sunday morning at 9am.  Grab a hot cocoa in the main office and join us! Light breakfast snacks will be served or feel free to bring your own.
URL:https://fpcwhitefish.org/event/youth-bible-study/2026-01-11/
LOCATION:First Presbyterian Church\, 301 Central Ave\, Whitefish\, MT\, 59937-8457\, United States
CATEGORIES:Youth Group
ATTACH;FMTTYPE=image/jpeg:https://fpcwhitefish.org/wp-content/uploads/2025/06/FPC-kids-board-to-hold-1.jpg
END:VEVENT
BEGIN:VEVENT
DTSTART;TZID=America/Phoenix:20260112T173000
DTEND;TZID=America/Phoenix:20260112T183000
DTSTAMP:20260423T113616
CREATED:20250827T170940Z
LAST-MODIFIED:20250827T171321Z
UID:10004764-1768239000-1768242600@fpcwhitefish.org
SUMMARY:Handbell Practice
DESCRIPTION:Handbell practice will be held in Fellowship Hall at 5:30 pm. Please enter the glass doors on 3rd Ave.
URL:https://fpcwhitefish.org/event/handbell-practice/2026-01-12/
LOCATION:First Presbyterian Church\, 301 Central Ave\, Whitefish\, MT\, 59937-8457\, United States
CATEGORIES:Adults
ATTACH;FMTTYPE=image/jpeg:https://fpcwhitefish.org/wp-content/uploads/2023/12/IMG_6562-scaled.jpg
ORGANIZER;CN="Alma Ramlow":MAILTO:info@fpcwhitefish.org
END:VEVENT
BEGIN:VEVENT
DTSTART;TZID=America/Phoenix:20260113T080000
DTEND;TZID=America/Phoenix:20260113T090000
DTSTAMP:20260423T113616
CREATED:20240411T155941Z
LAST-MODIFIED:20260312T205714Z
UID:10006238-1768291200-1768294800@fpcwhitefish.org
SUMMARY:Men's Bible Study & Breakfast
DESCRIPTION:Join us every Tuesday morning for a delicious breakfast and fellowship.
URL:https://fpcwhitefish.org/event/mens-bible-study-breakfast-19/2026-01-13/
LOCATION:Fellowsip Hall – First Presbyterian Church\, 301 Central Ave\, Whitefish\, MT\, 59937\, United States
CATEGORIES:Mens Group
ATTACH;FMTTYPE=image/jpeg:https://fpcwhitefish.org/wp-content/uploads/2024/04/Mens-Breakfast.jpg
END:VEVENT
BEGIN:VEVENT
DTSTART;TZID=America/Phoenix:20260114T150000
DTEND;TZID=America/Phoenix:20260114T163000
DTSTAMP:20260423T113616
CREATED:20250924T155428Z
LAST-MODIFIED:20260115T171522Z
UID:10005846-1768402800-1768408200@fpcwhitefish.org
SUMMARY:Base Camp 406
DESCRIPTION:
URL:https://fpcwhitefish.org/event/base-camp-406/2026-01-14/
LOCATION:MT
CATEGORIES:Youth Group
ATTACH;FMTTYPE=image/png:https://fpcwhitefish.org/wp-content/uploads/2025/12/Basecamp-406-Social.png
END:VEVENT
BEGIN:VEVENT
DTSTART;TZID=America/Phoenix:20260114T190000
DTEND;TZID=America/Phoenix:20260114T200000
DTSTAMP:20260423T113616
CREATED:20250827T180711Z
LAST-MODIFIED:20250827T180711Z
UID:10005313-1768417200-1768420800@fpcwhitefish.org
SUMMARY:Choir Practice
DESCRIPTION:Choir practice will take place in the Sanctuary every Wednesday at 7:00 p.m. All are welcome. Please enter the glass doors on 3rd Ave and head up the stairs.
URL:https://fpcwhitefish.org/event/choir-practice/2026-01-14/
LOCATION:First Presbyterian Church\, 301 Central Ave\, Whitefish\, MT\, 59937-8457\, United States
CATEGORIES:Family
ATTACH;FMTTYPE=image/jpeg:https://fpcwhitefish.org/wp-content/uploads/2023/05/Easter-Sunday_choir800px.jpg
ORGANIZER;CN="Alma Ramlow":MAILTO:info@fpcwhitefish.org
END:VEVENT
BEGIN:VEVENT
DTSTART;TZID=America/Phoenix:20260115T100000
DTEND;TZID=America/Phoenix:20260115T110000
DTSTAMP:20260423T113616
CREATED:20250827T180101Z
LAST-MODIFIED:20250827T180101Z
UID:10005053-1768471200-1768474800@fpcwhitefish.org
SUMMARY:Women's Bible Study
DESCRIPTION:Join us every Thursday morning at 10 am for Bible Study and Fellowship. All ladies are welcome to attend. Enter the glass door on 3rd Ave and head up the stairs to Fellowship Hall.
URL:https://fpcwhitefish.org/event/womens-bible-study/2026-01-15/
LOCATION:Fellowsip Hall – First Presbyterian Church\, 301 Central Ave\, Whitefish\, MT\, 59937\, United States
CATEGORIES:Womans Group
ATTACH;FMTTYPE=image/png:https://fpcwhitefish.org/wp-content/uploads/2023/06/FPClogo-color-clear-background-_300x300.png
END:VEVENT
BEGIN:VEVENT
DTSTART;TZID=America/Phoenix:20260118T090000
DTEND;TZID=America/Phoenix:20260118T100000
DTSTAMP:20260423T113616
CREATED:20250827T174841Z
LAST-MODIFIED:20250827T174841Z
UID:10004795-1768726800-1768730400@fpcwhitefish.org
SUMMARY:Adult Sunday School
DESCRIPTION:Adult Sunday School located in the Chapel every Sunday before worship service. Please enter the small door (to the right of our Sanctuary doors) on Central Ave.
URL:https://fpcwhitefish.org/event/adult-sunday-school/2026-01-18/
LOCATION:Chapel – First Presbyterian Church
ATTACH;FMTTYPE=image/jpeg:https://fpcwhitefish.org/wp-content/uploads/2023/06/biblerocks-header4-1.jpg
END:VEVENT
BEGIN:VEVENT
DTSTART;TZID=America/Phoenix:20260118T090000
DTEND;TZID=America/Phoenix:20260118T100000
DTSTAMP:20260423T113616
CREATED:20250919T180306Z
LAST-MODIFIED:20250924T154135Z
UID:10005583-1768726800-1768730400@fpcwhitefish.org
SUMMARY:Youth Bible Study
DESCRIPTION:Youth bible study for grades 6-12 will take place Sunday morning at 9am.  Grab a hot cocoa in the main office and join us! Light breakfast snacks will be served or feel free to bring your own.
URL:https://fpcwhitefish.org/event/youth-bible-study/2026-01-18/
LOCATION:First Presbyterian Church\, 301 Central Ave\, Whitefish\, MT\, 59937-8457\, United States
CATEGORIES:Youth Group
ATTACH;FMTTYPE=image/jpeg:https://fpcwhitefish.org/wp-content/uploads/2025/06/FPC-kids-board-to-hold-1.jpg
END:VEVENT
BEGIN:VEVENT
DTSTART;TZID=America/Phoenix:20260119T173000
DTEND;TZID=America/Phoenix:20260119T183000
DTSTAMP:20260423T113616
CREATED:20250827T170940Z
LAST-MODIFIED:20250827T171321Z
UID:10004765-1768843800-1768847400@fpcwhitefish.org
SUMMARY:Handbell Practice
DESCRIPTION:Handbell practice will be held in Fellowship Hall at 5:30 pm. Please enter the glass doors on 3rd Ave.
URL:https://fpcwhitefish.org/event/handbell-practice/2026-01-19/
LOCATION:First Presbyterian Church\, 301 Central Ave\, Whitefish\, MT\, 59937-8457\, United States
CATEGORIES:Adults
ATTACH;FMTTYPE=image/jpeg:https://fpcwhitefish.org/wp-content/uploads/2023/12/IMG_6562-scaled.jpg
ORGANIZER;CN="Alma Ramlow":MAILTO:info@fpcwhitefish.org
END:VEVENT
BEGIN:VEVENT
DTSTART;TZID=America/Phoenix:20260120T080000
DTEND;TZID=America/Phoenix:20260120T090000
DTSTAMP:20260423T113616
CREATED:20240411T155941Z
LAST-MODIFIED:20260312T205714Z
UID:10006239-1768896000-1768899600@fpcwhitefish.org
SUMMARY:Men's Bible Study & Breakfast
DESCRIPTION:Join us every Tuesday morning for a delicious breakfast and fellowship.
URL:https://fpcwhitefish.org/event/mens-bible-study-breakfast-19/2026-01-20/
LOCATION:Fellowsip Hall – First Presbyterian Church\, 301 Central Ave\, Whitefish\, MT\, 59937\, United States
CATEGORIES:Mens Group
ATTACH;FMTTYPE=image/jpeg:https://fpcwhitefish.org/wp-content/uploads/2024/04/Mens-Breakfast.jpg
END:VEVENT
BEGIN:VEVENT
DTSTART;TZID=America/Phoenix:20260120T130000
DTEND;TZID=America/Phoenix:20260120T143000
DTSTAMP:20260423T113616
CREATED:20250314T162050Z
LAST-MODIFIED:20251204T185149Z
UID:10005559-1768914000-1768919400@fpcwhitefish.org
SUMMARY:Presbyterian Women
DESCRIPTION:Presbyterian Women gather every 3rd Tuesday of the month at 1:00 p.m. in Fellowship Hall. Please enter through the glass doors on 3rd Ave and head up the stairs to Fellowship Hall. All women are welcome to attend!
URL:https://fpcwhitefish.org/event/presbyterian-women/2026-01-20/
LOCATION:Fellowsip Hall – First Presbyterian Church\, 301 Central Ave\, Whitefish\, MT\, 59937\, United States
CATEGORIES:Womans Group
ATTACH;FMTTYPE=image/jpeg:https://fpcwhitefish.org/wp-content/uploads/2023/07/PW.jpg
ORGANIZER;CN="Susan Tate":MAILTO:info@fpcwhitefish.org
END:VEVENT
BEGIN:VEVENT
DTSTART;TZID=America/Phoenix:20260121T150000
DTEND;TZID=America/Phoenix:20260121T163000
DTSTAMP:20260423T113616
CREATED:20250924T155428Z
LAST-MODIFIED:20260115T171522Z
UID:10005847-1769007600-1769013000@fpcwhitefish.org
SUMMARY:Base Camp 406
DESCRIPTION:
URL:https://fpcwhitefish.org/event/base-camp-406/2026-01-21/
LOCATION:MT
CATEGORIES:Youth Group
ATTACH;FMTTYPE=image/png:https://fpcwhitefish.org/wp-content/uploads/2025/12/Basecamp-406-Social.png
END:VEVENT
BEGIN:VEVENT
DTSTART;TZID=America/Phoenix:20260121T190000
DTEND;TZID=America/Phoenix:20260121T200000
DTSTAMP:20260423T113616
CREATED:20250827T180711Z
LAST-MODIFIED:20250827T180711Z
UID:10005314-1769022000-1769025600@fpcwhitefish.org
SUMMARY:Choir Practice
DESCRIPTION:Choir practice will take place in the Sanctuary every Wednesday at 7:00 p.m. All are welcome. Please enter the glass doors on 3rd Ave and head up the stairs.
URL:https://fpcwhitefish.org/event/choir-practice/2026-01-21/
LOCATION:First Presbyterian Church\, 301 Central Ave\, Whitefish\, MT\, 59937-8457\, United States
CATEGORIES:Family
ATTACH;FMTTYPE=image/jpeg:https://fpcwhitefish.org/wp-content/uploads/2023/05/Easter-Sunday_choir800px.jpg
ORGANIZER;CN="Alma Ramlow":MAILTO:info@fpcwhitefish.org
END:VEVENT
END:VCALENDAR