BEGIN:VCALENDAR
VERSION:2.0
PRODID:-//First Presbyterian Church of Whitefish - ECPv6.15.20//NONSGML v1.0//EN
CALSCALE:GREGORIAN
METHOD:PUBLISH
X-WR-CALNAME:First Presbyterian Church of Whitefish
X-ORIGINAL-URL:https://fpcwhitefish.org
X-WR-CALDESC:Events for First Presbyterian Church of Whitefish
REFRESH-INTERVAL;VALUE=DURATION:PT1H
X-Robots-Tag:noindex
X-PUBLISHED-TTL:PT1H
BEGIN:VTIMEZONE
TZID:America/Phoenix
BEGIN:STANDARD
TZOFFSETFROM:-0700
TZOFFSETTO:-0700
TZNAME:MST
DTSTART:20250101T000000
END:STANDARD
END:VTIMEZONE
BEGIN:VEVENT
DTSTART;TZID=America/Phoenix:20260726T090000
DTEND;TZID=America/Phoenix:20260726T100000
DTSTAMP:20260423T142540
CREATED:20250919T180306Z
LAST-MODIFIED:20250924T154135Z
UID:10005610-1785056400-1785060000@fpcwhitefish.org
SUMMARY:Youth Bible Study
DESCRIPTION:Youth bible study for grades 6-12 will take place Sunday morning at 9am.  Grab a hot cocoa in the main office and join us! Light breakfast snacks will be served or feel free to bring your own.
URL:https://fpcwhitefish.org/event/youth-bible-study/2026-07-26/
LOCATION:First Presbyterian Church\, 301 Central Ave\, Whitefish\, MT\, 59937-8457\, United States
CATEGORIES:Youth Group
ATTACH;FMTTYPE=image/jpeg:https://fpcwhitefish.org/wp-content/uploads/2025/06/FPC-kids-board-to-hold-1.jpg
END:VEVENT
BEGIN:VEVENT
DTSTART;TZID=America/Phoenix:20260728T080000
DTEND;TZID=America/Phoenix:20260728T090000
DTSTAMP:20260423T142540
CREATED:20240411T155941Z
LAST-MODIFIED:20260312T205714Z
UID:10006266-1785225600-1785229200@fpcwhitefish.org
SUMMARY:Men's Bible Study & Breakfast
DESCRIPTION:Join us every Tuesday morning for a delicious breakfast and fellowship.
URL:https://fpcwhitefish.org/event/mens-bible-study-breakfast-19/2026-07-28/
LOCATION:Fellowsip Hall – First Presbyterian Church\, 301 Central Ave\, Whitefish\, MT\, 59937\, United States
CATEGORIES:Mens Group
ATTACH;FMTTYPE=image/jpeg:https://fpcwhitefish.org/wp-content/uploads/2024/04/Mens-Breakfast.jpg
END:VEVENT
BEGIN:VEVENT
DTSTART;TZID=America/Phoenix:20260729T100000
DTEND;TZID=America/Phoenix:20260729T110000
DTSTAMP:20260423T142540
CREATED:20260409T190533Z
LAST-MODIFIED:20260409T190533Z
UID:10006534-1785319200-1785322800@fpcwhitefish.org
SUMMARY:Wednesday Women's Bible Study
DESCRIPTION:
URL:https://fpcwhitefish.org/event/wednesday-womens-bible-study/2026-07-29/
LOCATION:Fellowsip Hall – First Presbyterian Church\, 301 Central Ave\, Whitefish\, MT\, 59937\, United States
CATEGORIES:Womans Group
ATTACH;FMTTYPE=image/png:https://fpcwhitefish.org/wp-content/uploads/2026/03/Ladies-AM-Bible-Study.png
END:VEVENT
BEGIN:VEVENT
DTSTART;TZID=America/Phoenix:20260729T150000
DTEND;TZID=America/Phoenix:20260729T163000
DTSTAMP:20260423T142540
CREATED:20250924T155428Z
LAST-MODIFIED:20260115T171522Z
UID:10005874-1785337200-1785342600@fpcwhitefish.org
SUMMARY:Base Camp 406
DESCRIPTION:
URL:https://fpcwhitefish.org/event/base-camp-406/2026-07-29/
LOCATION:MT
CATEGORIES:Youth Group
ATTACH;FMTTYPE=image/png:https://fpcwhitefish.org/wp-content/uploads/2025/12/Basecamp-406-Social.png
END:VEVENT
BEGIN:VEVENT
DTSTART;TZID=America/Phoenix:20260729T190000
DTEND;TZID=America/Phoenix:20260729T200000
DTSTAMP:20260423T142540
CREATED:20250827T180711Z
LAST-MODIFIED:20250827T180711Z
UID:10005341-1785351600-1785355200@fpcwhitefish.org
SUMMARY:Choir Practice
DESCRIPTION:Choir practice will take place in the Sanctuary every Wednesday at 7:00 p.m. All are welcome. Please enter the glass doors on 3rd Ave and head up the stairs.
URL:https://fpcwhitefish.org/event/choir-practice/2026-07-29/
LOCATION:First Presbyterian Church\, 301 Central Ave\, Whitefish\, MT\, 59937-8457\, United States
CATEGORIES:Family
ATTACH;FMTTYPE=image/jpeg:https://fpcwhitefish.org/wp-content/uploads/2023/05/Easter-Sunday_choir800px.jpg
ORGANIZER;CN="Alma Ramlow":MAILTO:info@fpcwhitefish.org
END:VEVENT
BEGIN:VEVENT
DTSTART;TZID=America/Phoenix:20260730T100000
DTEND;TZID=America/Phoenix:20260730T110000
DTSTAMP:20260423T142540
CREATED:20250827T180101Z
LAST-MODIFIED:20250827T180101Z
UID:10005081-1785405600-1785409200@fpcwhitefish.org
SUMMARY:Women's Bible Study
DESCRIPTION:Join us every Thursday morning at 10 am for Bible Study and Fellowship. All ladies are welcome to attend. Enter the glass door on 3rd Ave and head up the stairs to Fellowship Hall.
URL:https://fpcwhitefish.org/event/womens-bible-study/2026-07-30/
LOCATION:Fellowsip Hall – First Presbyterian Church\, 301 Central Ave\, Whitefish\, MT\, 59937\, United States
CATEGORIES:Womans Group
ATTACH;FMTTYPE=image/png:https://fpcwhitefish.org/wp-content/uploads/2023/06/FPClogo-color-clear-background-_300x300.png
END:VEVENT
BEGIN:VEVENT
DTSTART;TZID=America/Phoenix:20260802T090000
DTEND;TZID=America/Phoenix:20260802T100000
DTSTAMP:20260423T142540
CREATED:20250827T174841Z
LAST-MODIFIED:20250827T174841Z
UID:10004823-1785661200-1785664800@fpcwhitefish.org
SUMMARY:Adult Sunday School
DESCRIPTION:Adult Sunday School located in the Chapel every Sunday before worship service. Please enter the small door (to the right of our Sanctuary doors) on Central Ave.
URL:https://fpcwhitefish.org/event/adult-sunday-school/2026-08-02/
LOCATION:Chapel – First Presbyterian Church
ATTACH;FMTTYPE=image/jpeg:https://fpcwhitefish.org/wp-content/uploads/2023/06/biblerocks-header4-1.jpg
END:VEVENT
BEGIN:VEVENT
DTSTART;TZID=America/Phoenix:20260802T090000
DTEND;TZID=America/Phoenix:20260802T100000
DTSTAMP:20260423T142540
CREATED:20250919T180306Z
LAST-MODIFIED:20250924T154135Z
UID:10005611-1785661200-1785664800@fpcwhitefish.org
SUMMARY:Youth Bible Study
DESCRIPTION:Youth bible study for grades 6-12 will take place Sunday morning at 9am.  Grab a hot cocoa in the main office and join us! Light breakfast snacks will be served or feel free to bring your own.
URL:https://fpcwhitefish.org/event/youth-bible-study/2026-08-02/
LOCATION:First Presbyterian Church\, 301 Central Ave\, Whitefish\, MT\, 59937-8457\, United States
CATEGORIES:Youth Group
ATTACH;FMTTYPE=image/jpeg:https://fpcwhitefish.org/wp-content/uploads/2025/06/FPC-kids-board-to-hold-1.jpg
END:VEVENT
BEGIN:VEVENT
DTSTART;TZID=America/Phoenix:20260804T080000
DTEND;TZID=America/Phoenix:20260804T090000
DTSTAMP:20260423T142540
CREATED:20240411T155941Z
LAST-MODIFIED:20260312T205714Z
UID:10006267-1785830400-1785834000@fpcwhitefish.org
SUMMARY:Men's Bible Study & Breakfast
DESCRIPTION:Join us every Tuesday morning for a delicious breakfast and fellowship.
URL:https://fpcwhitefish.org/event/mens-bible-study-breakfast-19/2026-08-04/
LOCATION:Fellowsip Hall – First Presbyterian Church\, 301 Central Ave\, Whitefish\, MT\, 59937\, United States
CATEGORIES:Mens Group
ATTACH;FMTTYPE=image/jpeg:https://fpcwhitefish.org/wp-content/uploads/2024/04/Mens-Breakfast.jpg
END:VEVENT
BEGIN:VEVENT
DTSTART;TZID=America/Phoenix:20260805T100000
DTEND;TZID=America/Phoenix:20260805T110000
DTSTAMP:20260423T142540
CREATED:20260409T190533Z
LAST-MODIFIED:20260409T190533Z
UID:10006535-1785924000-1785927600@fpcwhitefish.org
SUMMARY:Wednesday Women's Bible Study
DESCRIPTION:
URL:https://fpcwhitefish.org/event/wednesday-womens-bible-study/2026-08-05/
LOCATION:Fellowsip Hall – First Presbyterian Church\, 301 Central Ave\, Whitefish\, MT\, 59937\, United States
CATEGORIES:Womans Group
ATTACH;FMTTYPE=image/png:https://fpcwhitefish.org/wp-content/uploads/2026/03/Ladies-AM-Bible-Study.png
END:VEVENT
BEGIN:VEVENT
DTSTART;TZID=America/Phoenix:20260805T150000
DTEND;TZID=America/Phoenix:20260805T163000
DTSTAMP:20260423T142540
CREATED:20250924T155428Z
LAST-MODIFIED:20260115T171522Z
UID:10005875-1785942000-1785947400@fpcwhitefish.org
SUMMARY:Base Camp 406
DESCRIPTION:
URL:https://fpcwhitefish.org/event/base-camp-406/2026-08-05/
LOCATION:MT
CATEGORIES:Youth Group
ATTACH;FMTTYPE=image/png:https://fpcwhitefish.org/wp-content/uploads/2025/12/Basecamp-406-Social.png
END:VEVENT
BEGIN:VEVENT
DTSTART;TZID=America/Phoenix:20260805T190000
DTEND;TZID=America/Phoenix:20260805T200000
DTSTAMP:20260423T142540
CREATED:20250827T180711Z
LAST-MODIFIED:20250827T180711Z
UID:10005342-1785956400-1785960000@fpcwhitefish.org
SUMMARY:Choir Practice
DESCRIPTION:Choir practice will take place in the Sanctuary every Wednesday at 7:00 p.m. All are welcome. Please enter the glass doors on 3rd Ave and head up the stairs.
URL:https://fpcwhitefish.org/event/choir-practice/2026-08-05/
LOCATION:First Presbyterian Church\, 301 Central Ave\, Whitefish\, MT\, 59937-8457\, United States
CATEGORIES:Family
ATTACH;FMTTYPE=image/jpeg:https://fpcwhitefish.org/wp-content/uploads/2023/05/Easter-Sunday_choir800px.jpg
ORGANIZER;CN="Alma Ramlow":MAILTO:info@fpcwhitefish.org
END:VEVENT
BEGIN:VEVENT
DTSTART;TZID=America/Phoenix:20260806T100000
DTEND;TZID=America/Phoenix:20260806T110000
DTSTAMP:20260423T142540
CREATED:20250827T180101Z
LAST-MODIFIED:20250827T180101Z
UID:10005082-1786010400-1786014000@fpcwhitefish.org
SUMMARY:Women's Bible Study
DESCRIPTION:Join us every Thursday morning at 10 am for Bible Study and Fellowship. All ladies are welcome to attend. Enter the glass door on 3rd Ave and head up the stairs to Fellowship Hall.
URL:https://fpcwhitefish.org/event/womens-bible-study/2026-08-06/
LOCATION:Fellowsip Hall – First Presbyterian Church\, 301 Central Ave\, Whitefish\, MT\, 59937\, United States
CATEGORIES:Womans Group
ATTACH;FMTTYPE=image/png:https://fpcwhitefish.org/wp-content/uploads/2023/06/FPClogo-color-clear-background-_300x300.png
END:VEVENT
BEGIN:VEVENT
DTSTART;TZID=America/Phoenix:20260809T090000
DTEND;TZID=America/Phoenix:20260809T100000
DTSTAMP:20260423T142540
CREATED:20250827T174841Z
LAST-MODIFIED:20250827T174841Z
UID:10004824-1786266000-1786269600@fpcwhitefish.org
SUMMARY:Adult Sunday School
DESCRIPTION:Adult Sunday School located in the Chapel every Sunday before worship service. Please enter the small door (to the right of our Sanctuary doors) on Central Ave.
URL:https://fpcwhitefish.org/event/adult-sunday-school/2026-08-09/
LOCATION:Chapel – First Presbyterian Church
ATTACH;FMTTYPE=image/jpeg:https://fpcwhitefish.org/wp-content/uploads/2023/06/biblerocks-header4-1.jpg
END:VEVENT
BEGIN:VEVENT
DTSTART;TZID=America/Phoenix:20260809T090000
DTEND;TZID=America/Phoenix:20260809T100000
DTSTAMP:20260423T142540
CREATED:20250919T180306Z
LAST-MODIFIED:20250924T154135Z
UID:10005612-1786266000-1786269600@fpcwhitefish.org
SUMMARY:Youth Bible Study
DESCRIPTION:Youth bible study for grades 6-12 will take place Sunday morning at 9am.  Grab a hot cocoa in the main office and join us! Light breakfast snacks will be served or feel free to bring your own.
URL:https://fpcwhitefish.org/event/youth-bible-study/2026-08-09/
LOCATION:First Presbyterian Church\, 301 Central Ave\, Whitefish\, MT\, 59937-8457\, United States
CATEGORIES:Youth Group
ATTACH;FMTTYPE=image/jpeg:https://fpcwhitefish.org/wp-content/uploads/2025/06/FPC-kids-board-to-hold-1.jpg
END:VEVENT
BEGIN:VEVENT
DTSTART;TZID=America/Phoenix:20260811T080000
DTEND;TZID=America/Phoenix:20260811T090000
DTSTAMP:20260423T142540
CREATED:20240411T155941Z
LAST-MODIFIED:20260312T205714Z
UID:10006268-1786435200-1786438800@fpcwhitefish.org
SUMMARY:Men's Bible Study & Breakfast
DESCRIPTION:Join us every Tuesday morning for a delicious breakfast and fellowship.
URL:https://fpcwhitefish.org/event/mens-bible-study-breakfast-19/2026-08-11/
LOCATION:Fellowsip Hall – First Presbyterian Church\, 301 Central Ave\, Whitefish\, MT\, 59937\, United States
CATEGORIES:Mens Group
ATTACH;FMTTYPE=image/jpeg:https://fpcwhitefish.org/wp-content/uploads/2024/04/Mens-Breakfast.jpg
END:VEVENT
BEGIN:VEVENT
DTSTART;TZID=America/Phoenix:20260812T100000
DTEND;TZID=America/Phoenix:20260812T110000
DTSTAMP:20260423T142540
CREATED:20260409T190533Z
LAST-MODIFIED:20260409T190533Z
UID:10006536-1786528800-1786532400@fpcwhitefish.org
SUMMARY:Wednesday Women's Bible Study
DESCRIPTION:
URL:https://fpcwhitefish.org/event/wednesday-womens-bible-study/2026-08-12/
LOCATION:Fellowsip Hall – First Presbyterian Church\, 301 Central Ave\, Whitefish\, MT\, 59937\, United States
CATEGORIES:Womans Group
ATTACH;FMTTYPE=image/png:https://fpcwhitefish.org/wp-content/uploads/2026/03/Ladies-AM-Bible-Study.png
END:VEVENT
BEGIN:VEVENT
DTSTART;TZID=America/Phoenix:20260812T150000
DTEND;TZID=America/Phoenix:20260812T163000
DTSTAMP:20260423T142540
CREATED:20250924T155428Z
LAST-MODIFIED:20260115T171522Z
UID:10005876-1786546800-1786552200@fpcwhitefish.org
SUMMARY:Base Camp 406
DESCRIPTION:
URL:https://fpcwhitefish.org/event/base-camp-406/2026-08-12/
LOCATION:MT
CATEGORIES:Youth Group
ATTACH;FMTTYPE=image/png:https://fpcwhitefish.org/wp-content/uploads/2025/12/Basecamp-406-Social.png
END:VEVENT
BEGIN:VEVENT
DTSTART;TZID=America/Phoenix:20260812T190000
DTEND;TZID=America/Phoenix:20260812T200000
DTSTAMP:20260423T142540
CREATED:20250827T180711Z
LAST-MODIFIED:20250827T180711Z
UID:10005343-1786561200-1786564800@fpcwhitefish.org
SUMMARY:Choir Practice
DESCRIPTION:Choir practice will take place in the Sanctuary every Wednesday at 7:00 p.m. All are welcome. Please enter the glass doors on 3rd Ave and head up the stairs.
URL:https://fpcwhitefish.org/event/choir-practice/2026-08-12/
LOCATION:First Presbyterian Church\, 301 Central Ave\, Whitefish\, MT\, 59937-8457\, United States
CATEGORIES:Family
ATTACH;FMTTYPE=image/jpeg:https://fpcwhitefish.org/wp-content/uploads/2023/05/Easter-Sunday_choir800px.jpg
ORGANIZER;CN="Alma Ramlow":MAILTO:info@fpcwhitefish.org
END:VEVENT
BEGIN:VEVENT
DTSTART;TZID=America/Phoenix:20260813T100000
DTEND;TZID=America/Phoenix:20260813T110000
DTSTAMP:20260423T142540
CREATED:20250827T180101Z
LAST-MODIFIED:20250827T180101Z
UID:10005083-1786615200-1786618800@fpcwhitefish.org
SUMMARY:Women's Bible Study
DESCRIPTION:Join us every Thursday morning at 10 am for Bible Study and Fellowship. All ladies are welcome to attend. Enter the glass door on 3rd Ave and head up the stairs to Fellowship Hall.
URL:https://fpcwhitefish.org/event/womens-bible-study/2026-08-13/
LOCATION:Fellowsip Hall – First Presbyterian Church\, 301 Central Ave\, Whitefish\, MT\, 59937\, United States
CATEGORIES:Womans Group
ATTACH;FMTTYPE=image/png:https://fpcwhitefish.org/wp-content/uploads/2023/06/FPClogo-color-clear-background-_300x300.png
END:VEVENT
BEGIN:VEVENT
DTSTART;TZID=America/Phoenix:20260816T090000
DTEND;TZID=America/Phoenix:20260816T100000
DTSTAMP:20260423T142540
CREATED:20250827T174841Z
LAST-MODIFIED:20250827T174841Z
UID:10004825-1786870800-1786874400@fpcwhitefish.org
SUMMARY:Adult Sunday School
DESCRIPTION:Adult Sunday School located in the Chapel every Sunday before worship service. Please enter the small door (to the right of our Sanctuary doors) on Central Ave.
URL:https://fpcwhitefish.org/event/adult-sunday-school/2026-08-16/
LOCATION:Chapel – First Presbyterian Church
ATTACH;FMTTYPE=image/jpeg:https://fpcwhitefish.org/wp-content/uploads/2023/06/biblerocks-header4-1.jpg
END:VEVENT
BEGIN:VEVENT
DTSTART;TZID=America/Phoenix:20260816T090000
DTEND;TZID=America/Phoenix:20260816T100000
DTSTAMP:20260423T142540
CREATED:20250919T180306Z
LAST-MODIFIED:20250924T154135Z
UID:10005613-1786870800-1786874400@fpcwhitefish.org
SUMMARY:Youth Bible Study
DESCRIPTION:Youth bible study for grades 6-12 will take place Sunday morning at 9am.  Grab a hot cocoa in the main office and join us! Light breakfast snacks will be served or feel free to bring your own.
URL:https://fpcwhitefish.org/event/youth-bible-study/2026-08-16/
LOCATION:First Presbyterian Church\, 301 Central Ave\, Whitefish\, MT\, 59937-8457\, United States
CATEGORIES:Youth Group
ATTACH;FMTTYPE=image/jpeg:https://fpcwhitefish.org/wp-content/uploads/2025/06/FPC-kids-board-to-hold-1.jpg
END:VEVENT
BEGIN:VEVENT
DTSTART;TZID=America/Phoenix:20260818T080000
DTEND;TZID=America/Phoenix:20260818T090000
DTSTAMP:20260423T142540
CREATED:20240411T155941Z
LAST-MODIFIED:20260312T205714Z
UID:10006269-1787040000-1787043600@fpcwhitefish.org
SUMMARY:Men's Bible Study & Breakfast
DESCRIPTION:Join us every Tuesday morning for a delicious breakfast and fellowship.
URL:https://fpcwhitefish.org/event/mens-bible-study-breakfast-19/2026-08-18/
LOCATION:Fellowsip Hall – First Presbyterian Church\, 301 Central Ave\, Whitefish\, MT\, 59937\, United States
CATEGORIES:Mens Group
ATTACH;FMTTYPE=image/jpeg:https://fpcwhitefish.org/wp-content/uploads/2024/04/Mens-Breakfast.jpg
END:VEVENT
BEGIN:VEVENT
DTSTART;TZID=America/Phoenix:20260819T100000
DTEND;TZID=America/Phoenix:20260819T110000
DTSTAMP:20260423T142540
CREATED:20260409T190533Z
LAST-MODIFIED:20260409T190533Z
UID:10006537-1787133600-1787137200@fpcwhitefish.org
SUMMARY:Wednesday Women's Bible Study
DESCRIPTION:
URL:https://fpcwhitefish.org/event/wednesday-womens-bible-study/2026-08-19/
LOCATION:Fellowsip Hall – First Presbyterian Church\, 301 Central Ave\, Whitefish\, MT\, 59937\, United States
CATEGORIES:Womans Group
ATTACH;FMTTYPE=image/png:https://fpcwhitefish.org/wp-content/uploads/2026/03/Ladies-AM-Bible-Study.png
END:VEVENT
BEGIN:VEVENT
DTSTART;TZID=America/Phoenix:20260819T150000
DTEND;TZID=America/Phoenix:20260819T163000
DTSTAMP:20260423T142540
CREATED:20250924T155428Z
LAST-MODIFIED:20260115T171522Z
UID:10005877-1787151600-1787157000@fpcwhitefish.org
SUMMARY:Base Camp 406
DESCRIPTION:
URL:https://fpcwhitefish.org/event/base-camp-406/2026-08-19/
LOCATION:MT
CATEGORIES:Youth Group
ATTACH;FMTTYPE=image/png:https://fpcwhitefish.org/wp-content/uploads/2025/12/Basecamp-406-Social.png
END:VEVENT
BEGIN:VEVENT
DTSTART;TZID=America/Phoenix:20260819T190000
DTEND;TZID=America/Phoenix:20260819T200000
DTSTAMP:20260423T142540
CREATED:20250827T180711Z
LAST-MODIFIED:20250827T180711Z
UID:10005344-1787166000-1787169600@fpcwhitefish.org
SUMMARY:Choir Practice
DESCRIPTION:Choir practice will take place in the Sanctuary every Wednesday at 7:00 p.m. All are welcome. Please enter the glass doors on 3rd Ave and head up the stairs.
URL:https://fpcwhitefish.org/event/choir-practice/2026-08-19/
LOCATION:First Presbyterian Church\, 301 Central Ave\, Whitefish\, MT\, 59937-8457\, United States
CATEGORIES:Family
ATTACH;FMTTYPE=image/jpeg:https://fpcwhitefish.org/wp-content/uploads/2023/05/Easter-Sunday_choir800px.jpg
ORGANIZER;CN="Alma Ramlow":MAILTO:info@fpcwhitefish.org
END:VEVENT
BEGIN:VEVENT
DTSTART;TZID=America/Phoenix:20260820T100000
DTEND;TZID=America/Phoenix:20260820T110000
DTSTAMP:20260423T142540
CREATED:20250827T180101Z
LAST-MODIFIED:20250827T180101Z
UID:10005084-1787220000-1787223600@fpcwhitefish.org
SUMMARY:Women's Bible Study
DESCRIPTION:Join us every Thursday morning at 10 am for Bible Study and Fellowship. All ladies are welcome to attend. Enter the glass door on 3rd Ave and head up the stairs to Fellowship Hall.
URL:https://fpcwhitefish.org/event/womens-bible-study/2026-08-20/
LOCATION:Fellowsip Hall – First Presbyterian Church\, 301 Central Ave\, Whitefish\, MT\, 59937\, United States
CATEGORIES:Womans Group
ATTACH;FMTTYPE=image/png:https://fpcwhitefish.org/wp-content/uploads/2023/06/FPClogo-color-clear-background-_300x300.png
END:VEVENT
BEGIN:VEVENT
DTSTART;TZID=America/Phoenix:20260823T090000
DTEND;TZID=America/Phoenix:20260823T100000
DTSTAMP:20260423T142540
CREATED:20250827T174841Z
LAST-MODIFIED:20250827T174841Z
UID:10004826-1787475600-1787479200@fpcwhitefish.org
SUMMARY:Adult Sunday School
DESCRIPTION:Adult Sunday School located in the Chapel every Sunday before worship service. Please enter the small door (to the right of our Sanctuary doors) on Central Ave.
URL:https://fpcwhitefish.org/event/adult-sunday-school/2026-08-23/
LOCATION:Chapel – First Presbyterian Church
ATTACH;FMTTYPE=image/jpeg:https://fpcwhitefish.org/wp-content/uploads/2023/06/biblerocks-header4-1.jpg
END:VEVENT
BEGIN:VEVENT
DTSTART;TZID=America/Phoenix:20260823T090000
DTEND;TZID=America/Phoenix:20260823T100000
DTSTAMP:20260423T142540
CREATED:20250919T180306Z
LAST-MODIFIED:20250924T154135Z
UID:10005614-1787475600-1787479200@fpcwhitefish.org
SUMMARY:Youth Bible Study
DESCRIPTION:Youth bible study for grades 6-12 will take place Sunday morning at 9am.  Grab a hot cocoa in the main office and join us! Light breakfast snacks will be served or feel free to bring your own.
URL:https://fpcwhitefish.org/event/youth-bible-study/2026-08-23/
LOCATION:First Presbyterian Church\, 301 Central Ave\, Whitefish\, MT\, 59937-8457\, United States
CATEGORIES:Youth Group
ATTACH;FMTTYPE=image/jpeg:https://fpcwhitefish.org/wp-content/uploads/2025/06/FPC-kids-board-to-hold-1.jpg
END:VEVENT
BEGIN:VEVENT
DTSTART;TZID=America/Phoenix:20260825T080000
DTEND;TZID=America/Phoenix:20260825T090000
DTSTAMP:20260423T142540
CREATED:20240411T155941Z
LAST-MODIFIED:20260312T205714Z
UID:10006270-1787644800-1787648400@fpcwhitefish.org
SUMMARY:Men's Bible Study & Breakfast
DESCRIPTION:Join us every Tuesday morning for a delicious breakfast and fellowship.
URL:https://fpcwhitefish.org/event/mens-bible-study-breakfast-19/2026-08-25/
LOCATION:Fellowsip Hall – First Presbyterian Church\, 301 Central Ave\, Whitefish\, MT\, 59937\, United States
CATEGORIES:Mens Group
ATTACH;FMTTYPE=image/jpeg:https://fpcwhitefish.org/wp-content/uploads/2024/04/Mens-Breakfast.jpg
END:VEVENT
END:VCALENDAR