BEGIN:VCALENDAR
VERSION:2.0
PRODID:-//First Presbyterian Church of Whitefish - ECPv6.15.20//NONSGML v1.0//EN
CALSCALE:GREGORIAN
METHOD:PUBLISH
X-WR-CALNAME:First Presbyterian Church of Whitefish
X-ORIGINAL-URL:https://fpcwhitefish.org
X-WR-CALDESC:Events for First Presbyterian Church of Whitefish
REFRESH-INTERVAL;VALUE=DURATION:PT1H
X-Robots-Tag:noindex
X-PUBLISHED-TTL:PT1H
BEGIN:VTIMEZONE
TZID:America/Phoenix
BEGIN:STANDARD
TZOFFSETFROM:-0700
TZOFFSETTO:-0700
TZNAME:MST
DTSTART:20250101T000000
END:STANDARD
END:VTIMEZONE
BEGIN:VEVENT
DTSTART;TZID=America/Phoenix:20260222T173000
DTEND;TZID=America/Phoenix:20260222T203000
DTSTAMP:20260421T092648
CREATED:20260218T173733Z
LAST-MODIFIED:20260218T173839Z
UID:10006190-1771781400-1771792200@fpcwhitefish.org
SUMMARY:Family Potluck & Movie Night
DESCRIPTION:Join us for a family potluck & movie featuring “King of Kings” Dinner will start at 5:30 followed by a movie at 6:30. Please enter the glass doors on 3rd street and head up the stairs.
URL:https://fpcwhitefish.org/event/family-potluck-movie-night/
LOCATION:First Presbyterian Church\, 301 Central Ave\, Whitefish\, MT\, 59937-8457\, United States
CATEGORIES:Family
ATTACH;FMTTYPE=image/png:https://fpcwhitefish.org/wp-content/uploads/2026/02/Kings-Feast-Document.png
END:VEVENT
END:VCALENDAR