BEGIN:VCALENDAR
VERSION:2.0
PRODID:-//First Presbyterian Church of Whitefish - ECPv6.15.20//NONSGML v1.0//EN
CALSCALE:GREGORIAN
METHOD:PUBLISH
X-WR-CALNAME:First Presbyterian Church of Whitefish
X-ORIGINAL-URL:https://fpcwhitefish.org
X-WR-CALDESC:Events for First Presbyterian Church of Whitefish
REFRESH-INTERVAL;VALUE=DURATION:PT1H
X-Robots-Tag:noindex
X-PUBLISHED-TTL:PT1H
BEGIN:VTIMEZONE
TZID:America/Phoenix
BEGIN:STANDARD
TZOFFSETFROM:-0700
TZOFFSETTO:-0700
TZNAME:MST
DTSTART:20250101T000000
END:STANDARD
END:VTIMEZONE
BEGIN:VEVENT
DTSTART;TZID=America/Phoenix:20261007T100000
DTEND;TZID=America/Phoenix:20261007T110000
DTSTAMP:20260421T091824
CREATED:20260409T190533Z
LAST-MODIFIED:20260409T190533Z
UID:10006544-1791367200-1791370800@fpcwhitefish.org
SUMMARY:Wednesday Women's Bible Study
DESCRIPTION:
URL:https://fpcwhitefish.org/event/wednesday-womens-bible-study/2026-10-07/
LOCATION:Fellowsip Hall – First Presbyterian Church\, 301 Central Ave\, Whitefish\, MT\, 59937\, United States
CATEGORIES:Womans Group
ATTACH;FMTTYPE=image/png:https://fpcwhitefish.org/wp-content/uploads/2026/03/Ladies-AM-Bible-Study.png
END:VEVENT
BEGIN:VEVENT
DTSTART;TZID=America/Phoenix:20261014T100000
DTEND;TZID=America/Phoenix:20261014T110000
DTSTAMP:20260421T091824
CREATED:20260409T190533Z
LAST-MODIFIED:20260409T190533Z
UID:10006545-1791972000-1791975600@fpcwhitefish.org
SUMMARY:Wednesday Women's Bible Study
DESCRIPTION:
URL:https://fpcwhitefish.org/event/wednesday-womens-bible-study/2026-10-14/
LOCATION:Fellowsip Hall – First Presbyterian Church\, 301 Central Ave\, Whitefish\, MT\, 59937\, United States
CATEGORIES:Womans Group
ATTACH;FMTTYPE=image/png:https://fpcwhitefish.org/wp-content/uploads/2026/03/Ladies-AM-Bible-Study.png
END:VEVENT
BEGIN:VEVENT
DTSTART;TZID=America/Phoenix:20261021T100000
DTEND;TZID=America/Phoenix:20261021T110000
DTSTAMP:20260421T091824
CREATED:20260409T190533Z
LAST-MODIFIED:20260409T190533Z
UID:10006546-1792576800-1792580400@fpcwhitefish.org
SUMMARY:Wednesday Women's Bible Study
DESCRIPTION:
URL:https://fpcwhitefish.org/event/wednesday-womens-bible-study/2026-10-21/
LOCATION:Fellowsip Hall – First Presbyterian Church\, 301 Central Ave\, Whitefish\, MT\, 59937\, United States
CATEGORIES:Womans Group
ATTACH;FMTTYPE=image/png:https://fpcwhitefish.org/wp-content/uploads/2026/03/Ladies-AM-Bible-Study.png
END:VEVENT
BEGIN:VEVENT
DTSTART;TZID=America/Phoenix:20261028T100000
DTEND;TZID=America/Phoenix:20261028T110000
DTSTAMP:20260421T091824
CREATED:20260409T190533Z
LAST-MODIFIED:20260409T190533Z
UID:10006547-1793181600-1793185200@fpcwhitefish.org
SUMMARY:Wednesday Women's Bible Study
DESCRIPTION:
URL:https://fpcwhitefish.org/event/wednesday-womens-bible-study/2026-10-28/
LOCATION:Fellowsip Hall – First Presbyterian Church\, 301 Central Ave\, Whitefish\, MT\, 59937\, United States
CATEGORIES:Womans Group
ATTACH;FMTTYPE=image/png:https://fpcwhitefish.org/wp-content/uploads/2026/03/Ladies-AM-Bible-Study.png
END:VEVENT
BEGIN:VEVENT
DTSTART;TZID=America/Phoenix:20261104T100000
DTEND;TZID=America/Phoenix:20261104T110000
DTSTAMP:20260421T091824
CREATED:20260409T190533Z
LAST-MODIFIED:20260409T190533Z
UID:10006548-1793786400-1793790000@fpcwhitefish.org
SUMMARY:Wednesday Women's Bible Study
DESCRIPTION:
URL:https://fpcwhitefish.org/event/wednesday-womens-bible-study/2026-11-04/
LOCATION:Fellowsip Hall – First Presbyterian Church\, 301 Central Ave\, Whitefish\, MT\, 59937\, United States
CATEGORIES:Womans Group
ATTACH;FMTTYPE=image/png:https://fpcwhitefish.org/wp-content/uploads/2026/03/Ladies-AM-Bible-Study.png
END:VEVENT
BEGIN:VEVENT
DTSTART;TZID=America/Phoenix:20261111T100000
DTEND;TZID=America/Phoenix:20261111T110000
DTSTAMP:20260421T091824
CREATED:20260409T190533Z
LAST-MODIFIED:20260409T190533Z
UID:10006549-1794391200-1794394800@fpcwhitefish.org
SUMMARY:Wednesday Women's Bible Study
DESCRIPTION:
URL:https://fpcwhitefish.org/event/wednesday-womens-bible-study/2026-11-11/
LOCATION:Fellowsip Hall – First Presbyterian Church\, 301 Central Ave\, Whitefish\, MT\, 59937\, United States
CATEGORIES:Womans Group
ATTACH;FMTTYPE=image/png:https://fpcwhitefish.org/wp-content/uploads/2026/03/Ladies-AM-Bible-Study.png
END:VEVENT
BEGIN:VEVENT
DTSTART;TZID=America/Phoenix:20261118T100000
DTEND;TZID=America/Phoenix:20261118T110000
DTSTAMP:20260421T091824
CREATED:20260409T190533Z
LAST-MODIFIED:20260409T190533Z
UID:10006550-1794996000-1794999600@fpcwhitefish.org
SUMMARY:Wednesday Women's Bible Study
DESCRIPTION:
URL:https://fpcwhitefish.org/event/wednesday-womens-bible-study/2026-11-18/
LOCATION:Fellowsip Hall – First Presbyterian Church\, 301 Central Ave\, Whitefish\, MT\, 59937\, United States
CATEGORIES:Womans Group
ATTACH;FMTTYPE=image/png:https://fpcwhitefish.org/wp-content/uploads/2026/03/Ladies-AM-Bible-Study.png
END:VEVENT
BEGIN:VEVENT
DTSTART;TZID=America/Phoenix:20261125T100000
DTEND;TZID=America/Phoenix:20261125T110000
DTSTAMP:20260421T091824
CREATED:20260409T190533Z
LAST-MODIFIED:20260409T190533Z
UID:10006551-1795600800-1795604400@fpcwhitefish.org
SUMMARY:Wednesday Women's Bible Study
DESCRIPTION:
URL:https://fpcwhitefish.org/event/wednesday-womens-bible-study/2026-11-25/
LOCATION:Fellowsip Hall – First Presbyterian Church\, 301 Central Ave\, Whitefish\, MT\, 59937\, United States
CATEGORIES:Womans Group
ATTACH;FMTTYPE=image/png:https://fpcwhitefish.org/wp-content/uploads/2026/03/Ladies-AM-Bible-Study.png
END:VEVENT
BEGIN:VEVENT
DTSTART;TZID=America/Phoenix:20261202T100000
DTEND;TZID=America/Phoenix:20261202T110000
DTSTAMP:20260421T091824
CREATED:20260409T190533Z
LAST-MODIFIED:20260409T190533Z
UID:10006552-1796205600-1796209200@fpcwhitefish.org
SUMMARY:Wednesday Women's Bible Study
DESCRIPTION:
URL:https://fpcwhitefish.org/event/wednesday-womens-bible-study/2026-12-02/
LOCATION:Fellowsip Hall – First Presbyterian Church\, 301 Central Ave\, Whitefish\, MT\, 59937\, United States
CATEGORIES:Womans Group
ATTACH;FMTTYPE=image/png:https://fpcwhitefish.org/wp-content/uploads/2026/03/Ladies-AM-Bible-Study.png
END:VEVENT
BEGIN:VEVENT
DTSTART;TZID=America/Phoenix:20261209T100000
DTEND;TZID=America/Phoenix:20261209T110000
DTSTAMP:20260421T091824
CREATED:20260409T190533Z
LAST-MODIFIED:20260409T190533Z
UID:10006553-1796810400-1796814000@fpcwhitefish.org
SUMMARY:Wednesday Women's Bible Study
DESCRIPTION:
URL:https://fpcwhitefish.org/event/wednesday-womens-bible-study/2026-12-09/
LOCATION:Fellowsip Hall – First Presbyterian Church\, 301 Central Ave\, Whitefish\, MT\, 59937\, United States
CATEGORIES:Womans Group
ATTACH;FMTTYPE=image/png:https://fpcwhitefish.org/wp-content/uploads/2026/03/Ladies-AM-Bible-Study.png
END:VEVENT
BEGIN:VEVENT
DTSTART;TZID=America/Phoenix:20261216T100000
DTEND;TZID=America/Phoenix:20261216T110000
DTSTAMP:20260421T091824
CREATED:20260409T190533Z
LAST-MODIFIED:20260409T190533Z
UID:10006554-1797415200-1797418800@fpcwhitefish.org
SUMMARY:Wednesday Women's Bible Study
DESCRIPTION:
URL:https://fpcwhitefish.org/event/wednesday-womens-bible-study/2026-12-16/
LOCATION:Fellowsip Hall – First Presbyterian Church\, 301 Central Ave\, Whitefish\, MT\, 59937\, United States
CATEGORIES:Womans Group
ATTACH;FMTTYPE=image/png:https://fpcwhitefish.org/wp-content/uploads/2026/03/Ladies-AM-Bible-Study.png
END:VEVENT
BEGIN:VEVENT
DTSTART;TZID=America/Phoenix:20261223T100000
DTEND;TZID=America/Phoenix:20261223T110000
DTSTAMP:20260421T091824
CREATED:20260409T190533Z
LAST-MODIFIED:20260409T190533Z
UID:10006555-1798020000-1798023600@fpcwhitefish.org
SUMMARY:Wednesday Women's Bible Study
DESCRIPTION:
URL:https://fpcwhitefish.org/event/wednesday-womens-bible-study/2026-12-23/
LOCATION:Fellowsip Hall – First Presbyterian Church\, 301 Central Ave\, Whitefish\, MT\, 59937\, United States
CATEGORIES:Womans Group
ATTACH;FMTTYPE=image/png:https://fpcwhitefish.org/wp-content/uploads/2026/03/Ladies-AM-Bible-Study.png
END:VEVENT
BEGIN:VEVENT
DTSTART;TZID=America/Phoenix:20261230T100000
DTEND;TZID=America/Phoenix:20261230T110000
DTSTAMP:20260421T091824
CREATED:20260409T190533Z
LAST-MODIFIED:20260409T190533Z
UID:10006556-1798624800-1798628400@fpcwhitefish.org
SUMMARY:Wednesday Women's Bible Study
DESCRIPTION:
URL:https://fpcwhitefish.org/event/wednesday-womens-bible-study/2026-12-30/
LOCATION:Fellowsip Hall – First Presbyterian Church\, 301 Central Ave\, Whitefish\, MT\, 59937\, United States
CATEGORIES:Womans Group
ATTACH;FMTTYPE=image/png:https://fpcwhitefish.org/wp-content/uploads/2026/03/Ladies-AM-Bible-Study.png
END:VEVENT
BEGIN:VEVENT
DTSTART;TZID=America/Phoenix:20270106T100000
DTEND;TZID=America/Phoenix:20270106T110000
DTSTAMP:20260421T091824
CREATED:20260409T190533Z
LAST-MODIFIED:20260409T190533Z
UID:10006557-1799229600-1799233200@fpcwhitefish.org
SUMMARY:Wednesday Women's Bible Study
DESCRIPTION:
URL:https://fpcwhitefish.org/event/wednesday-womens-bible-study/2027-01-06/
LOCATION:Fellowsip Hall – First Presbyterian Church\, 301 Central Ave\, Whitefish\, MT\, 59937\, United States
CATEGORIES:Womans Group
ATTACH;FMTTYPE=image/png:https://fpcwhitefish.org/wp-content/uploads/2026/03/Ladies-AM-Bible-Study.png
END:VEVENT
BEGIN:VEVENT
DTSTART;TZID=America/Phoenix:20270113T100000
DTEND;TZID=America/Phoenix:20270113T110000
DTSTAMP:20260421T091824
CREATED:20260409T190533Z
LAST-MODIFIED:20260409T190533Z
UID:10006558-1799834400-1799838000@fpcwhitefish.org
SUMMARY:Wednesday Women's Bible Study
DESCRIPTION:
URL:https://fpcwhitefish.org/event/wednesday-womens-bible-study/2027-01-13/
LOCATION:Fellowsip Hall – First Presbyterian Church\, 301 Central Ave\, Whitefish\, MT\, 59937\, United States
CATEGORIES:Womans Group
ATTACH;FMTTYPE=image/png:https://fpcwhitefish.org/wp-content/uploads/2026/03/Ladies-AM-Bible-Study.png
END:VEVENT
BEGIN:VEVENT
DTSTART;TZID=America/Phoenix:20270120T100000
DTEND;TZID=America/Phoenix:20270120T110000
DTSTAMP:20260421T091824
CREATED:20260409T190533Z
LAST-MODIFIED:20260409T190533Z
UID:10006559-1800439200-1800442800@fpcwhitefish.org
SUMMARY:Wednesday Women's Bible Study
DESCRIPTION:
URL:https://fpcwhitefish.org/event/wednesday-womens-bible-study/2027-01-20/
LOCATION:Fellowsip Hall – First Presbyterian Church\, 301 Central Ave\, Whitefish\, MT\, 59937\, United States
CATEGORIES:Womans Group
ATTACH;FMTTYPE=image/png:https://fpcwhitefish.org/wp-content/uploads/2026/03/Ladies-AM-Bible-Study.png
END:VEVENT
BEGIN:VEVENT
DTSTART;TZID=America/Phoenix:20270127T100000
DTEND;TZID=America/Phoenix:20270127T110000
DTSTAMP:20260421T091824
CREATED:20260409T190533Z
LAST-MODIFIED:20260409T190533Z
UID:10006560-1801044000-1801047600@fpcwhitefish.org
SUMMARY:Wednesday Women's Bible Study
DESCRIPTION:
URL:https://fpcwhitefish.org/event/wednesday-womens-bible-study/2027-01-27/
LOCATION:Fellowsip Hall – First Presbyterian Church\, 301 Central Ave\, Whitefish\, MT\, 59937\, United States
CATEGORIES:Womans Group
ATTACH;FMTTYPE=image/png:https://fpcwhitefish.org/wp-content/uploads/2026/03/Ladies-AM-Bible-Study.png
END:VEVENT
BEGIN:VEVENT
DTSTART;TZID=America/Phoenix:20270203T100000
DTEND;TZID=America/Phoenix:20270203T110000
DTSTAMP:20260421T091824
CREATED:20260409T190533Z
LAST-MODIFIED:20260409T190533Z
UID:10006561-1801648800-1801652400@fpcwhitefish.org
SUMMARY:Wednesday Women's Bible Study
DESCRIPTION:
URL:https://fpcwhitefish.org/event/wednesday-womens-bible-study/2027-02-03/
LOCATION:Fellowsip Hall – First Presbyterian Church\, 301 Central Ave\, Whitefish\, MT\, 59937\, United States
CATEGORIES:Womans Group
ATTACH;FMTTYPE=image/png:https://fpcwhitefish.org/wp-content/uploads/2026/03/Ladies-AM-Bible-Study.png
END:VEVENT
BEGIN:VEVENT
DTSTART;TZID=America/Phoenix:20270210T100000
DTEND;TZID=America/Phoenix:20270210T110000
DTSTAMP:20260421T091824
CREATED:20260409T190533Z
LAST-MODIFIED:20260409T190533Z
UID:10006562-1802253600-1802257200@fpcwhitefish.org
SUMMARY:Wednesday Women's Bible Study
DESCRIPTION:
URL:https://fpcwhitefish.org/event/wednesday-womens-bible-study/2027-02-10/
LOCATION:Fellowsip Hall – First Presbyterian Church\, 301 Central Ave\, Whitefish\, MT\, 59937\, United States
CATEGORIES:Womans Group
ATTACH;FMTTYPE=image/png:https://fpcwhitefish.org/wp-content/uploads/2026/03/Ladies-AM-Bible-Study.png
END:VEVENT
BEGIN:VEVENT
DTSTART;TZID=America/Phoenix:20270217T100000
DTEND;TZID=America/Phoenix:20270217T110000
DTSTAMP:20260421T091824
CREATED:20260409T190533Z
LAST-MODIFIED:20260409T190533Z
UID:10006563-1802858400-1802862000@fpcwhitefish.org
SUMMARY:Wednesday Women's Bible Study
DESCRIPTION:
URL:https://fpcwhitefish.org/event/wednesday-womens-bible-study/2027-02-17/
LOCATION:Fellowsip Hall – First Presbyterian Church\, 301 Central Ave\, Whitefish\, MT\, 59937\, United States
CATEGORIES:Womans Group
ATTACH;FMTTYPE=image/png:https://fpcwhitefish.org/wp-content/uploads/2026/03/Ladies-AM-Bible-Study.png
END:VEVENT
BEGIN:VEVENT
DTSTART;TZID=America/Phoenix:20270224T100000
DTEND;TZID=America/Phoenix:20270224T110000
DTSTAMP:20260421T091824
CREATED:20260409T190533Z
LAST-MODIFIED:20260409T190533Z
UID:10006564-1803463200-1803466800@fpcwhitefish.org
SUMMARY:Wednesday Women's Bible Study
DESCRIPTION:
URL:https://fpcwhitefish.org/event/wednesday-womens-bible-study/2027-02-24/
LOCATION:Fellowsip Hall – First Presbyterian Church\, 301 Central Ave\, Whitefish\, MT\, 59937\, United States
CATEGORIES:Womans Group
ATTACH;FMTTYPE=image/png:https://fpcwhitefish.org/wp-content/uploads/2026/03/Ladies-AM-Bible-Study.png
END:VEVENT
BEGIN:VEVENT
DTSTART;TZID=America/Phoenix:20270303T100000
DTEND;TZID=America/Phoenix:20270303T110000
DTSTAMP:20260421T091824
CREATED:20260409T190533Z
LAST-MODIFIED:20260409T190533Z
UID:10006565-1804068000-1804071600@fpcwhitefish.org
SUMMARY:Wednesday Women's Bible Study
DESCRIPTION:
URL:https://fpcwhitefish.org/event/wednesday-womens-bible-study/2027-03-03/
LOCATION:Fellowsip Hall – First Presbyterian Church\, 301 Central Ave\, Whitefish\, MT\, 59937\, United States
CATEGORIES:Womans Group
ATTACH;FMTTYPE=image/png:https://fpcwhitefish.org/wp-content/uploads/2026/03/Ladies-AM-Bible-Study.png
END:VEVENT
BEGIN:VEVENT
DTSTART;TZID=America/Phoenix:20270310T100000
DTEND;TZID=America/Phoenix:20270310T110000
DTSTAMP:20260421T091824
CREATED:20260409T190533Z
LAST-MODIFIED:20260409T190533Z
UID:10006566-1804672800-1804676400@fpcwhitefish.org
SUMMARY:Wednesday Women's Bible Study
DESCRIPTION:
URL:https://fpcwhitefish.org/event/wednesday-womens-bible-study/2027-03-10/
LOCATION:Fellowsip Hall – First Presbyterian Church\, 301 Central Ave\, Whitefish\, MT\, 59937\, United States
CATEGORIES:Womans Group
ATTACH;FMTTYPE=image/png:https://fpcwhitefish.org/wp-content/uploads/2026/03/Ladies-AM-Bible-Study.png
END:VEVENT
BEGIN:VEVENT
DTSTART;TZID=America/Phoenix:20270317T100000
DTEND;TZID=America/Phoenix:20270317T110000
DTSTAMP:20260421T091824
CREATED:20260409T190533Z
LAST-MODIFIED:20260409T190533Z
UID:10006567-1805277600-1805281200@fpcwhitefish.org
SUMMARY:Wednesday Women's Bible Study
DESCRIPTION:
URL:https://fpcwhitefish.org/event/wednesday-womens-bible-study/2027-03-17/
LOCATION:Fellowsip Hall – First Presbyterian Church\, 301 Central Ave\, Whitefish\, MT\, 59937\, United States
CATEGORIES:Womans Group
ATTACH;FMTTYPE=image/png:https://fpcwhitefish.org/wp-content/uploads/2026/03/Ladies-AM-Bible-Study.png
END:VEVENT
BEGIN:VEVENT
DTSTART;TZID=America/Phoenix:20270324T100000
DTEND;TZID=America/Phoenix:20270324T110000
DTSTAMP:20260421T091824
CREATED:20260409T190533Z
LAST-MODIFIED:20260409T190533Z
UID:10006568-1805882400-1805886000@fpcwhitefish.org
SUMMARY:Wednesday Women's Bible Study
DESCRIPTION:
URL:https://fpcwhitefish.org/event/wednesday-womens-bible-study/2027-03-24/
LOCATION:Fellowsip Hall – First Presbyterian Church\, 301 Central Ave\, Whitefish\, MT\, 59937\, United States
CATEGORIES:Womans Group
ATTACH;FMTTYPE=image/png:https://fpcwhitefish.org/wp-content/uploads/2026/03/Ladies-AM-Bible-Study.png
END:VEVENT
BEGIN:VEVENT
DTSTART;TZID=America/Phoenix:20270331T100000
DTEND;TZID=America/Phoenix:20270331T110000
DTSTAMP:20260421T091824
CREATED:20260409T190533Z
LAST-MODIFIED:20260409T190533Z
UID:10006569-1806487200-1806490800@fpcwhitefish.org
SUMMARY:Wednesday Women's Bible Study
DESCRIPTION:
URL:https://fpcwhitefish.org/event/wednesday-womens-bible-study/2027-03-31/
LOCATION:Fellowsip Hall – First Presbyterian Church\, 301 Central Ave\, Whitefish\, MT\, 59937\, United States
CATEGORIES:Womans Group
ATTACH;FMTTYPE=image/png:https://fpcwhitefish.org/wp-content/uploads/2026/03/Ladies-AM-Bible-Study.png
END:VEVENT
BEGIN:VEVENT
DTSTART;TZID=America/Phoenix:20270407T100000
DTEND;TZID=America/Phoenix:20270407T110000
DTSTAMP:20260421T091824
CREATED:20260409T190533Z
LAST-MODIFIED:20260409T190533Z
UID:10006570-1807092000-1807095600@fpcwhitefish.org
SUMMARY:Wednesday Women's Bible Study
DESCRIPTION:
URL:https://fpcwhitefish.org/event/wednesday-womens-bible-study/2027-04-07/
LOCATION:Fellowsip Hall – First Presbyterian Church\, 301 Central Ave\, Whitefish\, MT\, 59937\, United States
CATEGORIES:Womans Group
ATTACH;FMTTYPE=image/png:https://fpcwhitefish.org/wp-content/uploads/2026/03/Ladies-AM-Bible-Study.png
END:VEVENT
BEGIN:VEVENT
DTSTART;TZID=America/Phoenix:20270414T100000
DTEND;TZID=America/Phoenix:20270414T110000
DTSTAMP:20260421T091824
CREATED:20260409T190533Z
LAST-MODIFIED:20260409T190533Z
UID:10006571-1807696800-1807700400@fpcwhitefish.org
SUMMARY:Wednesday Women's Bible Study
DESCRIPTION:
URL:https://fpcwhitefish.org/event/wednesday-womens-bible-study/2027-04-14/
LOCATION:Fellowsip Hall – First Presbyterian Church\, 301 Central Ave\, Whitefish\, MT\, 59937\, United States
CATEGORIES:Womans Group
ATTACH;FMTTYPE=image/png:https://fpcwhitefish.org/wp-content/uploads/2026/03/Ladies-AM-Bible-Study.png
END:VEVENT
BEGIN:VEVENT
DTSTART;TZID=America/Phoenix:20270421T100000
DTEND;TZID=America/Phoenix:20270421T110000
DTSTAMP:20260421T091824
CREATED:20260409T190533Z
LAST-MODIFIED:20260409T190533Z
UID:10006572-1808301600-1808305200@fpcwhitefish.org
SUMMARY:Wednesday Women's Bible Study
DESCRIPTION:
URL:https://fpcwhitefish.org/event/wednesday-womens-bible-study/2027-04-21/
LOCATION:Fellowsip Hall – First Presbyterian Church\, 301 Central Ave\, Whitefish\, MT\, 59937\, United States
CATEGORIES:Womans Group
ATTACH;FMTTYPE=image/png:https://fpcwhitefish.org/wp-content/uploads/2026/03/Ladies-AM-Bible-Study.png
END:VEVENT
BEGIN:VEVENT
DTSTART;TZID=America/Phoenix:20270428T100000
DTEND;TZID=America/Phoenix:20270428T110000
DTSTAMP:20260421T091824
CREATED:20260409T190533Z
LAST-MODIFIED:20260409T190533Z
UID:10006573-1808906400-1808910000@fpcwhitefish.org
SUMMARY:Wednesday Women's Bible Study
DESCRIPTION:
URL:https://fpcwhitefish.org/event/wednesday-womens-bible-study/2027-04-28/
LOCATION:Fellowsip Hall – First Presbyterian Church\, 301 Central Ave\, Whitefish\, MT\, 59937\, United States
CATEGORIES:Womans Group
ATTACH;FMTTYPE=image/png:https://fpcwhitefish.org/wp-content/uploads/2026/03/Ladies-AM-Bible-Study.png
END:VEVENT
END:VCALENDAR