BEGIN:VCALENDAR
VERSION:2.0
PRODID:-//First Presbyterian Church of Whitefish - ECPv6.15.20//NONSGML v1.0//EN
CALSCALE:GREGORIAN
METHOD:PUBLISH
X-WR-CALNAME:First Presbyterian Church of Whitefish
X-ORIGINAL-URL:https://fpcwhitefish.org
X-WR-CALDESC:Events for First Presbyterian Church of Whitefish
REFRESH-INTERVAL;VALUE=DURATION:PT1H
X-Robots-Tag:noindex
X-PUBLISHED-TTL:PT1H
BEGIN:VTIMEZONE
TZID:America/Phoenix
BEGIN:STANDARD
TZOFFSETFROM:-0700
TZOFFSETTO:-0700
TZNAME:MST
DTSTART:20240101T000000
END:STANDARD
END:VTIMEZONE
BEGIN:VEVENT
DTSTART;TZID=America/Phoenix:20250820T120000
DTEND;TZID=America/Phoenix:20250820T140000
DTSTAMP:20260424T020852
CREATED:20250611T191012Z
LAST-MODIFIED:20250619T184051Z
UID:10004468-1755691200-1755698400@fpcwhitefish.org
SUMMARY:Free Lunch For Youth!
DESCRIPTION:We are providing a welcoming\, Christ-centered space where children and teens (ages 18 and under) can receive a free\, nourishing meal and enjoy fellowship\, fun\, and support in a safe\, encouraging environment. Join us every Wednesday from 12-2 starting June 18th!
URL:https://fpcwhitefish.org/event/free-lunch-for-youth/2025-08-20/
LOCATION:Fellowsip Hall – First Presbyterian Church\, 301 Central Ave\, Whitefish\, MT\, 59937\, United States
CATEGORIES:Family
ATTACH;FMTTYPE=image/jpeg:https://fpcwhitefish.org/wp-content/uploads/2025/06/Doc-Jun-6-2025-2-20-PM-scaled.jpg
ORGANIZER;CN="Nichole Grant":MAILTO:info@fpcwhitefish.org
END:VEVENT
BEGIN:VEVENT
DTSTART;TZID=America/Phoenix:20250813T120000
DTEND;TZID=America/Phoenix:20250813T140000
DTSTAMP:20260424T020852
CREATED:20250611T191012Z
LAST-MODIFIED:20250619T184051Z
UID:10004467-1755086400-1755093600@fpcwhitefish.org
SUMMARY:Free Lunch For Youth!
DESCRIPTION:We are providing a welcoming\, Christ-centered space where children and teens (ages 18 and under) can receive a free\, nourishing meal and enjoy fellowship\, fun\, and support in a safe\, encouraging environment. Join us every Wednesday from 12-2 starting June 18th!
URL:https://fpcwhitefish.org/event/free-lunch-for-youth/2025-08-13/
LOCATION:Fellowsip Hall – First Presbyterian Church\, 301 Central Ave\, Whitefish\, MT\, 59937\, United States
CATEGORIES:Family
ATTACH;FMTTYPE=image/jpeg:https://fpcwhitefish.org/wp-content/uploads/2025/06/Doc-Jun-6-2025-2-20-PM-scaled.jpg
ORGANIZER;CN="Nichole Grant":MAILTO:info@fpcwhitefish.org
END:VEVENT
BEGIN:VEVENT
DTSTART;TZID=America/Phoenix:20250806T120000
DTEND;TZID=America/Phoenix:20250806T140000
DTSTAMP:20260424T020852
CREATED:20250611T191012Z
LAST-MODIFIED:20250619T184051Z
UID:10004466-1754481600-1754488800@fpcwhitefish.org
SUMMARY:Free Lunch For Youth!
DESCRIPTION:We are providing a welcoming\, Christ-centered space where children and teens (ages 18 and under) can receive a free\, nourishing meal and enjoy fellowship\, fun\, and support in a safe\, encouraging environment. Join us every Wednesday from 12-2 starting June 18th!
URL:https://fpcwhitefish.org/event/free-lunch-for-youth/2025-08-06/
LOCATION:Fellowsip Hall – First Presbyterian Church\, 301 Central Ave\, Whitefish\, MT\, 59937\, United States
CATEGORIES:Family
ATTACH;FMTTYPE=image/jpeg:https://fpcwhitefish.org/wp-content/uploads/2025/06/Doc-Jun-6-2025-2-20-PM-scaled.jpg
ORGANIZER;CN="Nichole Grant":MAILTO:info@fpcwhitefish.org
END:VEVENT
BEGIN:VEVENT
DTSTART;TZID=America/Phoenix:20250730T120000
DTEND;TZID=America/Phoenix:20250730T140000
DTSTAMP:20260424T020852
CREATED:20250611T191012Z
LAST-MODIFIED:20250619T184051Z
UID:10004465-1753876800-1753884000@fpcwhitefish.org
SUMMARY:Free Lunch For Youth!
DESCRIPTION:We are providing a welcoming\, Christ-centered space where children and teens (ages 18 and under) can receive a free\, nourishing meal and enjoy fellowship\, fun\, and support in a safe\, encouraging environment. Join us every Wednesday from 12-2 starting June 18th!
URL:https://fpcwhitefish.org/event/free-lunch-for-youth/2025-07-30/
LOCATION:Fellowsip Hall – First Presbyterian Church\, 301 Central Ave\, Whitefish\, MT\, 59937\, United States
CATEGORIES:Family
ATTACH;FMTTYPE=image/jpeg:https://fpcwhitefish.org/wp-content/uploads/2025/06/Doc-Jun-6-2025-2-20-PM-scaled.jpg
ORGANIZER;CN="Nichole Grant":MAILTO:info@fpcwhitefish.org
END:VEVENT
BEGIN:VEVENT
DTSTART;TZID=America/Phoenix:20250723T120000
DTEND;TZID=America/Phoenix:20250723T140000
DTSTAMP:20260424T020852
CREATED:20250611T191012Z
LAST-MODIFIED:20250619T184051Z
UID:10004464-1753272000-1753279200@fpcwhitefish.org
SUMMARY:Free Lunch For Youth!
DESCRIPTION:We are providing a welcoming\, Christ-centered space where children and teens (ages 18 and under) can receive a free\, nourishing meal and enjoy fellowship\, fun\, and support in a safe\, encouraging environment. Join us every Wednesday from 12-2 starting June 18th!
URL:https://fpcwhitefish.org/event/free-lunch-for-youth/2025-07-23/
LOCATION:Fellowsip Hall – First Presbyterian Church\, 301 Central Ave\, Whitefish\, MT\, 59937\, United States
CATEGORIES:Family
ATTACH;FMTTYPE=image/jpeg:https://fpcwhitefish.org/wp-content/uploads/2025/06/Doc-Jun-6-2025-2-20-PM-scaled.jpg
ORGANIZER;CN="Nichole Grant":MAILTO:info@fpcwhitefish.org
END:VEVENT
BEGIN:VEVENT
DTSTART;TZID=America/Phoenix:20250716T120000
DTEND;TZID=America/Phoenix:20250716T140000
DTSTAMP:20260424T020852
CREATED:20250611T191012Z
LAST-MODIFIED:20250619T184051Z
UID:10004463-1752667200-1752674400@fpcwhitefish.org
SUMMARY:Free Lunch For Youth!
DESCRIPTION:We are providing a welcoming\, Christ-centered space where children and teens (ages 18 and under) can receive a free\, nourishing meal and enjoy fellowship\, fun\, and support in a safe\, encouraging environment. Join us every Wednesday from 12-2 starting June 18th!
URL:https://fpcwhitefish.org/event/free-lunch-for-youth/2025-07-16/
LOCATION:Fellowsip Hall – First Presbyterian Church\, 301 Central Ave\, Whitefish\, MT\, 59937\, United States
CATEGORIES:Family
ATTACH;FMTTYPE=image/jpeg:https://fpcwhitefish.org/wp-content/uploads/2025/06/Doc-Jun-6-2025-2-20-PM-scaled.jpg
ORGANIZER;CN="Nichole Grant":MAILTO:info@fpcwhitefish.org
END:VEVENT
BEGIN:VEVENT
DTSTART;TZID=America/Phoenix:20250709T120000
DTEND;TZID=America/Phoenix:20250709T140000
DTSTAMP:20260424T020852
CREATED:20250611T191012Z
LAST-MODIFIED:20250619T184051Z
UID:10004462-1752062400-1752069600@fpcwhitefish.org
SUMMARY:Free Lunch For Youth!
DESCRIPTION:We are providing a welcoming\, Christ-centered space where children and teens (ages 18 and under) can receive a free\, nourishing meal and enjoy fellowship\, fun\, and support in a safe\, encouraging environment. Join us every Wednesday from 12-2 starting June 18th!
URL:https://fpcwhitefish.org/event/free-lunch-for-youth/2025-07-09/
LOCATION:Fellowsip Hall – First Presbyterian Church\, 301 Central Ave\, Whitefish\, MT\, 59937\, United States
CATEGORIES:Family
ATTACH;FMTTYPE=image/jpeg:https://fpcwhitefish.org/wp-content/uploads/2025/06/Doc-Jun-6-2025-2-20-PM-scaled.jpg
ORGANIZER;CN="Nichole Grant":MAILTO:info@fpcwhitefish.org
END:VEVENT
BEGIN:VEVENT
DTSTART;TZID=America/Phoenix:20250702T120000
DTEND;TZID=America/Phoenix:20250702T140000
DTSTAMP:20260424T020852
CREATED:20250611T191012Z
LAST-MODIFIED:20250619T184051Z
UID:10004461-1751457600-1751464800@fpcwhitefish.org
SUMMARY:Free Lunch For Youth!
DESCRIPTION:We are providing a welcoming\, Christ-centered space where children and teens (ages 18 and under) can receive a free\, nourishing meal and enjoy fellowship\, fun\, and support in a safe\, encouraging environment. Join us every Wednesday from 12-2 starting June 18th!
URL:https://fpcwhitefish.org/event/free-lunch-for-youth/2025-07-02/
LOCATION:Fellowsip Hall – First Presbyterian Church\, 301 Central Ave\, Whitefish\, MT\, 59937\, United States
CATEGORIES:Family
ATTACH;FMTTYPE=image/jpeg:https://fpcwhitefish.org/wp-content/uploads/2025/06/Doc-Jun-6-2025-2-20-PM-scaled.jpg
ORGANIZER;CN="Nichole Grant":MAILTO:info@fpcwhitefish.org
END:VEVENT
BEGIN:VEVENT
DTSTART;TZID=America/Phoenix:20250625T120000
DTEND;TZID=America/Phoenix:20250625T140000
DTSTAMP:20260424T020852
CREATED:20250611T191012Z
LAST-MODIFIED:20250619T184051Z
UID:10004460-1750852800-1750860000@fpcwhitefish.org
SUMMARY:Free Lunch For Youth!
DESCRIPTION:We are providing a welcoming\, Christ-centered space where children and teens (ages 18 and under) can receive a free\, nourishing meal and enjoy fellowship\, fun\, and support in a safe\, encouraging environment. Join us every Wednesday from 12-2 starting June 18th!
URL:https://fpcwhitefish.org/event/free-lunch-for-youth/2025-06-25/
LOCATION:Fellowsip Hall – First Presbyterian Church\, 301 Central Ave\, Whitefish\, MT\, 59937\, United States
CATEGORIES:Family
ATTACH;FMTTYPE=image/jpeg:https://fpcwhitefish.org/wp-content/uploads/2025/06/Doc-Jun-6-2025-2-20-PM-scaled.jpg
ORGANIZER;CN="Nichole Grant":MAILTO:info@fpcwhitefish.org
END:VEVENT
BEGIN:VEVENT
DTSTART;TZID=America/Phoenix:20250618T120000
DTEND;TZID=America/Phoenix:20250618T140000
DTSTAMP:20260424T020852
CREATED:20250611T191012Z
LAST-MODIFIED:20250619T184051Z
UID:10004459-1750248000-1750255200@fpcwhitefish.org
SUMMARY:Free Lunch For Youth!
DESCRIPTION:We are providing a welcoming\, Christ-centered space where children and teens (ages 18 and under) can receive a free\, nourishing meal and enjoy fellowship\, fun\, and support in a safe\, encouraging environment. Join us every Wednesday from 12-2 starting June 18th!
URL:https://fpcwhitefish.org/event/free-lunch-for-youth/2025-06-18/
LOCATION:Fellowsip Hall – First Presbyterian Church\, 301 Central Ave\, Whitefish\, MT\, 59937\, United States
CATEGORIES:Family
ATTACH;FMTTYPE=image/jpeg:https://fpcwhitefish.org/wp-content/uploads/2025/06/Doc-Jun-6-2025-2-20-PM-scaled.jpg
ORGANIZER;CN="Nichole Grant":MAILTO:info@fpcwhitefish.org
END:VEVENT
END:VCALENDAR