BEGIN:VCALENDAR
VERSION:2.0
PRODID:-//First Presbyterian Church of Whitefish - ECPv6.15.20//NONSGML v1.0//EN
CALSCALE:GREGORIAN
METHOD:PUBLISH
X-ORIGINAL-URL:https://fpcwhitefish.org
X-WR-CALDESC:Events for First Presbyterian Church of Whitefish
REFRESH-INTERVAL;VALUE=DURATION:PT1H
X-Robots-Tag:noindex
X-PUBLISHED-TTL:PT1H
BEGIN:VTIMEZONE
TZID:America/Phoenix
BEGIN:STANDARD
TZOFFSETFROM:-0700
TZOFFSETTO:-0700
TZNAME:MST
DTSTART:20240101T000000
END:STANDARD
END:VTIMEZONE
BEGIN:VEVENT
DTSTART;TZID=America/Phoenix:20260405T083000
DTEND;TZID=America/Phoenix:20260405T213000
DTSTAMP:20260423T194626
CREATED:20250409T172735Z
LAST-MODIFIED:20260312T204614Z
UID:10004393-1775377800-1775424600@fpcwhitefish.org
SUMMARY:Pancake Breakfast before Easter Service
DESCRIPTION:Join us for a pancake breakfast before worship service on Easter Sunday. Doors open at 8:30. Worship service starts are 10.
URL:https://fpcwhitefish.org/event/pancake-breakfast-before-easter-service/
LOCATION:Fellowsip Hall – First Presbyterian Church\, 301 Central Ave\, Whitefish\, MT\, 59937\, United States
CATEGORIES:Family
ATTACH;FMTTYPE=image/jpeg:https://fpcwhitefish.org/wp-content/uploads/2024/02/Lily.jpg
END:VEVENT
BEGIN:VEVENT
DTSTART;TZID=America/Phoenix:20260402T173000
DTEND;TZID=America/Phoenix:20260402T190000
DTSTAMP:20260423T194626
CREATED:20250409T165646Z
LAST-MODIFIED:20260326T164910Z
UID:10004390-1775151000-1775156400@fpcwhitefish.org
SUMMARY:Maundy Thursday Dinner & Service
DESCRIPTION:Join us for Maundy Thursday worship dinner and service. Maundy Thursday\, the Thursday before Easter\, is observed in commemoration of Jesus Christ’s institution of the Eucharist (the moment Jesus instituted the sacrament of His body and blood) during the Last Supper.
URL:https://fpcwhitefish.org/event/maundy-thursday-service/
LOCATION:First Presbyterian Church\, 301 Central Ave\, Whitefish\, MT\, 59937-8457\, United States
CATEGORIES:Family
ATTACH;FMTTYPE=image/png:https://fpcwhitefish.org/wp-content/uploads/2026/03/Maundy-Thursday-Dinner-and-Worship.png
END:VEVENT
BEGIN:VEVENT
DTSTART;TZID=America/Phoenix:20260125T140000
DTEND;TZID=America/Phoenix:20260125T160000
DTSTAMP:20260423T194626
CREATED:20260115T171916Z
LAST-MODIFIED:20260115T171916Z
UID:10006183-1769349600-1769356800@fpcwhitefish.org
SUMMARY:Bowling & Pizza!
DESCRIPTION:
URL:https://fpcwhitefish.org/event/bowling-pizza/
CATEGORIES:Family
ATTACH;FMTTYPE=image/png:https://fpcwhitefish.org/wp-content/uploads/2026/01/25-January-2.png
END:VEVENT
BEGIN:VEVENT
DTSTART;TZID=America/Phoenix:20251010T050000
DTEND;TZID=America/Phoenix:20251010T183000
DTSTAMP:20260423T194626
CREATED:20250924T153948Z
LAST-MODIFIED:20250924T153948Z
UID:10005828-1760072400-1760121000@fpcwhitefish.org
SUMMARY:Chili Dinner & Football
DESCRIPTION:
URL:https://fpcwhitefish.org/event/chili-dinner-football/
LOCATION:First Presbyterian Church\, 301 Central Ave\, Whitefish\, MT\, 59937-8457\, United States
CATEGORIES:Family
ATTACH;FMTTYPE=image/png:https://fpcwhitefish.org/wp-content/uploads/2025/09/chili-and-football-2.png
END:VEVENT
BEGIN:VEVENT
DTSTART;TZID=America/Phoenix:20250824T113000
DTEND;TZID=America/Phoenix:20250824T133000
DTSTAMP:20260423T194626
CREATED:20250820T153206Z
LAST-MODIFIED:20250820T153206Z
UID:10004744-1756035000-1756042200@fpcwhitefish.org
SUMMARY:Annual Picnic
DESCRIPTION:
URL:https://fpcwhitefish.org/event/annual-picnic/
LOCATION:Smith Fields Pavilion\, 1600 Hospital Way\, Whitefish\, MT\, 59937\, United States
ATTACH;FMTTYPE=image/png:https://fpcwhitefish.org/wp-content/uploads/2025/08/End-of-Summer-BBQ-Smith-Field.png.png
END:VEVENT
BEGIN:VEVENT
DTSTART;TZID=America/Phoenix:20250608T103000
DTEND;TZID=America/Phoenix:20250608T120000
DTSTAMP:20260423T194626
CREATED:20250527T171834Z
LAST-MODIFIED:20250527T172019Z
UID:10004456-1749378600-1749384000@fpcwhitefish.org
SUMMARY:Fellowship Brunch
DESCRIPTION:
URL:https://fpcwhitefish.org/event/fellowship-brunch/
LOCATION:Fellowsip Hall – First Presbyterian Church\, 301 Central Ave\, Whitefish\, MT\, 59937\, United States
CATEGORIES:Family
ATTACH;FMTTYPE=image/png:https://fpcwhitefish.org/wp-content/uploads/2025/05/brunch.png
END:VEVENT
END:VCALENDAR