BEGIN:VCALENDAR
VERSION:2.0
PRODID:-//First Presbyterian Church of Whitefish - ECPv6.15.20//NONSGML v1.0//EN
CALSCALE:GREGORIAN
METHOD:PUBLISH
X-ORIGINAL-URL:https://fpcwhitefish.org
X-WR-CALDESC:Events for First Presbyterian Church of Whitefish
REFRESH-INTERVAL;VALUE=DURATION:PT1H
X-Robots-Tag:noindex
X-PUBLISHED-TTL:PT1H
BEGIN:VTIMEZONE
TZID:America/Phoenix
BEGIN:STANDARD
TZOFFSETFROM:-0700
TZOFFSETTO:-0700
TZNAME:MST
DTSTART:20240101T000000
END:STANDARD
END:VTIMEZONE
BEGIN:VEVENT
DTSTART;TZID=America/Phoenix:20250824T113000
DTEND;TZID=America/Phoenix:20250824T133000
DTSTAMP:20260424T002701
CREATED:20250820T153206Z
LAST-MODIFIED:20250820T153206Z
UID:10004744-1756035000-1756042200@fpcwhitefish.org
SUMMARY:Annual Picnic
DESCRIPTION:
URL:https://fpcwhitefish.org/event/annual-picnic/
LOCATION:Smith Fields Pavilion\, 1600 Hospital Way\, Whitefish\, MT\, 59937\, United States
ATTACH;FMTTYPE=image/png:https://fpcwhitefish.org/wp-content/uploads/2025/08/End-of-Summer-BBQ-Smith-Field.png.png
END:VEVENT
END:VCALENDAR